Back to Multiple platform build/check report for BioC 3.13 experimental data
ABCDEFGHIJKLMNOPQRSTUVWX[Y]Z

BUILD report for yeastRNASeq on riesling1

This page was generated on 2021-01-18 15:58:52 -0500 (Mon, 18 Jan 2021).

TO THE DEVELOPERS/MAINTAINERS OF THE yeastRNASeq PACKAGE: Please make sure to use the following settings in order to reproduce any error or warning you see on this page.
Package 383/385HostnameOS / ArchINSTALLBUILDCHECK
yeastRNASeq 0.29.0
J. Bullard
Snapshot Date: 2021-01-18 09:00:15 -0500 (Mon, 18 Jan 2021)
URL: https://git.bioconductor.org/packages/yeastRNASeq
Branch: master
Last Commit: cc19a70
Last Changed Date: 2020-10-27 09:51:20 -0500 (Tue, 27 Oct 2020)
malbec2 Linux (Ubuntu 20.04.1 LTS) / x86_64  OK  OK  WARNINGS UNNEEDED, same version exists in internal repository
riesling1 Windows Server 2019 Standard / x64  OK [ OK ] WARNINGS 

Summary

Package: yeastRNASeq
Version: 0.29.0
Command: chmod a+r yeastRNASeq -R && D:\biocbuild\bbs-3.13-bioc\R\bin\R.exe CMD build --keep-empty-dirs --no-resave-data yeastRNASeq
StartedAt: 2021-01-18 11:03:02 -0500 (Mon, 18 Jan 2021)
EndedAt: 2021-01-18 11:04:00 -0500 (Mon, 18 Jan 2021)
EllapsedTime: 57.4 seconds
RetCode: 0
Status:  OK  
PackageFile: yeastRNASeq_0.29.0.tar.gz
PackageFileSize: 306.9 MiB

Command output

##############################################################################
##############################################################################
###
### Running command:
###
###   chmod a+r yeastRNASeq -R && D:\biocbuild\bbs-3.13-bioc\R\bin\R.exe CMD build --keep-empty-dirs --no-resave-data yeastRNASeq
###
##############################################################################
##############################################################################


* checking for file 'yeastRNASeq/DESCRIPTION' ... OK
* preparing 'yeastRNASeq':
* checking DESCRIPTION meta-information ... OK
* installing the package to build vignettes
* creating vignettes ... OK
* checking for LF line-endings in source and make files and shell scripts
* checking for empty or unneeded directories
* looking to see if a 'data/datalist' file should be added
* building 'yeastRNASeq_0.29.0.tar.gz'