Back to Multiple platform build/check report for BioC 3.13 experimental data
ABCDEFGHIJKLMNOPQRSTUVWX[Y]Z

INSTALL report for yeastNagalakshmi on riesling1

This page was generated on 2021-03-01 15:56:11 -0500 (Mon, 01 Mar 2021).

To the developers/maintainers of the yeastNagalakshmi package:
Please make sure to use the following settings in order to reproduce any error or warning you see on this page.
Package 388/391HostnameOS / ArchINSTALLBUILDCHECK
yeastNagalakshmi 1.27.0
Bioconductor Package Maintainer
Snapshot Date: 2021-03-01 09:00:05 -0500 (Mon, 01 Mar 2021)
URL: https://git.bioconductor.org/packages/yeastNagalakshmi
Branch: master
Last Commit: e549493
Last Changed Date: 2020-10-27 09:53:36 -0500 (Tue, 27 Oct 2020)
rex3Linux (Ubuntu 20.04.2 LTS) / x86_64  OK    OK    OK  UNNEEDED, same version exists in internal repository
riesling1Windows Server 2019 Standard / x64  OK    OK    OK  

Summary

Package: yeastNagalakshmi
Version: 1.27.0
Command: C:\cygwin\bin\curl.exe -O http://155.52.173.35/BBS/3.13/data-experiment/src/contrib/yeastNagalakshmi_1.27.0.tar.gz && rm -rf yeastNagalakshmi.buildbin-libdir && mkdir yeastNagalakshmi.buildbin-libdir && D:\biocbuild\bbs-3.13-bioc\R\bin\R.exe CMD INSTALL --merge-multiarch --build --library=yeastNagalakshmi.buildbin-libdir yeastNagalakshmi_1.27.0.tar.gz && D:\biocbuild\bbs-3.13-bioc\R\bin\R.exe CMD INSTALL yeastNagalakshmi_1.27.0.zip && rm yeastNagalakshmi_1.27.0.tar.gz yeastNagalakshmi_1.27.0.zip
StartedAt: 2021-03-01 09:57:48 -0500 (Mon, 01 Mar 2021)
EndedAt: 2021-03-01 09:57:56 -0500 (Mon, 01 Mar 2021)
EllapsedTime: 7.8 seconds
RetCode: 0
Status:   OK   

Command output

##############################################################################
##############################################################################
###
### Running command:
###
###   C:\cygwin\bin\curl.exe -O http://155.52.173.35/BBS/3.13/data-experiment/src/contrib/yeastNagalakshmi_1.27.0.tar.gz && rm -rf yeastNagalakshmi.buildbin-libdir && mkdir yeastNagalakshmi.buildbin-libdir && D:\biocbuild\bbs-3.13-bioc\R\bin\R.exe CMD INSTALL --merge-multiarch --build --library=yeastNagalakshmi.buildbin-libdir yeastNagalakshmi_1.27.0.tar.gz && D:\biocbuild\bbs-3.13-bioc\R\bin\R.exe CMD INSTALL yeastNagalakshmi_1.27.0.zip && rm yeastNagalakshmi_1.27.0.tar.gz yeastNagalakshmi_1.27.0.zip
###
##############################################################################
##############################################################################


  % Total    % Received % Xferd  Average Speed   Time    Time     Time  Current
                                 Dload  Upload   Total   Spent    Left  Speed

  0     0    0     0    0     0      0      0 --:--:-- --:--:-- --:--:--     0
 49 14.3M   49 7249k    0     0  7473k      0  0:00:01 --:--:--  0:00:01 7465k
 92 14.3M   92 13.2M    0     0  6903k      0  0:00:02  0:00:01  0:00:01 6900k
100 14.3M  100 14.3M    0     0  6906k      0  0:00:02  0:00:02 --:--:-- 6906k

install for i386

* installing *source* package 'yeastNagalakshmi' ...
** using staged installation
** inst
** help
*** installing help indices
  converting help for package 'yeastNagalakshmi'
    finding HTML links ... done
    yeastNagalakshmi-package                html  
REDIRECT:topic	 yeastNagalakshmi-package -> yeastNagalakshmi-package.html [ SUCCESS ]
REDIRECT:topic	 yeastNagalakshmi -> yeastNagalakshmi-package.html [ SUCCESS ]
** building package indices
** testing if installed package can be loaded from temporary location
** testing if installed package can be loaded from final location
** testing if installed package keeps a record of temporary installation path

install for x64

* installing *source* package 'yeastNagalakshmi' ...
** testing if installed package can be loaded
* MD5 sums
packaged installation of 'yeastNagalakshmi' as yeastNagalakshmi_1.27.0.zip
* DONE (yeastNagalakshmi)
* installing to library 'D:/biocbuild/bbs-3.13-bioc/R/library'
package 'yeastNagalakshmi' successfully unpacked and MD5 sums checked