Back to Multiple platform build/check report for BioC 3.13 experimental data |
|
This page was generated on 2021-03-01 15:56:11 -0500 (Mon, 01 Mar 2021).
To the developers/maintainers of the yeastNagalakshmi package: Please make sure to use the following settings in order to reproduce any error or warning you see on this page. |
Package 388/391 | Hostname | OS / Arch | INSTALL | BUILD | CHECK | ||||||||
yeastNagalakshmi 1.27.0 Bioconductor Package Maintainer
| rex3 | Linux (Ubuntu 20.04.2 LTS) / x86_64 | OK | OK | OK | ![]() | |||||||
riesling1 | Windows Server 2019 Standard / x64 | OK | OK | OK | |||||||||
Package: yeastNagalakshmi |
Version: 1.27.0 |
Command: chmod a+r yeastNagalakshmi -R && D:\biocbuild\bbs-3.13-bioc\R\bin\R.exe CMD build --keep-empty-dirs --no-resave-data yeastNagalakshmi |
StartedAt: 2021-03-01 11:15:02 -0500 (Mon, 01 Mar 2021) |
EndedAt: 2021-03-01 11:15:05 -0500 (Mon, 01 Mar 2021) |
EllapsedTime: 2.9 seconds |
RetCode: 0 |
Status: OK |
PackageFile: yeastNagalakshmi_1.27.0.tar.gz |
PackageFileSize: 14.33 MiB |
############################################################################## ############################################################################## ### ### Running command: ### ### chmod a+r yeastNagalakshmi -R && D:\biocbuild\bbs-3.13-bioc\R\bin\R.exe CMD build --keep-empty-dirs --no-resave-data yeastNagalakshmi ### ############################################################################## ############################################################################## * checking for file 'yeastNagalakshmi/DESCRIPTION' ... OK * preparing 'yeastNagalakshmi': * checking DESCRIPTION meta-information ... OK * checking for LF line-endings in source and make files and shell scripts * checking for empty or unneeded directories * building 'yeastNagalakshmi_1.27.0.tar.gz'