Back to Multiple platform build/check report for BioC 3.13 experimental data
ABCDEFGHIJKLMNOPQRSTUVWX[Y]Z

INSTALL report for yeastGSData on riesling1

This page was generated on 2021-01-14 15:59:12 -0500 (Thu, 14 Jan 2021).

TO THE DEVELOPERS/MAINTAINERS OF THE yeastGSData PACKAGE: Please make sure to use the following settings in order to reproduce any error or warning you see on this page.
Package 381/385HostnameOS / ArchINSTALLBUILDCHECK
yeastGSData 0.29.0
R. Gentleman
Snapshot Date: 2021-01-14 09:00:13 -0500 (Thu, 14 Jan 2021)
URL: https://git.bioconductor.org/packages/yeastGSData
Branch: master
Last Commit: 73a4849
Last Changed Date: 2020-10-27 09:48:41 -0500 (Tue, 27 Oct 2020)
malbec2 Linux (Ubuntu 20.04.1 LTS) / x86_64  OK  OK  WARNINGS UNNEEDED, same version exists in internal repository
riesling1 Windows Server 2019 Standard / x64 [ OK ] OK  WARNINGS 

Summary

Package: yeastGSData
Version: 0.29.0
Command: C:\cygwin\bin\curl.exe -O http://172.29.0.4/BBS/3.13/data-experiment/src/contrib/yeastGSData_0.29.0.tar.gz && rm -rf yeastGSData.buildbin-libdir && mkdir yeastGSData.buildbin-libdir && D:\biocbuild\bbs-3.13-bioc\R\bin\R.exe CMD INSTALL --merge-multiarch --build --library=yeastGSData.buildbin-libdir yeastGSData_0.29.0.tar.gz && D:\biocbuild\bbs-3.13-bioc\R\bin\R.exe CMD INSTALL yeastGSData_0.29.0.zip && rm yeastGSData_0.29.0.tar.gz yeastGSData_0.29.0.zip
StartedAt: 2021-01-14 10:01:19 -0500 (Thu, 14 Jan 2021)
EndedAt: 2021-01-14 10:02:04 -0500 (Thu, 14 Jan 2021)
EllapsedTime: 45.0 seconds
RetCode: 0
Status:  OK  

Command output

##############################################################################
##############################################################################
###
### Running command:
###
###   C:\cygwin\bin\curl.exe -O http://172.29.0.4/BBS/3.13/data-experiment/src/contrib/yeastGSData_0.29.0.tar.gz && rm -rf yeastGSData.buildbin-libdir && mkdir yeastGSData.buildbin-libdir && D:\biocbuild\bbs-3.13-bioc\R\bin\R.exe CMD INSTALL --merge-multiarch --build --library=yeastGSData.buildbin-libdir yeastGSData_0.29.0.tar.gz && D:\biocbuild\bbs-3.13-bioc\R\bin\R.exe CMD INSTALL yeastGSData_0.29.0.zip && rm yeastGSData_0.29.0.tar.gz yeastGSData_0.29.0.zip
###
##############################################################################
##############################################################################


  % Total    % Received % Xferd  Average Speed   Time    Time     Time  Current
                                 Dload  Upload   Total   Spent    Left  Speed

  0     0    0     0    0     0      0      0 --:--:-- --:--:-- --:--:--     0
100 8207k  100 8207k    0     0  12.5M      0 --:--:-- --:--:-- --:--:-- 12.5M

install for i386

* installing *source* package 'yeastGSData' ...
** using staged installation
** data
** inst
** help
*** installing help indices
  converting help for package 'yeastGSData'
    finding HTML links ... done
    BayesFactorNGS                          html  
REDIRECT:topic	 BayesFactorNGS -> BayesFactorNGS.html [ SUCCESS ]
    BayesFactorPGS                          html  
REDIRECT:topic	 BayesFactorPGS -> BayesFactorPGS.html [ SUCCESS ]
    BinaryGS                                html  
REDIRECT:topic	 BinaryGS -> BinaryGS.html [ SUCCESS ]
    MIPSGS                                  html  
REDIRECT:topic	 MIPSGS -> MIPSGS.html [ SUCCESS ]
    Mpact                                   html  
REDIRECT:topic	 Mpact -> Mpact.html [ SUCCESS ]
    MpactEvidenceCodes                      html  
REDIRECT:topic	 MpactEvidenceCodes -> MpactEvidenceCodes.html [ SUCCESS ]
    NEGGS                                   html  
REDIRECT:topic	 NEGGS -> NEGGS.html [ SUCCESS ]
    POSPS                                   html  
REDIRECT:topic	 POSPS -> POSPS.html [ SUCCESS ]
    PRS                                     html  
REDIRECT:topic	 PRS -> PRS.html [ SUCCESS ]
** building package indices
** testing if installed package can be loaded from temporary location
** testing if installed package can be loaded from final location
** testing if installed package keeps a record of temporary installation path

install for x64

* installing *source* package 'yeastGSData' ...
** testing if installed package can be loaded
* MD5 sums
packaged installation of 'yeastGSData' as yeastGSData_0.29.0.zip
* DONE (yeastGSData)
* installing to library 'D:/biocbuild/bbs-3.13-bioc/R/library'
package 'yeastGSData' successfully unpacked and MD5 sums checked