Back to Multiple platform build/check report for BioC 3.13 experimental data
ABCDEFGHIJKLMNOPQRSTUVWX[Y]Z

INSTALL report for yeastExpData on riesling1

This page was generated on 2021-01-14 15:59:12 -0500 (Thu, 14 Jan 2021).

TO THE DEVELOPERS/MAINTAINERS OF THE yeastExpData PACKAGE: Please make sure to use the following settings in order to reproduce any error or warning you see on this page.
Package 380/385HostnameOS / ArchINSTALLBUILDCHECK
yeastExpData 0.37.0
R. Gentleman
Snapshot Date: 2021-01-14 09:00:13 -0500 (Thu, 14 Jan 2021)
URL: https://git.bioconductor.org/packages/yeastExpData
Branch: master
Last Commit: f9103f1
Last Changed Date: 2020-10-27 09:47:15 -0500 (Tue, 27 Oct 2020)
malbec2 Linux (Ubuntu 20.04.1 LTS) / x86_64  OK  OK  WARNINGS UNNEEDED, same version exists in internal repository
riesling1 Windows Server 2019 Standard / x64 [ OK ] OK  WARNINGS 

Summary

Package: yeastExpData
Version: 0.37.0
Command: C:\cygwin\bin\curl.exe -O http://172.29.0.4/BBS/3.13/data-experiment/src/contrib/yeastExpData_0.37.0.tar.gz && rm -rf yeastExpData.buildbin-libdir && mkdir yeastExpData.buildbin-libdir && D:\biocbuild\bbs-3.13-bioc\R\bin\R.exe CMD INSTALL --merge-multiarch --build --library=yeastExpData.buildbin-libdir yeastExpData_0.37.0.tar.gz && D:\biocbuild\bbs-3.13-bioc\R\bin\R.exe CMD INSTALL yeastExpData_0.37.0.zip && rm yeastExpData_0.37.0.tar.gz yeastExpData_0.37.0.zip
StartedAt: 2021-01-14 10:02:51 -0500 (Thu, 14 Jan 2021)
EndedAt: 2021-01-14 10:02:57 -0500 (Thu, 14 Jan 2021)
EllapsedTime: 5.6 seconds
RetCode: 0
Status:  OK  

Command output

##############################################################################
##############################################################################
###
### Running command:
###
###   C:\cygwin\bin\curl.exe -O http://172.29.0.4/BBS/3.13/data-experiment/src/contrib/yeastExpData_0.37.0.tar.gz && rm -rf yeastExpData.buildbin-libdir && mkdir yeastExpData.buildbin-libdir && D:\biocbuild\bbs-3.13-bioc\R\bin\R.exe CMD INSTALL --merge-multiarch --build --library=yeastExpData.buildbin-libdir yeastExpData_0.37.0.tar.gz && D:\biocbuild\bbs-3.13-bioc\R\bin\R.exe CMD INSTALL yeastExpData_0.37.0.zip && rm yeastExpData_0.37.0.tar.gz yeastExpData_0.37.0.zip
###
##############################################################################
##############################################################################


  % Total    % Received % Xferd  Average Speed   Time    Time     Time  Current
                                 Dload  Upload   Total   Spent    Left  Speed

  0     0    0     0    0     0      0      0 --:--:-- --:--:-- --:--:--     0
100  833k  100  833k    0     0  38.7M      0 --:--:-- --:--:-- --:--:-- 38.7M

install for i386

* installing *source* package 'yeastExpData' ...
** using staged installation
** data
** inst
** help
*** installing help indices
  converting help for package 'yeastExpData'
    finding HTML links ... done
    ccyclered                               html  
REDIRECT:topic	 ccyclered -> ccyclered.html [ SUCCESS ]
    fcabundance                             html  
REDIRECT:topic	 fcabundance -> fcabundance.html [ SUCCESS ]
    gfp                                     html  
REDIRECT:topic	 gfp -> gfp.html [ SUCCESS ]
    litG                                    html  
REDIRECT:topic	 litG -> litG.html [ SUCCESS ]
REDIRECT:topic	 y2hG -> litG.html [ SUCCESS ]
    nPdist                                  html  
REDIRECT:topic	 nPdist -> nPdist.html [ SUCCESS ]
    proteinProperties                       html  
REDIRECT:topic	 proteinProperties -> proteinProperties.html [ SUCCESS ]
** building package indices
** installing vignettes
** testing if installed package can be loaded from temporary location
** testing if installed package can be loaded from final location
** testing if installed package keeps a record of temporary installation path

install for x64

* installing *source* package 'yeastExpData' ...
** testing if installed package can be loaded
* MD5 sums
packaged installation of 'yeastExpData' as yeastExpData_0.37.0.zip
* DONE (yeastExpData)
* installing to library 'D:/biocbuild/bbs-3.13-bioc/R/library'
package 'yeastExpData' successfully unpacked and MD5 sums checked