Back to Multiple platform build/check report for BioC 3.13 experimental data |
|
This page was generated on 2021-01-21 16:01:40 -0500 (Thu, 21 Jan 2021).
TO THE DEVELOPERS/MAINTAINERS OF THE yeastCC PACKAGE: Please make sure to use the following settings in order to reproduce any error or warning you see on this page. |
Package 380/386 | Hostname | OS / Arch | INSTALL | BUILD | CHECK | ||||||
yeastCC 1.31.0 Sandrine Dudoit
| malbec2 | Linux (Ubuntu 20.04.1 LTS) / x86_64 | OK | OK | WARNINGS | ![]() | |||||
riesling1 | Windows Server 2019 Standard / x64 | OK | [ OK ] | WARNINGS |
Package: yeastCC |
Version: 1.31.0 |
Command: chmod a+r yeastCC -R && D:\biocbuild\bbs-3.13-bioc\R\bin\R.exe CMD build --keep-empty-dirs --no-resave-data yeastCC |
StartedAt: 2021-01-21 11:03:12 -0500 (Thu, 21 Jan 2021) |
EndedAt: 2021-01-21 11:03:15 -0500 (Thu, 21 Jan 2021) |
EllapsedTime: 2.6 seconds |
RetCode: 0 |
Status: OK |
PackageFile: yeastCC_1.31.0.tar.gz |
PackageFileSize: 5.842 MiB |
############################################################################## ############################################################################## ### ### Running command: ### ### chmod a+r yeastCC -R && D:\biocbuild\bbs-3.13-bioc\R\bin\R.exe CMD build --keep-empty-dirs --no-resave-data yeastCC ### ############################################################################## ############################################################################## * checking for file 'yeastCC/DESCRIPTION' ... OK * preparing 'yeastCC': * checking DESCRIPTION meta-information ... OK * checking whether 'INDEX' is up-to-date ... NO * use '--force' to remove the existing 'INDEX' * checking for LF line-endings in source and make files and shell scripts * checking for empty or unneeded directories * building 'yeastCC_1.31.0.tar.gz'