Back to Multiple platform build/check report for BioC 3.13 experimental data |
|
This page was generated on 2021-01-14 15:59:12 -0500 (Thu, 14 Jan 2021).
TO THE DEVELOPERS/MAINTAINERS OF THE vulcandata PACKAGE: Please make sure to use the following settings in order to reproduce any error or warning you see on this page. |
Package 375/385 | Hostname | OS / Arch | INSTALL | BUILD | CHECK | ||||||
vulcandata 1.13.0 Federico M. Giorgi
| malbec2 | Linux (Ubuntu 20.04.1 LTS) / x86_64 | OK | OK | OK | ![]() | |||||
riesling1 | Windows Server 2019 Standard / x64 | [ OK ] | OK | OK |
Package: vulcandata |
Version: 1.13.0 |
Command: C:\cygwin\bin\curl.exe -O http://172.29.0.4/BBS/3.13/data-experiment/src/contrib/vulcandata_1.13.0.tar.gz && rm -rf vulcandata.buildbin-libdir && mkdir vulcandata.buildbin-libdir && D:\biocbuild\bbs-3.13-bioc\R\bin\R.exe CMD INSTALL --merge-multiarch --build --library=vulcandata.buildbin-libdir vulcandata_1.13.0.tar.gz && D:\biocbuild\bbs-3.13-bioc\R\bin\R.exe CMD INSTALL vulcandata_1.13.0.zip && rm vulcandata_1.13.0.tar.gz vulcandata_1.13.0.zip |
StartedAt: 2021-01-14 10:00:50 -0500 (Thu, 14 Jan 2021) |
EndedAt: 2021-01-14 10:01:10 -0500 (Thu, 14 Jan 2021) |
EllapsedTime: 20.0 seconds |
RetCode: 0 |
Status: OK |
############################################################################## ############################################################################## ### ### Running command: ### ### C:\cygwin\bin\curl.exe -O http://172.29.0.4/BBS/3.13/data-experiment/src/contrib/vulcandata_1.13.0.tar.gz && rm -rf vulcandata.buildbin-libdir && mkdir vulcandata.buildbin-libdir && D:\biocbuild\bbs-3.13-bioc\R\bin\R.exe CMD INSTALL --merge-multiarch --build --library=vulcandata.buildbin-libdir vulcandata_1.13.0.tar.gz && D:\biocbuild\bbs-3.13-bioc\R\bin\R.exe CMD INSTALL vulcandata_1.13.0.zip && rm vulcandata_1.13.0.tar.gz vulcandata_1.13.0.zip ### ############################################################################## ############################################################################## % Total % Received % Xferd Average Speed Time Time Time Current Dload Upload Total Spent Left Speed 0 0 0 0 0 0 0 0 --:--:-- --:--:-- --:--:-- 0 0 44.5M 0 1213 0 0 48520 0 0:16:03 --:--:-- 0:16:03 48520 100 44.5M 100 44.5M 0 0 98.1M 0 --:--:-- --:--:-- --:--:-- 97.9M install for i386 * installing *source* package 'vulcandata' ... ** using staged installation ** R ** inst ** byte-compile and prepare package for lazy loading ** help *** installing help indices converting help for package 'vulcandata' finding HTML links ... done vulcanexample html REDIRECT:topic vulcanexample -> vulcanexample.html [ SUCCESS ] vulcansheet html REDIRECT:topic vulcansheet -> vulcansheet.html [ SUCCESS ] ** building package indices ** installing vignettes ** testing if installed package can be loaded from temporary location ** testing if installed package can be loaded from final location ** testing if installed package keeps a record of temporary installation path install for x64 * installing *source* package 'vulcandata' ... ** testing if installed package can be loaded * MD5 sums packaged installation of 'vulcandata' as vulcandata_1.13.0.zip * DONE (vulcandata) * installing to library 'D:/biocbuild/bbs-3.13-bioc/R/library' package 'vulcandata' successfully unpacked and MD5 sums checked