Back to Multiple platform build/check report for BioC 3.13 experimental data
ABCDEFGHIJKLMNOPQRSTU[V]WXYZ

BUILD report for vulcandata on riesling1

This page was generated on 2021-01-21 16:01:40 -0500 (Thu, 21 Jan 2021).

TO THE DEVELOPERS/MAINTAINERS OF THE vulcandata PACKAGE: Please make sure to use the following settings in order to reproduce any error or warning you see on this page.
Package 376/386HostnameOS / ArchINSTALLBUILDCHECK
vulcandata 1.13.0
Federico M. Giorgi
Snapshot Date: 2021-01-21 09:00:14 -0500 (Thu, 21 Jan 2021)
URL: https://git.bioconductor.org/packages/vulcandata
Branch: master
Last Commit: a487b20
Last Changed Date: 2020-10-27 10:23:27 -0500 (Tue, 27 Oct 2020)
malbec2 Linux (Ubuntu 20.04.1 LTS) / x86_64  OK  OK  OK UNNEEDED, same version exists in internal repository
riesling1 Windows Server 2019 Standard / x64  OK [ OK ] OK 

Summary

Package: vulcandata
Version: 1.13.0
Command: chmod a+r vulcandata -R && D:\biocbuild\bbs-3.13-bioc\R\bin\R.exe CMD build --keep-empty-dirs --no-resave-data vulcandata
StartedAt: 2021-01-21 11:02:45 -0500 (Thu, 21 Jan 2021)
EndedAt: 2021-01-21 11:03:04 -0500 (Thu, 21 Jan 2021)
EllapsedTime: 18.4 seconds
RetCode: 0
Status:  OK  
PackageFile: vulcandata_1.13.0.tar.gz
PackageFileSize: 44.7 MiB

Command output

##############################################################################
##############################################################################
###
### Running command:
###
###   chmod a+r vulcandata -R && D:\biocbuild\bbs-3.13-bioc\R\bin\R.exe CMD build --keep-empty-dirs --no-resave-data vulcandata
###
##############################################################################
##############################################################################


* checking for file 'vulcandata/DESCRIPTION' ... OK
* preparing 'vulcandata':
* checking DESCRIPTION meta-information ... OK
* installing the package to build vignettes
* creating vignettes ... OK
* checking for LF line-endings in source and make files and shell scripts
* checking for empty or unneeded directories
* building 'vulcandata_1.13.0.tar.gz'