Back to Multiple platform build/check report for BioC 3.13 experimental data
ABCDEFGHIJKLMNOPQRS[T]UVWXYZ

INSTALL report for tximportData on riesling1

This page was generated on 2021-01-14 15:59:12 -0500 (Thu, 14 Jan 2021).

TO THE DEVELOPERS/MAINTAINERS OF THE tximportData PACKAGE: Please make sure to use the following settings in order to reproduce any error or warning you see on this page.
Package 373/385HostnameOS / ArchINSTALLBUILDCHECK
tximportData 1.19.0
Michael Love
Snapshot Date: 2021-01-14 09:00:13 -0500 (Thu, 14 Jan 2021)
URL: https://git.bioconductor.org/packages/tximportData
Branch: master
Last Commit: 17aff3c
Last Changed Date: 2020-10-27 10:17:11 -0500 (Tue, 27 Oct 2020)
malbec2 Linux (Ubuntu 20.04.1 LTS) / x86_64  OK  OK  OK UNNEEDED, same version exists in internal repository
riesling1 Windows Server 2019 Standard / x64 [ OK ] OK  OK 

Summary

Package: tximportData
Version: 1.19.0
Command: C:\cygwin\bin\curl.exe -O http://172.29.0.4/BBS/3.13/data-experiment/src/contrib/tximportData_1.19.0.tar.gz && rm -rf tximportData.buildbin-libdir && mkdir tximportData.buildbin-libdir && D:\biocbuild\bbs-3.13-bioc\R\bin\R.exe CMD INSTALL --merge-multiarch --build --library=tximportData.buildbin-libdir tximportData_1.19.0.tar.gz && D:\biocbuild\bbs-3.13-bioc\R\bin\R.exe CMD INSTALL tximportData_1.19.0.zip && rm tximportData_1.19.0.tar.gz tximportData_1.19.0.zip
StartedAt: 2021-01-14 09:48:29 -0500 (Thu, 14 Jan 2021)
EndedAt: 2021-01-14 09:50:29 -0500 (Thu, 14 Jan 2021)
EllapsedTime: 120.3 seconds
RetCode: 0
Status:  OK  

Command output

##############################################################################
##############################################################################
###
### Running command:
###
###   C:\cygwin\bin\curl.exe -O http://172.29.0.4/BBS/3.13/data-experiment/src/contrib/tximportData_1.19.0.tar.gz && rm -rf tximportData.buildbin-libdir && mkdir tximportData.buildbin-libdir && D:\biocbuild\bbs-3.13-bioc\R\bin\R.exe CMD INSTALL --merge-multiarch --build --library=tximportData.buildbin-libdir tximportData_1.19.0.tar.gz && D:\biocbuild\bbs-3.13-bioc\R\bin\R.exe CMD INSTALL tximportData_1.19.0.zip && rm tximportData_1.19.0.tar.gz tximportData_1.19.0.zip
###
##############################################################################
##############################################################################


  % Total    % Received % Xferd  Average Speed   Time    Time     Time  Current
                                 Dload  Upload   Total   Spent    Left  Speed

  0     0    0     0    0     0      0      0 --:--:-- --:--:-- --:--:--     0
  0  407M    0 2181k    0     0  2212k      0  0:03:08 --:--:--  0:03:08 2209k
 11  407M   11 45.9M    0     0  23.4M      0  0:00:17  0:00:01  0:00:16 23.4M
 24  407M   24  101M    0     0  34.1M      0  0:00:11  0:00:02  0:00:09 34.1M
 41  407M   41  168M    0     0  42.4M      0  0:00:09  0:00:03  0:00:06 42.4M
 52  407M   52  215M    0     0  43.5M      0  0:00:09  0:00:04  0:00:05 43.5M
 62  407M   62  255M    0     0  42.8M      0  0:00:09  0:00:05  0:00:04 50.9M
 75  407M   75  308M    0     0  44.3M      0  0:00:09  0:00:06  0:00:03 52.4M
 93  407M   93  381M    0     0  47.9M      0  0:00:08  0:00:07  0:00:01 56.0M
100  407M  100  407M    0     0  48.8M      0  0:00:08  0:00:08 --:--:-- 54.6M

install for i386

* installing *source* package 'tximportData' ...
** using staged installation
** inst
** help
No man pages found in package  'tximportData' 
*** installing help indices
** building package indices
** installing vignettes
** testing if installed package can be loaded from temporary location
** testing if installed package can be loaded from final location
** testing if installed package keeps a record of temporary installation path

install for x64

* installing *source* package 'tximportData' ...
** testing if installed package can be loaded
* MD5 sums
packaged installation of 'tximportData' as tximportData_1.19.0.zip
* DONE (tximportData)
* installing to library 'D:/biocbuild/bbs-3.13-bioc/R/library'
package 'tximportData' successfully unpacked and MD5 sums checked