Back to Multiple platform build/check report for BioC 3.13 experimental data
ABCDEFGHIJKLMNOPQRS[T]UVWXYZ

BUILD report for tximportData on riesling1

This page was generated on 2021-01-14 15:59:12 -0500 (Thu, 14 Jan 2021).

TO THE DEVELOPERS/MAINTAINERS OF THE tximportData PACKAGE: Please make sure to use the following settings in order to reproduce any error or warning you see on this page.
Package 373/385HostnameOS / ArchINSTALLBUILDCHECK
tximportData 1.19.0
Michael Love
Snapshot Date: 2021-01-14 09:00:13 -0500 (Thu, 14 Jan 2021)
URL: https://git.bioconductor.org/packages/tximportData
Branch: master
Last Commit: 17aff3c
Last Changed Date: 2020-10-27 10:17:11 -0500 (Tue, 27 Oct 2020)
malbec2 Linux (Ubuntu 20.04.1 LTS) / x86_64  OK  OK  OK UNNEEDED, same version exists in internal repository
riesling1 Windows Server 2019 Standard / x64  OK [ OK ] OK 

Summary

Package: tximportData
Version: 1.19.0
Command: chmod a+r tximportData -R && D:\biocbuild\bbs-3.13-bioc\R\bin\R.exe CMD build --keep-empty-dirs --no-resave-data tximportData
StartedAt: 2021-01-14 10:58:43 -0500 (Thu, 14 Jan 2021)
EndedAt: 2021-01-14 11:00:38 -0500 (Thu, 14 Jan 2021)
EllapsedTime: 115.2 seconds
RetCode: 0
Status:  OK  
PackageFile: tximportData_1.19.0.tar.gz
PackageFileSize: 407 MiB

Command output

##############################################################################
##############################################################################
###
### Running command:
###
###   chmod a+r tximportData -R && D:\biocbuild\bbs-3.13-bioc\R\bin\R.exe CMD build --keep-empty-dirs --no-resave-data tximportData
###
##############################################################################
##############################################################################


* checking for file 'tximportData/DESCRIPTION' ... OK
* preparing 'tximportData':
* checking DESCRIPTION meta-information ... OK
* installing the package to build vignettes
* creating vignettes ... OK
* checking for LF line-endings in source and make files and shell scripts
* checking for empty or unneeded directories
* building 'tximportData_1.19.0.tar.gz'