Back to Multiple platform build/check report for BioC 3.13 experimental data
ABCDEFGHIJKLMNOPQRS[T]UVWXYZ

INSTALL report for tweeDEseqCountData on riesling1

This page was generated on 2021-01-18 15:58:52 -0500 (Mon, 18 Jan 2021).

TO THE DEVELOPERS/MAINTAINERS OF THE tweeDEseqCountData PACKAGE: Please make sure to use the following settings in order to reproduce any error or warning you see on this page.
Package 372/385HostnameOS / ArchINSTALLBUILDCHECK
tweeDEseqCountData 1.29.0
Juan R Gonzalez
Snapshot Date: 2021-01-18 09:00:15 -0500 (Mon, 18 Jan 2021)
URL: https://git.bioconductor.org/packages/tweeDEseqCountData
Branch: master
Last Commit: 09d38cb
Last Changed Date: 2020-10-27 09:54:08 -0500 (Tue, 27 Oct 2020)
malbec2 Linux (Ubuntu 20.04.1 LTS) / x86_64  OK  OK  OK UNNEEDED, same version exists in internal repository
riesling1 Windows Server 2019 Standard / x64 [ OK ] OK  OK 

Summary

Package: tweeDEseqCountData
Version: 1.29.0
Command: C:\cygwin\bin\curl.exe -O http://172.29.0.4/BBS/3.13/data-experiment/src/contrib/tweeDEseqCountData_1.29.0.tar.gz && rm -rf tweeDEseqCountData.buildbin-libdir && mkdir tweeDEseqCountData.buildbin-libdir && D:\biocbuild\bbs-3.13-bioc\R\bin\R.exe CMD INSTALL --merge-multiarch --build --library=tweeDEseqCountData.buildbin-libdir tweeDEseqCountData_1.29.0.tar.gz && D:\biocbuild\bbs-3.13-bioc\R\bin\R.exe CMD INSTALL tweeDEseqCountData_1.29.0.zip && rm tweeDEseqCountData_1.29.0.tar.gz tweeDEseqCountData_1.29.0.zip
StartedAt: 2021-01-18 10:03:41 -0500 (Mon, 18 Jan 2021)
EndedAt: 2021-01-18 10:03:54 -0500 (Mon, 18 Jan 2021)
EllapsedTime: 13.3 seconds
RetCode: 0
Status:  OK  

Command output

##############################################################################
##############################################################################
###
### Running command:
###
###   C:\cygwin\bin\curl.exe -O http://172.29.0.4/BBS/3.13/data-experiment/src/contrib/tweeDEseqCountData_1.29.0.tar.gz && rm -rf tweeDEseqCountData.buildbin-libdir && mkdir tweeDEseqCountData.buildbin-libdir && D:\biocbuild\bbs-3.13-bioc\R\bin\R.exe CMD INSTALL --merge-multiarch --build --library=tweeDEseqCountData.buildbin-libdir tweeDEseqCountData_1.29.0.tar.gz && D:\biocbuild\bbs-3.13-bioc\R\bin\R.exe CMD INSTALL tweeDEseqCountData_1.29.0.zip && rm tweeDEseqCountData_1.29.0.tar.gz tweeDEseqCountData_1.29.0.zip
###
##############################################################################
##############################################################################


  % Total    % Received % Xferd  Average Speed   Time    Time     Time  Current
                                 Dload  Upload   Total   Spent    Left  Speed

  0     0    0     0    0     0      0      0 --:--:-- --:--:-- --:--:--     0
 96 40.6M   96 39.0M    0     0  90.6M      0 --:--:-- --:--:-- --:--:-- 90.4M
100 40.6M  100 40.6M    0     0  91.2M      0 --:--:-- --:--:-- --:--:-- 91.0M

install for i386

* installing *source* package 'tweeDEseqCountData' ...
** using staged installation
** R
** data
** byte-compile and prepare package for lazy loading
** help
*** installing help indices
  converting help for package 'tweeDEseqCountData'
    finding HTML links ... done
    annotEnsembl63                          html  
REDIRECT:topic	 annotEnsembl63 -> annotEnsembl63.html [ SUCCESS ]
    cheung                                  html  
REDIRECT:topic	 cheung -> cheung.html [ SUCCESS ]
REDIRECT:topic	 cheung.eset -> cheung.html [ SUCCESS ]
    commonPickrell1Huang                    html  
REDIRECT:topic	 commonPickrell1Huang -> commonPickrell1Huang.html [ SUCCESS ]
REDIRECT:topic	 huangArrayRMAnoBatchCommonSamples.eset -> commonPickrell1Huang.html [ SUCCESS ]
REDIRECT:topic	 pickrell1countsCommonSamples.eset -> commonPickrell1Huang.html [ SUCCESS ]
REDIRECT:topic	 pickrell1countsCQNcommonSamples.eset -> commonPickrell1Huang.html [ SUCCESS ]
REDIRECT:topic	 cqnNormCommonSamples -> commonPickrell1Huang.html [ SUCCESS ]
REDIRECT:topic	 huangArrayRMAnoBatchCommon.eset -> commonPickrell1Huang.html [ SUCCESS ]
REDIRECT:topic	 pickrell1countsCommon.eset -> commonPickrell1Huang.html [ SUCCESS ]
REDIRECT:topic	 pickrell1countsCQNcommon.eset -> commonPickrell1Huang.html [ SUCCESS ]
REDIRECT:topic	 cqnNormCommon -> commonPickrell1Huang.html [ SUCCESS ]
    genderGenes                             html  
REDIRECT:topic	 genderGenes -> genderGenes.html [ SUCCESS ]
REDIRECT:topic	 msYgenes -> genderGenes.html [ SUCCESS ]
REDIRECT:topic	 XiEgenes -> genderGenes.html [ SUCCESS ]
    hkGenes                                 html  
REDIRECT:topic	 hkGenes -> hkGenes.html [ SUCCESS ]
    montgomery                              html  
REDIRECT:topic	 montgomery -> montgomery.html [ SUCCESS ]
REDIRECT:topic	 montgomery.eset -> montgomery.html [ SUCCESS ]
    pickrell                                html  
REDIRECT:topic	 pickrell -> pickrell.html [ SUCCESS ]
REDIRECT:topic	 pickrellNorm -> pickrell.html [ SUCCESS ]
REDIRECT:topic	 pickrell.eset -> pickrell.html [ SUCCESS ]
REDIRECT:topic	 pickrellNorm.eset -> pickrell.html [ SUCCESS ]
REDIRECT:topic	 pickrell1 -> pickrell.html [ SUCCESS ]
REDIRECT:topic	 pickrell1Norm -> pickrell.html [ SUCCESS ]
REDIRECT:topic	 pickrell1.eset -> pickrell.html [ SUCCESS ]
REDIRECT:topic	 pickrell1Norm.eset -> pickrell.html [ SUCCESS ]
    tweeDEseqCountData-package              html  
REDIRECT:topic	 tweeDEseqCountData-package -> tweeDEseqCountData-package.html [ SUCCESS ]
** building package indices
** testing if installed package can be loaded from temporary location
** testing if installed package can be loaded from final location
** testing if installed package keeps a record of temporary installation path

install for x64

* installing *source* package 'tweeDEseqCountData' ...
** testing if installed package can be loaded
* MD5 sums
packaged installation of 'tweeDEseqCountData' as tweeDEseqCountData_1.29.0.zip
* DONE (tweeDEseqCountData)
* installing to library 'D:/biocbuild/bbs-3.13-bioc/R/library'
package 'tweeDEseqCountData' successfully unpacked and MD5 sums checked