Back to Multiple platform build/check report for BioC 3.13 experimental data
ABCDEFGHIJKLMNOPQRS[T]UVWXYZ

BUILD report for tweeDEseqCountData on riesling1

This page was generated on 2021-01-21 16:01:40 -0500 (Thu, 21 Jan 2021).

TO THE DEVELOPERS/MAINTAINERS OF THE tweeDEseqCountData PACKAGE: Please make sure to use the following settings in order to reproduce any error or warning you see on this page.
Package 373/386HostnameOS / ArchINSTALLBUILDCHECK
tweeDEseqCountData 1.29.0
Juan R Gonzalez
Snapshot Date: 2021-01-21 09:00:14 -0500 (Thu, 21 Jan 2021)
URL: https://git.bioconductor.org/packages/tweeDEseqCountData
Branch: master
Last Commit: 09d38cb
Last Changed Date: 2020-10-27 09:54:08 -0500 (Tue, 27 Oct 2020)
malbec2 Linux (Ubuntu 20.04.1 LTS) / x86_64  OK  OK  OK UNNEEDED, same version exists in internal repository
riesling1 Windows Server 2019 Standard / x64  OK [ OK ] OK 

Summary

Package: tweeDEseqCountData
Version: 1.29.0
Command: chmod a+r tweeDEseqCountData -R && D:\biocbuild\bbs-3.13-bioc\R\bin\R.exe CMD build --keep-empty-dirs --no-resave-data tweeDEseqCountData
StartedAt: 2021-01-21 11:02:34 -0500 (Thu, 21 Jan 2021)
EndedAt: 2021-01-21 11:02:43 -0500 (Thu, 21 Jan 2021)
EllapsedTime: 8.9 seconds
RetCode: 0
Status:  OK  
PackageFile: tweeDEseqCountData_1.29.0.tar.gz
PackageFileSize: 40.62 MiB

Command output

##############################################################################
##############################################################################
###
### Running command:
###
###   chmod a+r tweeDEseqCountData -R && D:\biocbuild\bbs-3.13-bioc\R\bin\R.exe CMD build --keep-empty-dirs --no-resave-data tweeDEseqCountData
###
##############################################################################
##############################################################################


* checking for file 'tweeDEseqCountData/DESCRIPTION' ... OK
* preparing 'tweeDEseqCountData':
* checking DESCRIPTION meta-information ... OK
* checking for LF line-endings in source and make files and shell scripts
* checking for empty or unneeded directories
* looking to see if a 'data/datalist' file should be added
* building 'tweeDEseqCountData_1.29.0.tar.gz'