Back to Multiple platform build/check report for BioC 3.13 experimental data |
|
This page was generated on 2021-01-14 15:59:12 -0500 (Thu, 14 Jan 2021).
TO THE DEVELOPERS/MAINTAINERS OF THE topdownrdata PACKAGE: Please make sure to use the following settings in order to reproduce any error or warning you see on this page. |
Package 371/385 | Hostname | OS / Arch | INSTALL | BUILD | CHECK | ||||||
topdownrdata 1.13.0 Sebastian Gibb
| malbec2 | Linux (Ubuntu 20.04.1 LTS) / x86_64 | OK | OK | OK | ![]() | |||||
riesling1 | Windows Server 2019 Standard / x64 | [ OK ] | OK | OK |
Package: topdownrdata |
Version: 1.13.0 |
Command: C:\cygwin\bin\curl.exe -O http://172.29.0.4/BBS/3.13/data-experiment/src/contrib/topdownrdata_1.13.0.tar.gz && rm -rf topdownrdata.buildbin-libdir && mkdir topdownrdata.buildbin-libdir && D:\biocbuild\bbs-3.13-bioc\R\bin\R.exe CMD INSTALL --merge-multiarch --build --library=topdownrdata.buildbin-libdir topdownrdata_1.13.0.tar.gz && D:\biocbuild\bbs-3.13-bioc\R\bin\R.exe CMD INSTALL topdownrdata_1.13.0.zip && rm topdownrdata_1.13.0.tar.gz topdownrdata_1.13.0.zip |
StartedAt: 2021-01-14 10:14:18 -0500 (Thu, 14 Jan 2021) |
EndedAt: 2021-01-14 10:15:03 -0500 (Thu, 14 Jan 2021) |
EllapsedTime: 45.7 seconds |
RetCode: 0 |
Status: OK |
############################################################################## ############################################################################## ### ### Running command: ### ### C:\cygwin\bin\curl.exe -O http://172.29.0.4/BBS/3.13/data-experiment/src/contrib/topdownrdata_1.13.0.tar.gz && rm -rf topdownrdata.buildbin-libdir && mkdir topdownrdata.buildbin-libdir && D:\biocbuild\bbs-3.13-bioc\R\bin\R.exe CMD INSTALL --merge-multiarch --build --library=topdownrdata.buildbin-libdir topdownrdata_1.13.0.tar.gz && D:\biocbuild\bbs-3.13-bioc\R\bin\R.exe CMD INSTALL topdownrdata_1.13.0.zip && rm topdownrdata_1.13.0.tar.gz topdownrdata_1.13.0.zip ### ############################################################################## ############################################################################## % Total % Received % Xferd Average Speed Time Time Time Current Dload Upload Total Spent Left Speed 0 0 0 0 0 0 0 0 --:--:-- --:--:-- --:--:-- 0 54 100M 54 55.2M 0 0 101M 0 --:--:-- --:--:-- --:--:-- 100M 100 100M 100 100M 0 0 99.7M 0 0:00:01 0:00:01 --:--:-- 99.7M install for i386 * installing *source* package 'topdownrdata' ... ** using staged installation ** R ** inst ** byte-compile and prepare package for lazy loading ** help *** installing help indices converting help for package 'topdownrdata' finding HTML links ... done topDownDataPath html REDIRECT:topic topDownDataPath -> topDownDataPath.html [ SUCCESS ] topdownrdata-package html REDIRECT:topic topdownrdata -> topdownrdata-package.html [ SUCCESS ] REDIRECT:topic topdownrdata-package -> topdownrdata-package.html [ SUCCESS ] finding level-2 HTML links ... done ** building package indices ** testing if installed package can be loaded from temporary location ** testing if installed package can be loaded from final location ** testing if installed package keeps a record of temporary installation path install for x64 * installing *source* package 'topdownrdata' ... ** testing if installed package can be loaded * MD5 sums packaged installation of 'topdownrdata' as topdownrdata_1.13.0.zip * DONE (topdownrdata) * installing to library 'D:/biocbuild/bbs-3.13-bioc/R/library' package 'topdownrdata' successfully unpacked and MD5 sums checked