Name | Last modified | Size | Description | |
---|---|---|---|---|
Parent Directory | - | |||
install-summary.dcf | 17-Oct-2021 04:58 | 269 | ||
buildsrc-summary.dcf | 17-Oct-2021 04:58 | 432 | ||
checksrc-summary.dcf | 17-Oct-2021 04:58 | 444 | ||
install-out.txt | 17-Oct-2021 04:58 | 938 | ||
checksrc-out.txt | 17-Oct-2021 04:58 | 5.8K | ||
buildsrc-out.txt | 17-Oct-2021 04:58 | 6.9K | ||