Back to Multiple platform build/check report for BioC 3.13 experimental data
ABCDEFGHIJKLMNOPQRS[T]UVWXYZ

BUILD report for tofsimsData on riesling1

This page was generated on 2021-01-14 15:59:12 -0500 (Thu, 14 Jan 2021).

TO THE DEVELOPERS/MAINTAINERS OF THE tofsimsData PACKAGE: Please make sure to use the following settings in order to reproduce any error or warning you see on this page.
Package 370/385HostnameOS / ArchINSTALLBUILDCHECK
tofsimsData 1.19.0
Lorenz Gerber
Snapshot Date: 2021-01-14 09:00:13 -0500 (Thu, 14 Jan 2021)
URL: https://git.bioconductor.org/packages/tofsimsData
Branch: master
Last Commit: 9c611e8
Last Changed Date: 2020-10-27 10:16:06 -0500 (Tue, 27 Oct 2020)
malbec2 Linux (Ubuntu 20.04.1 LTS) / x86_64  OK  OK  OK UNNEEDED, same version exists in internal repository
riesling1 Windows Server 2019 Standard / x64  OK [ OK ] OK 

Summary

Package: tofsimsData
Version: 1.19.0
Command: chmod a+r tofsimsData -R && D:\biocbuild\bbs-3.13-bioc\R\bin\R.exe CMD build --keep-empty-dirs --no-resave-data tofsimsData
StartedAt: 2021-01-14 10:58:18 -0500 (Thu, 14 Jan 2021)
EndedAt: 2021-01-14 10:58:27 -0500 (Thu, 14 Jan 2021)
EllapsedTime: 8.5 seconds
RetCode: 0
Status:  OK  
PackageFile: tofsimsData_1.19.0.tar.gz
PackageFileSize: 10.5 MiB

Command output

##############################################################################
##############################################################################
###
### Running command:
###
###   chmod a+r tofsimsData -R && D:\biocbuild\bbs-3.13-bioc\R\bin\R.exe CMD build --keep-empty-dirs --no-resave-data tofsimsData
###
##############################################################################
##############################################################################


* checking for file 'tofsimsData/DESCRIPTION' ... OK
* preparing 'tofsimsData':
* checking DESCRIPTION meta-information ... OK
* checking for LF line-endings in source and make files and shell scripts
* checking for empty or unneeded directories
* looking to see if a 'data/datalist' file should be added
* building 'tofsimsData_1.19.0.tar.gz'