Back to Multiple platform build/check report for BioC 3.13 experimental data |
|
This page was generated on 2021-01-11 15:59:34 -0500 (Mon, 11 Jan 2021).
TO THE DEVELOPERS/MAINTAINERS OF THE tissueTreg PACKAGE: Please make sure to use the following settings in order to reproduce any error or warning you see on this page. |
Package 368/385 | Hostname | OS / Arch | INSTALL | BUILD | CHECK | ||||||
tissueTreg 1.11.0 Charles Imbusch
| malbec2 | Linux (Ubuntu 20.04.1 LTS) / x86_64 | OK | OK | OK | ![]() | |||||
riesling1 | Windows Server 2019 Standard / x64 | OK | OK | [ OK ] |
Package: tissueTreg |
Version: 1.11.0 |
Command: D:\biocbuild\bbs-3.13-bioc\R\bin\R.exe CMD check --force-multiarch --install=check:tissueTreg.install-out.txt --library=D:\biocbuild\bbs-3.13-bioc\R\library --no-vignettes --timings tissueTreg_1.11.0.tar.gz |
StartedAt: 2021-01-11 11:50:36 -0500 (Mon, 11 Jan 2021) |
EndedAt: 2021-01-11 11:51:44 -0500 (Mon, 11 Jan 2021) |
EllapsedTime: 68.5 seconds |
RetCode: 0 |
Status: OK |
CheckDir: tissueTreg.Rcheck |
Warnings: 0 |
############################################################################## ############################################################################## ### ### Running command: ### ### D:\biocbuild\bbs-3.13-bioc\R\bin\R.exe CMD check --force-multiarch --install=check:tissueTreg.install-out.txt --library=D:\biocbuild\bbs-3.13-bioc\R\library --no-vignettes --timings tissueTreg_1.11.0.tar.gz ### ############################################################################## ############################################################################## * using log directory 'D:/biocbuild/bbs-3.13-data-experiment/meat/tissueTreg.Rcheck' * using R Under development (unstable) (2020-12-30 r79736) * using platform: x86_64-w64-mingw32 (64-bit) * using session charset: ISO8859-1 * using option '--no-vignettes' * checking for file 'tissueTreg/DESCRIPTION' ... OK * this is package 'tissueTreg' version '1.11.0' * package encoding: UTF-8 * checking package namespace information ... OK * checking package dependencies ... OK * checking if this is a source package ... OK * checking if there is a namespace ... OK * checking for hidden files and directories ... OK * checking for portable file names ... OK * checking whether package 'tissueTreg' can be installed ... OK * checking installed package size ... OK * checking package directory ... OK * checking 'build' directory ... OK * checking DESCRIPTION meta-information ... OK * checking top-level files ... OK * checking for left-over files ... OK * checking index information ... OK * checking package subdirectories ... OK * loading checks for arch 'i386' ** checking whether the package can be loaded ... OK ** checking whether the package can be loaded with stated dependencies ... OK ** checking whether the package can be unloaded cleanly ... OK ** checking whether the namespace can be loaded with stated dependencies ... OK ** checking whether the namespace can be unloaded cleanly ... OK * loading checks for arch 'x64' ** checking whether the package can be loaded ... OK ** checking whether the package can be loaded with stated dependencies ... OK ** checking whether the package can be unloaded cleanly ... OK ** checking whether the namespace can be loaded with stated dependencies ... OK ** checking whether the namespace can be unloaded cleanly ... OK * checking Rd files ... OK * checking Rd metadata ... OK * checking Rd cross-references ... OK * checking for code/documentation mismatches ... OK * checking Rd \usage sections ... OK * checking Rd contents ... OK * checking for unstated dependencies in examples ... OK * checking files in 'vignettes' ... OK * checking examples ... ** running examples for arch 'i386' ... OK Examples with CPU (user + system) or elapsed time > 5s user system elapsed tissueTreg 7.22 0.84 9.03 ** running examples for arch 'x64' ... OK Examples with CPU (user + system) or elapsed time > 5s user system elapsed tissueTreg 7.62 1.03 9.45 * checking for unstated dependencies in 'tests' ... OK * checking tests ... ** running tests for arch 'i386' ... Running 'testthat.R' OK ** running tests for arch 'x64' ... Running 'testthat.R' OK * checking for unstated dependencies in vignettes ... OK * checking package vignettes in 'inst/doc' ... OK * checking running R code from vignettes ... SKIPPED * checking re-building of vignette outputs ... SKIPPED * checking PDF version of manual ... OK * DONE Status: OK
tissueTreg.Rcheck/00install.out
############################################################################## ############################################################################## ### ### Running command: ### ### C:\cygwin\bin\curl.exe -O http://172.29.0.4/BBS/3.13/data-experiment/src/contrib/tissueTreg_1.11.0.tar.gz && rm -rf tissueTreg.buildbin-libdir && mkdir tissueTreg.buildbin-libdir && D:\biocbuild\bbs-3.13-bioc\R\bin\R.exe CMD INSTALL --merge-multiarch --build --library=tissueTreg.buildbin-libdir tissueTreg_1.11.0.tar.gz && D:\biocbuild\bbs-3.13-bioc\R\bin\R.exe CMD INSTALL tissueTreg_1.11.0.zip && rm tissueTreg_1.11.0.tar.gz tissueTreg_1.11.0.zip ### ############################################################################## ############################################################################## % Total % Received % Xferd Average Speed Time Time Time Current Dload Upload Total Spent Left Speed 0 0 0 0 0 0 0 0 --:--:-- --:--:-- --:--:-- 0 100 6410 100 6410 0 0 347k 0 --:--:-- --:--:-- --:--:-- 347k install for i386 * installing *source* package 'tissueTreg' ... ** using staged installation ** inst ** help *** installing help indices converting help for package 'tissueTreg' finding HTML links ... done tissueTreg html REDIRECT:topic tissueTreg -> tissueTreg.html [ SUCCESS ] ** building package indices ** installing vignettes ** testing if installed package can be loaded from temporary location ** testing if installed package can be loaded from final location ** testing if installed package keeps a record of temporary installation path install for x64 * installing *source* package 'tissueTreg' ... ** testing if installed package can be loaded * MD5 sums packaged installation of 'tissueTreg' as tissueTreg_1.11.0.zip * DONE (tissueTreg) * installing to library 'D:/biocbuild/bbs-3.13-bioc/R/library' package 'tissueTreg' successfully unpacked and MD5 sums checked
tissueTreg.Rcheck/tests_i386/testthat.Rout R Under development (unstable) (2020-12-30 r79736) -- "Unsuffered Consequences" Copyright (C) 2020 The R Foundation for Statistical Computing Platform: i386-w64-mingw32/i386 (32-bit) R is free software and comes with ABSOLUTELY NO WARRANTY. You are welcome to redistribute it under certain conditions. Type 'license()' or 'licence()' for distribution details. R is a collaborative project with many contributors. Type 'contributors()' for more information and 'citation()' on how to cite R or R packages in publications. Type 'demo()' for some demos, 'help()' for on-line help, or 'help.start()' for an HTML browser interface to help. Type 'q()' to quit R. > library(testthat) > library(tissueTreg) > > test_check("tissueTreg") [ FAIL 0 | WARN 0 | SKIP 0 | PASS 4 ] > > proc.time() user system elapsed 14.21 1.18 16.54 |
tissueTreg.Rcheck/tests_x64/testthat.Rout R Under development (unstable) (2020-12-30 r79736) -- "Unsuffered Consequences" Copyright (C) 2020 The R Foundation for Statistical Computing Platform: x86_64-w64-mingw32/x64 (64-bit) R is free software and comes with ABSOLUTELY NO WARRANTY. You are welcome to redistribute it under certain conditions. Type 'license()' or 'licence()' for distribution details. R is a collaborative project with many contributors. Type 'contributors()' for more information and 'citation()' on how to cite R or R packages in publications. Type 'demo()' for some demos, 'help()' for on-line help, or 'help.start()' for an HTML browser interface to help. Type 'q()' to quit R. > library(testthat) > library(tissueTreg) > > test_check("tissueTreg") [ FAIL 0 | WARN 0 | SKIP 0 | PASS 4 ] > > proc.time() user system elapsed 15.40 1.60 18.29 |
tissueTreg.Rcheck/examples_i386/tissueTreg-Ex.timings
|
tissueTreg.Rcheck/examples_x64/tissueTreg-Ex.timings
|