Back to Multiple platform build/check report for BioC 3.13 experimental data |
|
This page was generated on 2021-01-14 15:59:12 -0500 (Thu, 14 Jan 2021).
TO THE DEVELOPERS/MAINTAINERS OF THE tinesath1probe PACKAGE: Please make sure to use the following settings in order to reproduce any error or warning you see on this page. |
Package 367/385 | Hostname | OS / Arch | INSTALL | BUILD | CHECK | ||||||
tinesath1probe 1.29.0 Tine Casneuf
| malbec2 | Linux (Ubuntu 20.04.1 LTS) / x86_64 | OK | OK | WARNINGS | ![]() | |||||
riesling1 | Windows Server 2019 Standard / x64 | [ OK ] | OK | WARNINGS |
Package: tinesath1probe |
Version: 1.29.0 |
Command: C:\cygwin\bin\curl.exe -O http://172.29.0.4/BBS/3.13/data-experiment/src/contrib/tinesath1probe_1.29.0.tar.gz && rm -rf tinesath1probe.buildbin-libdir && mkdir tinesath1probe.buildbin-libdir && D:\biocbuild\bbs-3.13-bioc\R\bin\R.exe CMD INSTALL --merge-multiarch --build --library=tinesath1probe.buildbin-libdir tinesath1probe_1.29.0.tar.gz && D:\biocbuild\bbs-3.13-bioc\R\bin\R.exe CMD INSTALL tinesath1probe_1.29.0.zip && rm tinesath1probe_1.29.0.tar.gz tinesath1probe_1.29.0.zip |
StartedAt: 2021-01-14 10:07:35 -0500 (Thu, 14 Jan 2021) |
EndedAt: 2021-01-14 10:07:44 -0500 (Thu, 14 Jan 2021) |
EllapsedTime: 8.5 seconds |
RetCode: 0 |
Status: OK |
############################################################################## ############################################################################## ### ### Running command: ### ### C:\cygwin\bin\curl.exe -O http://172.29.0.4/BBS/3.13/data-experiment/src/contrib/tinesath1probe_1.29.0.tar.gz && rm -rf tinesath1probe.buildbin-libdir && mkdir tinesath1probe.buildbin-libdir && D:\biocbuild\bbs-3.13-bioc\R\bin\R.exe CMD INSTALL --merge-multiarch --build --library=tinesath1probe.buildbin-libdir tinesath1probe_1.29.0.tar.gz && D:\biocbuild\bbs-3.13-bioc\R\bin\R.exe CMD INSTALL tinesath1probe_1.29.0.zip && rm tinesath1probe_1.29.0.tar.gz tinesath1probe_1.29.0.zip ### ############################################################################## ############################################################################## % Total % Received % Xferd Average Speed Time Time Time Current Dload Upload Total Spent Left Speed 0 0 0 0 0 0 0 0 --:--:-- --:--:-- --:--:-- 0 100 3110k 100 3110k 0 0 57.3M 0 --:--:-- --:--:-- --:--:-- 57.3M install for i386 * installing *source* package 'tinesath1probe' ... ** using staged installation ** data ** help *** installing help indices converting help for package 'tinesath1probe' finding HTML links ... done tinesath1probe html REDIRECT:topic tinesath1probe -> tinesath1probe.html [ SUCCESS ] ** building package indices ** testing if installed package can be loaded from temporary location ** testing if installed package can be loaded from final location ** testing if installed package keeps a record of temporary installation path install for x64 * installing *source* package 'tinesath1probe' ... ** testing if installed package can be loaded * MD5 sums packaged installation of 'tinesath1probe' as tinesath1probe_1.29.0.zip * DONE (tinesath1probe) * installing to library 'D:/biocbuild/bbs-3.13-bioc/R/library' package 'tinesath1probe' successfully unpacked and MD5 sums checked