Back to Multiple platform build/check report for BioC 3.13 experimental data
ABCDEFGHIJKLMNOPQRS[T]UVWXYZ

BUILD report for tinesath1probe on riesling1

This page was generated on 2021-01-14 15:59:12 -0500 (Thu, 14 Jan 2021).

TO THE DEVELOPERS/MAINTAINERS OF THE tinesath1probe PACKAGE: Please make sure to use the following settings in order to reproduce any error or warning you see on this page.
Package 367/385HostnameOS / ArchINSTALLBUILDCHECK
tinesath1probe 1.29.0
Tine Casneuf
Snapshot Date: 2021-01-14 09:00:13 -0500 (Thu, 14 Jan 2021)
URL: https://git.bioconductor.org/packages/tinesath1probe
Branch: master
Last Commit: 420f60b
Last Changed Date: 2020-10-27 09:48:34 -0500 (Tue, 27 Oct 2020)
malbec2 Linux (Ubuntu 20.04.1 LTS) / x86_64  OK  OK  WARNINGS UNNEEDED, same version exists in internal repository
riesling1 Windows Server 2019 Standard / x64  OK [ OK ] WARNINGS 

Summary

Package: tinesath1probe
Version: 1.29.0
Command: chmod a+r tinesath1probe -R && D:\biocbuild\bbs-3.13-bioc\R\bin\R.exe CMD build --keep-empty-dirs --no-resave-data tinesath1probe
StartedAt: 2021-01-14 10:57:49 -0500 (Thu, 14 Jan 2021)
EndedAt: 2021-01-14 10:57:50 -0500 (Thu, 14 Jan 2021)
EllapsedTime: 1.0 seconds
RetCode: 0
Status:  OK  
PackageFile: tinesath1probe_1.29.0.tar.gz
PackageFileSize: 3.038 MiB

Command output

##############################################################################
##############################################################################
###
### Running command:
###
###   chmod a+r tinesath1probe -R && D:\biocbuild\bbs-3.13-bioc\R\bin\R.exe CMD build --keep-empty-dirs --no-resave-data tinesath1probe
###
##############################################################################
##############################################################################


* checking for file 'tinesath1probe/DESCRIPTION' ... OK
* preparing 'tinesath1probe':
* checking DESCRIPTION meta-information ... OK
* checking for LF line-endings in source and make files and shell scripts
* checking for empty or unneeded directories
* looking to see if a 'data/datalist' file should be added
* building 'tinesath1probe_1.29.0.tar.gz'