Back to Multiple platform build/check report for BioC 3.13 experimental data
ABCDEFGHIJKLMNOPQRS[T]UVWXYZ

INSTALL report for tinesath1cdf on riesling1

This page was generated on 2021-01-18 15:58:52 -0500 (Mon, 18 Jan 2021).

TO THE DEVELOPERS/MAINTAINERS OF THE tinesath1cdf PACKAGE: Please make sure to use the following settings in order to reproduce any error or warning you see on this page.
Package 366/385HostnameOS / ArchINSTALLBUILDCHECK
tinesath1cdf 1.29.0
Tine Casneuf
Snapshot Date: 2021-01-18 09:00:15 -0500 (Mon, 18 Jan 2021)
URL: https://git.bioconductor.org/packages/tinesath1cdf
Branch: master
Last Commit: 9a3a827
Last Changed Date: 2020-10-27 09:48:31 -0500 (Tue, 27 Oct 2020)
malbec2 Linux (Ubuntu 20.04.1 LTS) / x86_64  OK  OK  WARNINGS UNNEEDED, same version exists in internal repository
riesling1 Windows Server 2019 Standard / x64 [ OK ] OK  WARNINGS 

Summary

Package: tinesath1cdf
Version: 1.29.0
Command: C:\cygwin\bin\curl.exe -O http://172.29.0.4/BBS/3.13/data-experiment/src/contrib/tinesath1cdf_1.29.0.tar.gz && rm -rf tinesath1cdf.buildbin-libdir && mkdir tinesath1cdf.buildbin-libdir && D:\biocbuild\bbs-3.13-bioc\R\bin\R.exe CMD INSTALL --merge-multiarch --build --library=tinesath1cdf.buildbin-libdir tinesath1cdf_1.29.0.tar.gz && D:\biocbuild\bbs-3.13-bioc\R\bin\R.exe CMD INSTALL tinesath1cdf_1.29.0.zip && rm tinesath1cdf_1.29.0.tar.gz tinesath1cdf_1.29.0.zip
StartedAt: 2021-01-18 10:01:18 -0500 (Mon, 18 Jan 2021)
EndedAt: 2021-01-18 10:01:55 -0500 (Mon, 18 Jan 2021)
EllapsedTime: 36.9 seconds
RetCode: 0
Status:  OK  

Command output

##############################################################################
##############################################################################
###
### Running command:
###
###   C:\cygwin\bin\curl.exe -O http://172.29.0.4/BBS/3.13/data-experiment/src/contrib/tinesath1cdf_1.29.0.tar.gz && rm -rf tinesath1cdf.buildbin-libdir && mkdir tinesath1cdf.buildbin-libdir && D:\biocbuild\bbs-3.13-bioc\R\bin\R.exe CMD INSTALL --merge-multiarch --build --library=tinesath1cdf.buildbin-libdir tinesath1cdf_1.29.0.tar.gz && D:\biocbuild\bbs-3.13-bioc\R\bin\R.exe CMD INSTALL tinesath1cdf_1.29.0.zip && rm tinesath1cdf_1.29.0.tar.gz tinesath1cdf_1.29.0.zip
###
##############################################################################
##############################################################################


  % Total    % Received % Xferd  Average Speed   Time    Time     Time  Current
                                 Dload  Upload   Total   Spent    Left  Speed

  0     0    0     0    0     0      0      0 --:--:-- --:--:-- --:--:--     0
  1 1513k    1 15815    0     0   105k      0  0:00:14 --:--:--  0:00:14  104k
100 1513k  100 1513k    0     0  4701k      0 --:--:-- --:--:-- --:--:-- 4701k

install for i386

* installing *source* package 'tinesath1cdf' ...
** using staged installation
** R
** data
** byte-compile and prepare package for lazy loading
** help
*** installing help indices
  converting help for package 'tinesath1cdf'
    finding HTML links ... done
    geometry                                html  
REDIRECT:topic	 i2xy -> geometry.html [ SUCCESS ]
REDIRECT:topic	 xy2i -> geometry.html [ SUCCESS ]
REDIRECT:file	 geometry.html -> geometry.html [ SUCCESS ]
    tinesath1cdf                            html  
REDIRECT:topic	 tinesath1cdf -> tinesath1cdf.html [ SUCCESS ]
** building package indices
** testing if installed package can be loaded from temporary location
** testing if installed package can be loaded from final location
** testing if installed package keeps a record of temporary installation path

install for x64

* installing *source* package 'tinesath1cdf' ...
** testing if installed package can be loaded
* MD5 sums
packaged installation of 'tinesath1cdf' as tinesath1cdf_1.29.0.zip
* DONE (tinesath1cdf)
* installing to library 'D:/biocbuild/bbs-3.13-bioc/R/library'
package 'tinesath1cdf' successfully unpacked and MD5 sums checked