Back to Multiple platform build/check report for BioC 3.13 experimental data |
|
This page was generated on 2021-01-14 15:59:12 -0500 (Thu, 14 Jan 2021).
TO THE DEVELOPERS/MAINTAINERS OF THE tinesath1cdf PACKAGE: Please make sure to use the following settings in order to reproduce any error or warning you see on this page. |
Package 366/385 | Hostname | OS / Arch | INSTALL | BUILD | CHECK | ||||||
tinesath1cdf 1.29.0 Tine Casneuf
| malbec2 | Linux (Ubuntu 20.04.1 LTS) / x86_64 | OK | OK | WARNINGS | ![]() | |||||
riesling1 | Windows Server 2019 Standard / x64 | OK | [ OK ] | WARNINGS |
Package: tinesath1cdf |
Version: 1.29.0 |
Command: chmod a+r tinesath1cdf -R && D:\biocbuild\bbs-3.13-bioc\R\bin\R.exe CMD build --keep-empty-dirs --no-resave-data tinesath1cdf |
StartedAt: 2021-01-14 10:57:40 -0500 (Thu, 14 Jan 2021) |
EndedAt: 2021-01-14 10:57:41 -0500 (Thu, 14 Jan 2021) |
EllapsedTime: 1.0 seconds |
RetCode: 0 |
Status: OK |
PackageFile: tinesath1cdf_1.29.0.tar.gz |
PackageFileSize: 1.479 MiB |
############################################################################## ############################################################################## ### ### Running command: ### ### chmod a+r tinesath1cdf -R && D:\biocbuild\bbs-3.13-bioc\R\bin\R.exe CMD build --keep-empty-dirs --no-resave-data tinesath1cdf ### ############################################################################## ############################################################################## * checking for file 'tinesath1cdf/DESCRIPTION' ... OK * preparing 'tinesath1cdf': * checking DESCRIPTION meta-information ... OK * checking whether 'INDEX' is up-to-date ... NO * use '--force' to remove the existing 'INDEX' * checking for LF line-endings in source and make files and shell scripts * checking for empty or unneeded directories * looking to see if a 'data/datalist' file should be added * building 'tinesath1cdf_1.29.0.tar.gz'