Back to Multiple platform build/check report for BioC 3.13 experimental data |
|
This page was generated on 2021-01-18 15:58:52 -0500 (Mon, 18 Jan 2021).
TO THE DEVELOPERS/MAINTAINERS OF THE timecoursedata PACKAGE: Please make sure to use the following settings in order to reproduce any error or warning you see on this page. |
Package 364/385 | Hostname | OS / Arch | INSTALL | BUILD | CHECK | ||||||
timecoursedata 1.1.0 Nelle Varoquaux
| malbec2 | Linux (Ubuntu 20.04.1 LTS) / x86_64 | OK | OK | OK | ![]() | |||||
riesling1 | Windows Server 2019 Standard / x64 | [ OK ] | OK | OK |
Package: timecoursedata |
Version: 1.1.0 |
Command: C:\cygwin\bin\curl.exe -O http://172.29.0.4/BBS/3.13/data-experiment/src/contrib/timecoursedata_1.1.0.tar.gz && rm -rf timecoursedata.buildbin-libdir && mkdir timecoursedata.buildbin-libdir && D:\biocbuild\bbs-3.13-bioc\R\bin\R.exe CMD INSTALL --merge-multiarch --build --library=timecoursedata.buildbin-libdir timecoursedata_1.1.0.tar.gz && D:\biocbuild\bbs-3.13-bioc\R\bin\R.exe CMD INSTALL timecoursedata_1.1.0.zip && rm timecoursedata_1.1.0.tar.gz timecoursedata_1.1.0.zip |
StartedAt: 2021-01-18 10:09:29 -0500 (Mon, 18 Jan 2021) |
EndedAt: 2021-01-18 10:09:58 -0500 (Mon, 18 Jan 2021) |
EllapsedTime: 29.3 seconds |
RetCode: 0 |
Status: OK |
############################################################################## ############################################################################## ### ### Running command: ### ### C:\cygwin\bin\curl.exe -O http://172.29.0.4/BBS/3.13/data-experiment/src/contrib/timecoursedata_1.1.0.tar.gz && rm -rf timecoursedata.buildbin-libdir && mkdir timecoursedata.buildbin-libdir && D:\biocbuild\bbs-3.13-bioc\R\bin\R.exe CMD INSTALL --merge-multiarch --build --library=timecoursedata.buildbin-libdir timecoursedata_1.1.0.tar.gz && D:\biocbuild\bbs-3.13-bioc\R\bin\R.exe CMD INSTALL timecoursedata_1.1.0.zip && rm timecoursedata_1.1.0.tar.gz timecoursedata_1.1.0.zip ### ############################################################################## ############################################################################## % Total % Received % Xferd Average Speed Time Time Time Current Dload Upload Total Spent Left Speed 0 0 0 0 0 0 0 0 --:--:-- --:--:-- --:--:-- 0 1 44.8M 1 564k 0 0 19.6M 0 0:00:02 --:--:-- 0:00:02 19.6M 100 44.8M 100 44.8M 0 0 98.3M 0 --:--:-- --:--:-- --:--:-- 98.3M install for i386 * installing *source* package 'timecoursedata' ... ** using staged installation ** R ** data ** byte-compile and prepare package for lazy loading ** help *** installing help indices converting help for package 'timecoursedata' finding HTML links ... done load_shoemaker2015 html REDIRECT:topic load_shoemaker2015 -> load_shoemaker2015.html [ SUCCESS ] load_varoquaux2019 html REDIRECT:topic load_varoquaux2019 -> load_varoquaux2019.html [ SUCCESS ] shoemaker2015 html REDIRECT:topic shoemaker2015 -> shoemaker2015.html [ SUCCESS ] varoquaux2019leaf html REDIRECT:topic varoquaux2019leaf -> varoquaux2019leaf.html [ SUCCESS ] REDIRECT:topic varoquaux2019root -> varoquaux2019leaf.html [ SUCCESS ] ** building package indices ** installing vignettes ** testing if installed package can be loaded from temporary location ** testing if installed package can be loaded from final location ** testing if installed package keeps a record of temporary installation path install for x64 * installing *source* package 'timecoursedata' ... ** testing if installed package can be loaded * MD5 sums packaged installation of 'timecoursedata' as timecoursedata_1.1.0.zip * DONE (timecoursedata) * installing to library 'D:/biocbuild/bbs-3.13-bioc/R/library' package 'timecoursedata' successfully unpacked and MD5 sums checked