Back to Multiple platform build/check report for BioC 3.13 experimental data
ABCDEFGHIJKLMNOPQRS[T]UVWXYZ

BUILD report for timecoursedata on riesling1

This page was generated on 2021-01-14 15:59:12 -0500 (Thu, 14 Jan 2021).

TO THE DEVELOPERS/MAINTAINERS OF THE timecoursedata PACKAGE: Please make sure to use the following settings in order to reproduce any error or warning you see on this page.
Package 364/385HostnameOS / ArchINSTALLBUILDCHECK
timecoursedata 1.1.0
Nelle Varoquaux
Snapshot Date: 2021-01-14 09:00:13 -0500 (Thu, 14 Jan 2021)
URL: https://git.bioconductor.org/packages/timecoursedata
Branch: master
Last Commit: b3b1c7e
Last Changed Date: 2020-10-27 10:32:23 -0500 (Tue, 27 Oct 2020)
malbec2 Linux (Ubuntu 20.04.1 LTS) / x86_64  OK  OK  OK UNNEEDED, same version exists in internal repository
riesling1 Windows Server 2019 Standard / x64  OK [ OK ] OK 

Summary

Package: timecoursedata
Version: 1.1.0
Command: chmod a+r timecoursedata -R && D:\biocbuild\bbs-3.13-bioc\R\bin\R.exe CMD build --keep-empty-dirs --no-resave-data timecoursedata
StartedAt: 2021-01-14 10:57:33 -0500 (Thu, 14 Jan 2021)
EndedAt: 2021-01-14 10:58:03 -0500 (Thu, 14 Jan 2021)
EllapsedTime: 30.0 seconds
RetCode: 0
Status:  OK  
PackageFile: timecoursedata_1.1.0.tar.gz
PackageFileSize: 44.87 MiB

Command output

##############################################################################
##############################################################################
###
### Running command:
###
###   chmod a+r timecoursedata -R && D:\biocbuild\bbs-3.13-bioc\R\bin\R.exe CMD build --keep-empty-dirs --no-resave-data timecoursedata
###
##############################################################################
##############################################################################


* checking for file 'timecoursedata/DESCRIPTION' ... OK
* preparing 'timecoursedata':
* checking DESCRIPTION meta-information ... OK
* installing the package to build vignettes
* creating vignettes ... OK
* checking for LF line-endings in source and make files and shell scripts
* checking for empty or unneeded directories
* looking to see if a 'data/datalist' file should be added
* building 'timecoursedata_1.1.0.tar.gz'