Back to Multiple platform build/check report for BioC 3.13 experimental data
ABCDEFGHIJKLMNOPQRS[T]UVWXYZ

CHECK report for tcgaWGBSData.hg19 on riesling1

This page was generated on 2021-01-21 16:01:40 -0500 (Thu, 21 Jan 2021).

TO THE DEVELOPERS/MAINTAINERS OF THE tcgaWGBSData.hg19 PACKAGE: Please make sure to use the following settings in order to reproduce any error or warning you see on this page.
Package 360/386HostnameOS / ArchINSTALLBUILDCHECK
tcgaWGBSData.hg19 1.9.0
Divy Kangeyan
Snapshot Date: 2021-01-21 09:00:14 -0500 (Thu, 21 Jan 2021)
URL: https://git.bioconductor.org/packages/tcgaWGBSData.hg19
Branch: master
Last Commit: 294dadc
Last Changed Date: 2020-10-27 10:27:34 -0500 (Tue, 27 Oct 2020)
malbec2 Linux (Ubuntu 20.04.1 LTS) / x86_64  OK  OK  OK UNNEEDED, same version exists in internal repository
riesling1 Windows Server 2019 Standard / x64  OK  OK [ OK ]

Summary

Package: tcgaWGBSData.hg19
Version: 1.9.0
Command: D:\biocbuild\bbs-3.13-bioc\R\bin\R.exe CMD check --force-multiarch --install=check:tcgaWGBSData.hg19.install-out.txt --library=D:\biocbuild\bbs-3.13-bioc\R\library --no-vignettes --timings tcgaWGBSData.hg19_1.9.0.tar.gz
StartedAt: 2021-01-21 11:50:35 -0500 (Thu, 21 Jan 2021)
EndedAt: 2021-01-21 11:52:51 -0500 (Thu, 21 Jan 2021)
EllapsedTime: 136.5 seconds
RetCode: 0
Status:  OK  
CheckDir: tcgaWGBSData.hg19.Rcheck
Warnings: 0

Command output

##############################################################################
##############################################################################
###
### Running command:
###
###   D:\biocbuild\bbs-3.13-bioc\R\bin\R.exe CMD check --force-multiarch --install=check:tcgaWGBSData.hg19.install-out.txt --library=D:\biocbuild\bbs-3.13-bioc\R\library --no-vignettes --timings tcgaWGBSData.hg19_1.9.0.tar.gz
###
##############################################################################
##############################################################################


* using log directory 'D:/biocbuild/bbs-3.13-data-experiment/meat/tcgaWGBSData.hg19.Rcheck'
* using R Under development (unstable) (2020-12-30 r79736)
* using platform: x86_64-w64-mingw32 (64-bit)
* using session charset: ISO8859-1
* using option '--no-vignettes'
* checking for file 'tcgaWGBSData.hg19/DESCRIPTION' ... OK
* checking extension type ... Package
* this is package 'tcgaWGBSData.hg19' version '1.9.0'
* checking package namespace information ... OK
* checking package dependencies ... OK
* checking if this is a source package ... OK
* checking if there is a namespace ... OK
* checking for hidden files and directories ... OK
* checking for portable file names ... OK
* checking whether package 'tcgaWGBSData.hg19' can be installed ... OK
* checking installed package size ... OK
* checking package directory ... OK
* checking 'build' directory ... OK
* checking DESCRIPTION meta-information ... OK
* checking top-level files ... OK
* checking for left-over files ... OK
* checking index information ... OK
* checking package subdirectories ... OK
* loading checks for arch 'i386'
** checking whether the package can be loaded ... OK
** checking whether the package can be loaded with stated dependencies ... OK
** checking whether the package can be unloaded cleanly ... OK
** checking whether the namespace can be loaded with stated dependencies ... OK
** checking whether the namespace can be unloaded cleanly ... OK
* loading checks for arch 'x64'
** checking whether the package can be loaded ... OK
** checking whether the package can be loaded with stated dependencies ... OK
** checking whether the package can be unloaded cleanly ... OK
** checking whether the namespace can be loaded with stated dependencies ... OK
** checking whether the namespace can be unloaded cleanly ... OK
* checking Rd files ... OK
* checking Rd metadata ... OK
* checking Rd cross-references ... OK
* checking for code/documentation mismatches ... OK
* checking Rd \usage sections ... OK
* checking Rd contents ... OK
* checking for unstated dependencies in examples ... OK
* checking files in 'vignettes' ... OK
* checking examples ...
** running examples for arch 'i386' ... OK
** running examples for arch 'x64' ... OK
* checking for unstated dependencies in vignettes ... OK
* checking package vignettes in 'inst/doc' ... OK
* checking running R code from vignettes ... SKIPPED
* checking re-building of vignette outputs ... SKIPPED
* checking PDF version of manual ... OK
* DONE

Status: OK


Installation output

tcgaWGBSData.hg19.Rcheck/00install.out

##############################################################################
##############################################################################
###
### Running command:
###
###   C:\cygwin\bin\curl.exe -O http://172.29.0.4/BBS/3.13/data-experiment/src/contrib/tcgaWGBSData.hg19_1.9.0.tar.gz && rm -rf tcgaWGBSData.hg19.buildbin-libdir && mkdir tcgaWGBSData.hg19.buildbin-libdir && D:\biocbuild\bbs-3.13-bioc\R\bin\R.exe CMD INSTALL --merge-multiarch --build --library=tcgaWGBSData.hg19.buildbin-libdir tcgaWGBSData.hg19_1.9.0.tar.gz && D:\biocbuild\bbs-3.13-bioc\R\bin\R.exe CMD INSTALL tcgaWGBSData.hg19_1.9.0.zip && rm tcgaWGBSData.hg19_1.9.0.tar.gz tcgaWGBSData.hg19_1.9.0.zip
###
##############################################################################
##############################################################################


  % Total    % Received % Xferd  Average Speed   Time    Time     Time  Current
                                 Dload  Upload   Total   Spent    Left  Speed

  0     0    0     0    0     0      0      0 --:--:-- --:--:-- --:--:--     0
100  4051  100  4051    0     0   119k      0 --:--:-- --:--:-- --:--:--  119k

install for i386

* installing *source* package 'tcgaWGBSData.hg19' ...
** using staged installation
** inst
** help
*** installing help indices
  converting help for package 'tcgaWGBSData.hg19'
    finding HTML links ... done
    tcgaWGBSData.hg19-package               html  
REDIRECT:topic	 tcgaWGBSData.hg19-package -> tcgaWGBSData.hg19-package.html [ SUCCESS ]
REDIRECT:topic	 tcgaWGBSData.hg19 -> tcgaWGBSData.hg19-package.html [ SUCCESS ]
** building package indices
** installing vignettes
** testing if installed package can be loaded from temporary location
** testing if installed package can be loaded from final location
** testing if installed package keeps a record of temporary installation path

install for x64

* installing *source* package 'tcgaWGBSData.hg19' ...
** testing if installed package can be loaded
* MD5 sums
packaged installation of 'tcgaWGBSData.hg19' as tcgaWGBSData.hg19_1.9.0.zip
* DONE (tcgaWGBSData.hg19)
* installing to library 'D:/biocbuild/bbs-3.13-bioc/R/library'
package 'tcgaWGBSData.hg19' successfully unpacked and MD5 sums checked

Tests output


Example timings

tcgaWGBSData.hg19.Rcheck/examples_i386/tcgaWGBSData.hg19-Ex.timings

nameusersystemelapsed
tcgaWGBSData.hg19-package1.140.121.70

tcgaWGBSData.hg19.Rcheck/examples_x64/tcgaWGBSData.hg19-Ex.timings

nameusersystemelapsed
tcgaWGBSData.hg19-package1.850.082.33