Back to Multiple platform build/check report for BioC 3.13 experimental data
ABCDEFGHIJKLMNOPQRS[T]UVWXYZ

BUILD report for tartare on riesling1

This page was generated on 2021-01-21 16:01:40 -0500 (Thu, 21 Jan 2021).

TO THE DEVELOPERS/MAINTAINERS OF THE tartare PACKAGE: Please make sure to use the following settings in order to reproduce any error or warning you see on this page.
Package 354/386HostnameOS / ArchINSTALLBUILDCHECK
tartare 1.5.2
Christian Panse
Snapshot Date: 2021-01-21 09:00:14 -0500 (Thu, 21 Jan 2021)
URL: https://git.bioconductor.org/packages/tartare
Branch: master
Last Commit: 5c83851
Last Changed Date: 2020-12-09 02:40:29 -0500 (Wed, 09 Dec 2020)
malbec2 Linux (Ubuntu 20.04.1 LTS) / x86_64  OK  OK  OK UNNEEDED, same version exists in internal repository
riesling1 Windows Server 2019 Standard / x64  OK [ OK ] OK 

Summary

Package: tartare
Version: 1.5.2
Command: chmod a+r tartare -R && D:\biocbuild\bbs-3.13-bioc\R\bin\R.exe CMD build --keep-empty-dirs --no-resave-data tartare
StartedAt: 2021-01-21 11:00:54 -0500 (Thu, 21 Jan 2021)
EndedAt: 2021-01-21 11:01:14 -0500 (Thu, 21 Jan 2021)
EllapsedTime: 19.4 seconds
RetCode: 0
Status:  OK  
PackageFile: tartare_1.5.2.tar.gz
PackageFileSize: 235.6 KiB

Command output

##############################################################################
##############################################################################
###
### Running command:
###
###   chmod a+r tartare -R && D:\biocbuild\bbs-3.13-bioc\R\bin\R.exe CMD build --keep-empty-dirs --no-resave-data tartare
###
##############################################################################
##############################################################################


* checking for file 'tartare/DESCRIPTION' ... OK
* preparing 'tartare':
* checking DESCRIPTION meta-information ... OK
* installing the package to build vignettes
* creating vignettes ... OK
* checking for LF line-endings in source and make files and shell scripts
* checking for empty or unneeded directories
* building 'tartare_1.5.2.tar.gz'