Back to Multiple platform build/check report for BioC 3.13 experimental data
ABCDEFGHIJKLMNOPQR[S]TUVWXYZ

INSTALL report for synapterdata on riesling1

This page was generated on 2021-01-21 16:01:39 -0500 (Thu, 21 Jan 2021).

TO THE DEVELOPERS/MAINTAINERS OF THE synapterdata PACKAGE: Please make sure to use the following settings in order to reproduce any error or warning you see on this page.
Package 349/386HostnameOS / ArchINSTALLBUILDCHECK
synapterdata 1.29.0
Laurent Gatto
Snapshot Date: 2021-01-21 09:00:14 -0500 (Thu, 21 Jan 2021)
URL: https://git.bioconductor.org/packages/synapterdata
Branch: master
Last Commit: 8b5d800
Last Changed Date: 2020-10-27 09:55:57 -0500 (Tue, 27 Oct 2020)
malbec2 Linux (Ubuntu 20.04.1 LTS) / x86_64  OK  OK  OK UNNEEDED, same version exists in internal repository
riesling1 Windows Server 2019 Standard / x64 [ OK ] OK  OK 

Summary

Package: synapterdata
Version: 1.29.0
Command: C:\cygwin\bin\curl.exe -O http://172.29.0.4/BBS/3.13/data-experiment/src/contrib/synapterdata_1.29.0.tar.gz && rm -rf synapterdata.buildbin-libdir && mkdir synapterdata.buildbin-libdir && D:\biocbuild\bbs-3.13-bioc\R\bin\R.exe CMD INSTALL --merge-multiarch --build --library=synapterdata.buildbin-libdir synapterdata_1.29.0.tar.gz && D:\biocbuild\bbs-3.13-bioc\R\bin\R.exe CMD INSTALL synapterdata_1.29.0.zip && rm synapterdata_1.29.0.tar.gz synapterdata_1.29.0.zip
StartedAt: 2021-01-21 10:18:12 -0500 (Thu, 21 Jan 2021)
EndedAt: 2021-01-21 10:19:47 -0500 (Thu, 21 Jan 2021)
EllapsedTime: 95.2 seconds
RetCode: 0
Status:  OK  

Command output

##############################################################################
##############################################################################
###
### Running command:
###
###   C:\cygwin\bin\curl.exe -O http://172.29.0.4/BBS/3.13/data-experiment/src/contrib/synapterdata_1.29.0.tar.gz && rm -rf synapterdata.buildbin-libdir && mkdir synapterdata.buildbin-libdir && D:\biocbuild\bbs-3.13-bioc\R\bin\R.exe CMD INSTALL --merge-multiarch --build --library=synapterdata.buildbin-libdir synapterdata_1.29.0.tar.gz && D:\biocbuild\bbs-3.13-bioc\R\bin\R.exe CMD INSTALL synapterdata_1.29.0.zip && rm synapterdata_1.29.0.tar.gz synapterdata_1.29.0.zip
###
##############################################################################
##############################################################################


  % Total    % Received % Xferd  Average Speed   Time    Time     Time  Current
                                 Dload  Upload   Total   Spent    Left  Speed

  0     0    0     0    0     0      0      0 --:--:-- --:--:-- --:--:--     0
  4  418M    4 18.0M    0     0  38.6M      0  0:00:10 --:--:--  0:00:10 38.6M
 26  418M   26  109M    0     0  74.8M      0  0:00:05  0:00:01  0:00:04 74.8M
 49  418M   49  207M    0     0  84.3M      0  0:00:04  0:00:02  0:00:02 84.3M
 66  418M   66  278M    0     0  78.4M      0  0:00:05  0:00:03  0:00:02 78.3M
 74  418M   74  311M    0     0  69.4M      0  0:00:06  0:00:04  0:00:02 69.4M
 80  418M   80  338M    0     0  61.9M      0  0:00:06  0:00:05  0:00:01 64.1M
 86  418M   86  360M    0     0  55.7M      0  0:00:07  0:00:06  0:00:01 50.2M
 95  418M   95  397M    0     0  52.0M      0  0:00:08  0:00:07  0:00:01 36.6M
100  418M  100  418M    0     0  50.6M      0  0:00:08  0:00:08 --:--:-- 29.7M

install for i386

* installing *source* package 'synapterdata' ...
** using staged installation
** R
** data
** inst
** byte-compile and prepare package for lazy loading
** help
*** installing help indices
  converting help for package 'synapterdata'
    finding HTML links ... done
    getHDMSeFinalPeptide                    html  
REDIRECT:topic	 getHDMSeFinalPeptide -> getHDMSeFinalPeptide.html [ SUCCESS ]
REDIRECT:topic	 getMSeFinalPeptide -> getHDMSeFinalPeptide.html [ SUCCESS ]
REDIRECT:topic	 getMSePep3D -> getHDMSeFinalPeptide.html [ SUCCESS ]
REDIRECT:topic	 getFasta -> getHDMSeFinalPeptide.html [ SUCCESS ]
    getMasterRds                            html  
REDIRECT:topic	 getMaster -> getMasterRds.html [ SUCCESS ]
REDIRECT:topic	 loadMaster -> getMasterRds.html [ SUCCESS ]
REDIRECT:file	 getMasterRds.html -> getMasterRds.html [ SUCCESS ]
    synapterdata-package                    html  
REDIRECT:topic	 synapterdata-package -> synapterdata-package.html [ SUCCESS ]
REDIRECT:topic	 synapterdata -> synapterdata-package.html [ SUCCESS ]
    synobj2                                 html  
REDIRECT:topic	 synobj2 -> synobj2.html [ SUCCESS ]
REDIRECT:topic	 synobj2RData -> synobj2.html [ SUCCESS ]
    ups25a                                  html  
REDIRECT:topic	 ups25a -> ups25a.html [ SUCCESS ]
REDIRECT:topic	 ups25b -> ups25a.html [ SUCCESS ]
REDIRECT:topic	 ups25c -> ups25a.html [ SUCCESS ]
REDIRECT:topic	 ups50a -> ups25a.html [ SUCCESS ]
REDIRECT:topic	 ups50b -> ups25a.html [ SUCCESS ]
REDIRECT:topic	 ups50c -> ups25a.html [ SUCCESS ]
** building package indices
** testing if installed package can be loaded from temporary location
** testing if installed package can be loaded from final location
** testing if installed package keeps a record of temporary installation path

install for x64

* installing *source* package 'synapterdata' ...
** testing if installed package can be loaded
* MD5 sums
packaged installation of 'synapterdata' as synapterdata_1.29.0.zip
* DONE (synapterdata)
* installing to library 'D:/biocbuild/bbs-3.13-bioc/R/library'
package 'synapterdata' successfully unpacked and MD5 sums checked