Back to Multiple platform build/check report for BioC 3.13 experimental data
ABCDEFGHIJKLMNOPQR[S]TUVWXYZ

INSTALL report for stjudem on riesling1

This page was generated on 2021-01-21 16:01:39 -0500 (Thu, 21 Jan 2021).

TO THE DEVELOPERS/MAINTAINERS OF THE stjudem PACKAGE: Please make sure to use the following settings in order to reproduce any error or warning you see on this page.
Package 347/386HostnameOS / ArchINSTALLBUILDCHECK
stjudem 1.31.0
Joern Toedling
Snapshot Date: 2021-01-21 09:00:14 -0500 (Thu, 21 Jan 2021)
URL: https://git.bioconductor.org/packages/stjudem
Branch: master
Last Commit: 0683f3a
Last Changed Date: 2020-10-27 09:47:09 -0500 (Tue, 27 Oct 2020)
malbec2 Linux (Ubuntu 20.04.1 LTS) / x86_64  OK  OK  OK UNNEEDED, same version exists in internal repository
riesling1 Windows Server 2019 Standard / x64 [ OK ] OK  OK 

Summary

Package: stjudem
Version: 1.31.0
Command: C:\cygwin\bin\curl.exe -O http://172.29.0.4/BBS/3.13/data-experiment/src/contrib/stjudem_1.31.0.tar.gz && rm -rf stjudem.buildbin-libdir && mkdir stjudem.buildbin-libdir && D:\biocbuild\bbs-3.13-bioc\R\bin\R.exe CMD INSTALL --merge-multiarch --build --library=stjudem.buildbin-libdir stjudem_1.31.0.tar.gz && D:\biocbuild\bbs-3.13-bioc\R\bin\R.exe CMD INSTALL stjudem_1.31.0.zip && rm stjudem_1.31.0.tar.gz stjudem_1.31.0.zip
StartedAt: 2021-01-21 09:52:48 -0500 (Thu, 21 Jan 2021)
EndedAt: 2021-01-21 09:53:01 -0500 (Thu, 21 Jan 2021)
EllapsedTime: 12.7 seconds
RetCode: 0
Status:  OK  

Command output

##############################################################################
##############################################################################
###
### Running command:
###
###   C:\cygwin\bin\curl.exe -O http://172.29.0.4/BBS/3.13/data-experiment/src/contrib/stjudem_1.31.0.tar.gz && rm -rf stjudem.buildbin-libdir && mkdir stjudem.buildbin-libdir && D:\biocbuild\bbs-3.13-bioc\R\bin\R.exe CMD INSTALL --merge-multiarch --build --library=stjudem.buildbin-libdir stjudem_1.31.0.tar.gz && D:\biocbuild\bbs-3.13-bioc\R\bin\R.exe CMD INSTALL stjudem_1.31.0.zip && rm stjudem_1.31.0.tar.gz stjudem_1.31.0.zip
###
##############################################################################
##############################################################################


  % Total    % Received % Xferd  Average Speed   Time    Time     Time  Current
                                 Dload  Upload   Total   Spent    Left  Speed

  0     0    0     0    0     0      0      0 --:--:-- --:--:-- --:--:--     0
  0 27.5M    0  1213    0     0  12252      0  0:39:21 --:--:--  0:39:21 12130
 10 27.5M   10 2867k    0     0  2662k      0  0:00:10  0:00:01  0:00:09 2659k
 15 27.5M   15 4431k    0     0  2091k      0  0:00:13  0:00:02  0:00:11 2090k
 86 27.5M   86 23.8M    0     0  8057k      0  0:00:03  0:00:03 --:--:-- 8054k
100 27.5M  100 27.5M    0     0  9216k      0  0:00:03  0:00:03 --:--:-- 9213k

install for i386

* installing *source* package 'stjudem' ...
** using staged installation
** R
** data
** byte-compile and prepare package for lazy loading
** help
*** installing help indices
  converting help for package 'stjudem'
    finding HTML links ... done
    stjude                                  html  
REDIRECT:topic	 stjude -> stjude.html [ SUCCESS ]
** building package indices
** testing if installed package can be loaded from temporary location
** testing if installed package can be loaded from final location
** testing if installed package keeps a record of temporary installation path

install for x64

* installing *source* package 'stjudem' ...
** testing if installed package can be loaded
* MD5 sums
packaged installation of 'stjudem' as stjudem_1.31.0.zip
* DONE (stjudem)
* installing to library 'D:/biocbuild/bbs-3.13-bioc/R/library'
package 'stjudem' successfully unpacked and MD5 sums checked