Back to Multiple platform build/check report for BioC 3.13 experimental data
ABCDEFGHIJKLMNOPQR[S]TUVWXYZ

CHECK report for stemHypoxia on riesling1

This page was generated on 2021-01-14 15:59:12 -0500 (Thu, 14 Jan 2021).

TO THE DEVELOPERS/MAINTAINERS OF THE stemHypoxia PACKAGE: Please make sure to use the following settings in order to reproduce any error or warning you see on this page.
Package 345/385HostnameOS / ArchINSTALLBUILDCHECK
stemHypoxia 1.27.0
Cristobal Fresno
Snapshot Date: 2021-01-14 09:00:13 -0500 (Thu, 14 Jan 2021)
URL: https://git.bioconductor.org/packages/stemHypoxia
Branch: master
Last Commit: 0648e78
Last Changed Date: 2020-10-27 10:00:03 -0500 (Tue, 27 Oct 2020)
malbec2 Linux (Ubuntu 20.04.1 LTS) / x86_64  OK  OK  OK UNNEEDED, same version exists in internal repository
riesling1 Windows Server 2019 Standard / x64  OK  OK [ OK ]

Summary

Package: stemHypoxia
Version: 1.27.0
Command: D:\biocbuild\bbs-3.13-bioc\R\bin\R.exe CMD check --force-multiarch --install=check:stemHypoxia.install-out.txt --library=D:\biocbuild\bbs-3.13-bioc\R\library --no-vignettes --timings stemHypoxia_1.27.0.tar.gz
StartedAt: 2021-01-14 11:43:05 -0500 (Thu, 14 Jan 2021)
EndedAt: 2021-01-14 11:43:21 -0500 (Thu, 14 Jan 2021)
EllapsedTime: 15.5 seconds
RetCode: 0
Status:  OK  
CheckDir: stemHypoxia.Rcheck
Warnings: 0

Command output

##############################################################################
##############################################################################
###
### Running command:
###
###   D:\biocbuild\bbs-3.13-bioc\R\bin\R.exe CMD check --force-multiarch --install=check:stemHypoxia.install-out.txt --library=D:\biocbuild\bbs-3.13-bioc\R\library --no-vignettes --timings stemHypoxia_1.27.0.tar.gz
###
##############################################################################
##############################################################################


* using log directory 'D:/biocbuild/bbs-3.13-data-experiment/meat/stemHypoxia.Rcheck'
* using R Under development (unstable) (2020-12-30 r79736)
* using platform: x86_64-w64-mingw32 (64-bit)
* using session charset: ISO8859-1
* using option '--no-vignettes'
* checking for file 'stemHypoxia/DESCRIPTION' ... OK
* checking extension type ... Package
* this is package 'stemHypoxia' version '1.27.0'
* checking package namespace information ... OK
* checking package dependencies ... OK
* checking if this is a source package ... OK
* checking if there is a namespace ... OK
* checking for hidden files and directories ... OK
* checking for portable file names ... OK
* checking whether package 'stemHypoxia' can be installed ... OK
* checking installed package size ... OK
* checking package directory ... OK
* checking DESCRIPTION meta-information ... OK
* checking top-level files ... OK
* checking for left-over files ... OK
* checking index information ... OK
* checking package subdirectories ... OK
* loading checks for arch 'i386'
** checking whether the package can be loaded ... OK
** checking whether the package can be loaded with stated dependencies ... OK
** checking whether the package can be unloaded cleanly ... OK
** checking whether the namespace can be loaded with stated dependencies ... OK
** checking whether the namespace can be unloaded cleanly ... OK
* loading checks for arch 'x64'
** checking whether the package can be loaded ... OK
** checking whether the package can be loaded with stated dependencies ... OK
** checking whether the package can be unloaded cleanly ... OK
** checking whether the namespace can be loaded with stated dependencies ... OK
** checking whether the namespace can be unloaded cleanly ... OK
* checking Rd files ... OK
* checking Rd metadata ... OK
* checking Rd cross-references ... OK
* checking for missing documentation entries ... OK
* checking for code/documentation mismatches ... OK
* checking Rd \usage sections ... OK
* checking Rd contents ... OK
* checking for unstated dependencies in examples ... OK
* checking contents of 'data' directory ... OK
* checking data for non-ASCII characters ... OK
* checking data for ASCII and uncompressed saves ... OK
* checking examples ...
** running examples for arch 'i386' ... OK
** running examples for arch 'x64' ... OK
* checking PDF version of manual ... OK
* DONE

Status: OK


Installation output

stemHypoxia.Rcheck/00install.out

##############################################################################
##############################################################################
###
### Running command:
###
###   C:\cygwin\bin\curl.exe -O http://172.29.0.4/BBS/3.13/data-experiment/src/contrib/stemHypoxia_1.27.0.tar.gz && rm -rf stemHypoxia.buildbin-libdir && mkdir stemHypoxia.buildbin-libdir && D:\biocbuild\bbs-3.13-bioc\R\bin\R.exe CMD INSTALL --merge-multiarch --build --library=stemHypoxia.buildbin-libdir stemHypoxia_1.27.0.tar.gz && D:\biocbuild\bbs-3.13-bioc\R\bin\R.exe CMD INSTALL stemHypoxia_1.27.0.zip && rm stemHypoxia_1.27.0.tar.gz stemHypoxia_1.27.0.zip
###
##############################################################################
##############################################################################


  % Total    % Received % Xferd  Average Speed   Time    Time     Time  Current
                                 Dload  Upload   Total   Spent    Left  Speed

  0     0    0     0    0     0      0      0 --:--:-- --:--:-- --:--:--     0
100 2838k  100 2838k    0     0  7150k      0 --:--:-- --:--:-- --:--:-- 7150k

install for i386

* installing *source* package 'stemHypoxia' ...
** using staged installation
** data
** help
*** installing help indices
  converting help for package 'stemHypoxia'
    finding HTML links ... done
    M                                       html  
REDIRECT:topic	 M -> M.html [ SUCCESS ]
    design                                  html  
REDIRECT:topic	 design -> design.html [ SUCCESS ]
    stemHypoxia                             html  
REDIRECT:topic	 stemHypoxia -> stemHypoxia.html [ SUCCESS ]
** building package indices
** testing if installed package can be loaded from temporary location
** testing if installed package can be loaded from final location
** testing if installed package keeps a record of temporary installation path

install for x64

* installing *source* package 'stemHypoxia' ...
** testing if installed package can be loaded
* MD5 sums
packaged installation of 'stemHypoxia' as stemHypoxia_1.27.0.zip
* DONE (stemHypoxia)
* installing to library 'D:/biocbuild/bbs-3.13-bioc/R/library'
package 'stemHypoxia' successfully unpacked and MD5 sums checked

Tests output


Example timings

stemHypoxia.Rcheck/examples_i386/stemHypoxia-Ex.timings

nameusersystemelapsed
M0.250.000.25
design0.220.020.23

stemHypoxia.Rcheck/examples_x64/stemHypoxia-Ex.timings

nameusersystemelapsed
M0.170.020.19
design0.160.010.17