Back to Multiple platform build/check report for BioC 3.13 experimental data
ABCDEFGHIJKLMNOPQR[S]TUVWXYZ

INSTALL report for spqnData on riesling1

This page was generated on 2021-01-18 15:58:51 -0500 (Mon, 18 Jan 2021).

TO THE DEVELOPERS/MAINTAINERS OF THE spqnData PACKAGE: Please make sure to use the following settings in order to reproduce any error or warning you see on this page.
Package 344/385HostnameOS / ArchINSTALLBUILDCHECK
spqnData 1.3.0
Yi Wang
Snapshot Date: 2021-01-18 09:00:15 -0500 (Mon, 18 Jan 2021)
URL: https://git.bioconductor.org/packages/spqnData
Branch: master
Last Commit: ea69369
Last Changed Date: 2020-10-27 10:31:35 -0500 (Tue, 27 Oct 2020)
malbec2 Linux (Ubuntu 20.04.1 LTS) / x86_64  OK  OK  OK UNNEEDED, same version exists in internal repository
riesling1 Windows Server 2019 Standard / x64 [ OK ] OK  OK 

Summary

Package: spqnData
Version: 1.3.0
Command: C:\cygwin\bin\curl.exe -O http://172.29.0.4/BBS/3.13/data-experiment/src/contrib/spqnData_1.3.0.tar.gz && rm -rf spqnData.buildbin-libdir && mkdir spqnData.buildbin-libdir && D:\biocbuild\bbs-3.13-bioc\R\bin\R.exe CMD INSTALL --merge-multiarch --build --library=spqnData.buildbin-libdir spqnData_1.3.0.tar.gz && D:\biocbuild\bbs-3.13-bioc\R\bin\R.exe CMD INSTALL spqnData_1.3.0.zip && rm spqnData_1.3.0.tar.gz spqnData_1.3.0.zip
StartedAt: 2021-01-18 10:08:47 -0500 (Mon, 18 Jan 2021)
EndedAt: 2021-01-18 10:09:03 -0500 (Mon, 18 Jan 2021)
EllapsedTime: 16.1 seconds
RetCode: 0
Status:  OK  

Command output

##############################################################################
##############################################################################
###
### Running command:
###
###   C:\cygwin\bin\curl.exe -O http://172.29.0.4/BBS/3.13/data-experiment/src/contrib/spqnData_1.3.0.tar.gz && rm -rf spqnData.buildbin-libdir && mkdir spqnData.buildbin-libdir && D:\biocbuild\bbs-3.13-bioc\R\bin\R.exe CMD INSTALL --merge-multiarch --build --library=spqnData.buildbin-libdir spqnData_1.3.0.tar.gz && D:\biocbuild\bbs-3.13-bioc\R\bin\R.exe CMD INSTALL spqnData_1.3.0.zip && rm spqnData_1.3.0.tar.gz spqnData_1.3.0.zip
###
##############################################################################
##############################################################################


  % Total    % Received % Xferd  Average Speed   Time    Time     Time  Current
                                 Dload  Upload   Total   Spent    Left  Speed

  0     0    0     0    0     0      0      0 --:--:-- --:--:-- --:--:--     0
  1 10.1M    1  173k    0     0  3409k      0  0:00:03 --:--:--  0:00:03 3344k
100 10.1M  100 10.1M    0     0  21.1M      0 --:--:-- --:--:-- --:--:-- 21.0M

install for i386

* installing *source* package 'spqnData' ...
** using staged installation
** data
** inst
** help
*** installing help indices
  converting help for package 'spqnData'
    finding HTML links ... done
    gtex.4k                                 html  
REDIRECT:topic	 gtex.4k -> gtex.4k.html [ SUCCESS ]
** building package indices
** testing if installed package can be loaded from temporary location
** testing if installed package can be loaded from final location
** testing if installed package keeps a record of temporary installation path

install for x64

* installing *source* package 'spqnData' ...
** testing if installed package can be loaded
* MD5 sums
packaged installation of 'spqnData' as spqnData_1.3.0.zip
* DONE (spqnData)
* installing to library 'D:/biocbuild/bbs-3.13-bioc/R/library'
package 'spqnData' successfully unpacked and MD5 sums checked