Back to Multiple platform build/check report for BioC 3.13 experimental data |
|
This page was generated on 2021-01-21 16:01:39 -0500 (Thu, 21 Jan 2021).
TO THE DEVELOPERS/MAINTAINERS OF THE spqnData PACKAGE: Please make sure to use the following settings in order to reproduce any error or warning you see on this page. |
Package 345/386 | Hostname | OS / Arch | INSTALL | BUILD | CHECK | ||||||
spqnData 1.3.0 Yi Wang
| malbec2 | Linux (Ubuntu 20.04.1 LTS) / x86_64 | OK | OK | OK | ![]() | |||||
riesling1 | Windows Server 2019 Standard / x64 | OK | OK | [ OK ] |
Package: spqnData |
Version: 1.3.0 |
Command: D:\biocbuild\bbs-3.13-bioc\R\bin\R.exe CMD check --force-multiarch --install=check:spqnData.install-out.txt --library=D:\biocbuild\bbs-3.13-bioc\R\library --no-vignettes --timings spqnData_1.3.0.tar.gz |
StartedAt: 2021-01-21 11:48:42 -0500 (Thu, 21 Jan 2021) |
EndedAt: 2021-01-21 11:49:43 -0500 (Thu, 21 Jan 2021) |
EllapsedTime: 61.0 seconds |
RetCode: 0 |
Status: OK |
CheckDir: spqnData.Rcheck |
Warnings: 0 |
############################################################################## ############################################################################## ### ### Running command: ### ### D:\biocbuild\bbs-3.13-bioc\R\bin\R.exe CMD check --force-multiarch --install=check:spqnData.install-out.txt --library=D:\biocbuild\bbs-3.13-bioc\R\library --no-vignettes --timings spqnData_1.3.0.tar.gz ### ############################################################################## ############################################################################## * using log directory 'D:/biocbuild/bbs-3.13-data-experiment/meat/spqnData.Rcheck' * using R Under development (unstable) (2020-12-30 r79736) * using platform: x86_64-w64-mingw32 (64-bit) * using session charset: ISO8859-1 * using option '--no-vignettes' * checking for file 'spqnData/DESCRIPTION' ... OK * this is package 'spqnData' version '1.3.0' * checking package namespace information ... OK * checking package dependencies ... OK * checking if this is a source package ... OK * checking if there is a namespace ... OK * checking for hidden files and directories ... OK * checking for portable file names ... OK * checking whether package 'spqnData' can be installed ... OK * checking installed package size ... NOTE installed size is 10.2Mb sub-directories of 1Mb or more: data 10.2Mb * checking package directory ... OK * checking DESCRIPTION meta-information ... OK * checking top-level files ... OK * checking for left-over files ... OK * checking index information ... OK * checking package subdirectories ... OK * loading checks for arch 'i386' ** checking whether the package can be loaded ... OK ** checking whether the package can be loaded with stated dependencies ... OK ** checking whether the package can be unloaded cleanly ... OK ** checking whether the namespace can be loaded with stated dependencies ... OK ** checking whether the namespace can be unloaded cleanly ... OK * loading checks for arch 'x64' ** checking whether the package can be loaded ... OK ** checking whether the package can be loaded with stated dependencies ... OK ** checking whether the package can be unloaded cleanly ... OK ** checking whether the namespace can be loaded with stated dependencies ... OK ** checking whether the namespace can be unloaded cleanly ... OK * checking Rd files ... OK * checking Rd metadata ... OK * checking Rd cross-references ... OK * checking for missing documentation entries ... OK * checking for code/documentation mismatches ... OK * checking Rd \usage sections ... OK * checking Rd contents ... OK * checking for unstated dependencies in examples ... OK * checking contents of 'data' directory ... OK * checking data for non-ASCII characters ... OK * checking data for ASCII and uncompressed saves ... OK * checking examples ... ** running examples for arch 'i386' ... OK ** running examples for arch 'x64' ... OK * checking PDF version of manual ... OK * DONE Status: 1 NOTE See 'D:/biocbuild/bbs-3.13-data-experiment/meat/spqnData.Rcheck/00check.log' for details.
spqnData.Rcheck/00install.out
############################################################################## ############################################################################## ### ### Running command: ### ### C:\cygwin\bin\curl.exe -O http://172.29.0.4/BBS/3.13/data-experiment/src/contrib/spqnData_1.3.0.tar.gz && rm -rf spqnData.buildbin-libdir && mkdir spqnData.buildbin-libdir && D:\biocbuild\bbs-3.13-bioc\R\bin\R.exe CMD INSTALL --merge-multiarch --build --library=spqnData.buildbin-libdir spqnData_1.3.0.tar.gz && D:\biocbuild\bbs-3.13-bioc\R\bin\R.exe CMD INSTALL spqnData_1.3.0.zip && rm spqnData_1.3.0.tar.gz spqnData_1.3.0.zip ### ############################################################################## ############################################################################## % Total % Received % Xferd Average Speed Time Time Time Current Dload Upload Total Spent Left Speed 0 0 0 0 0 0 0 0 --:--:-- --:--:-- --:--:-- 0 100 10.1M 100 10.1M 0 0 86.3M 0 --:--:-- --:--:-- --:--:-- 86.3M install for i386 * installing *source* package 'spqnData' ... ** using staged installation ** data ** inst ** help *** installing help indices converting help for package 'spqnData' finding HTML links ... done gtex.4k html REDIRECT:topic gtex.4k -> gtex.4k.html [ SUCCESS ] ** building package indices ** testing if installed package can be loaded from temporary location ** testing if installed package can be loaded from final location ** testing if installed package keeps a record of temporary installation path install for x64 * installing *source* package 'spqnData' ... ** testing if installed package can be loaded * MD5 sums packaged installation of 'spqnData' as spqnData_1.3.0.zip * DONE (spqnData) * installing to library 'D:/biocbuild/bbs-3.13-bioc/R/library' package 'spqnData' successfully unpacked and MD5 sums checked
spqnData.Rcheck/examples_i386/spqnData-Ex.timings
|
spqnData.Rcheck/examples_x64/spqnData-Ex.timings
|