Back to Multiple platform build/check report for BioC 3.13 experimental data |
|
This page was generated on 2021-01-14 15:59:12 -0500 (Thu, 14 Jan 2021).
TO THE DEVELOPERS/MAINTAINERS OF THE spatialLIBD PACKAGE: Please make sure to use the following settings in order to reproduce any error or warning you see on this page. |
Package 341/385 | Hostname | OS / Arch | INSTALL | BUILD | CHECK | ||||||
spatialLIBD 1.3.1 Leonardo Collado-Torres
| malbec2 | Linux (Ubuntu 20.04.1 LTS) / x86_64 | OK | OK | OK | ![]() | |||||
riesling1 | Windows Server 2019 Standard / x64 | OK | [ OK ] | ERROR |
Package: spatialLIBD |
Version: 1.3.1 |
Command: chmod a+r spatialLIBD -R && D:\biocbuild\bbs-3.13-bioc\R\bin\R.exe CMD build --keep-empty-dirs --no-resave-data spatialLIBD |
StartedAt: 2021-01-14 10:55:23 -0500 (Thu, 14 Jan 2021) |
EndedAt: 2021-01-14 10:56:41 -0500 (Thu, 14 Jan 2021) |
EllapsedTime: 77.5 seconds |
RetCode: 0 |
Status: OK |
PackageFile: spatialLIBD_1.3.1.tar.gz |
PackageFileSize: 11.05 MiB |
############################################################################## ############################################################################## ### ### Running command: ### ### chmod a+r spatialLIBD -R && D:\biocbuild\bbs-3.13-bioc\R\bin\R.exe CMD build --keep-empty-dirs --no-resave-data spatialLIBD ### ############################################################################## ############################################################################## * checking for file 'spatialLIBD/DESCRIPTION' ... OK * preparing 'spatialLIBD': * checking DESCRIPTION meta-information ... OK * installing the package to build vignettes * creating vignettes ... OK * checking for LF line-endings in source and make files and shell scripts * checking for empty or unneeded directories * building 'spatialLIBD_1.3.1.tar.gz'