Back to Multiple platform build/check report for BioC 3.13 experimental data
ABCDEFGHIJKLMNOPQR[S]TUVWXYZ

BUILD report for simpIntLists on riesling1

This page was generated on 2021-01-14 15:59:11 -0500 (Thu, 14 Jan 2021).

TO THE DEVELOPERS/MAINTAINERS OF THE simpIntLists PACKAGE: Please make sure to use the following settings in order to reproduce any error or warning you see on this page.
Package 333/385HostnameOS / ArchINSTALLBUILDCHECK
simpIntLists 1.27.0
Kircicegi Korkmaz
Snapshot Date: 2021-01-14 09:00:13 -0500 (Thu, 14 Jan 2021)
URL: https://git.bioconductor.org/packages/simpIntLists
Branch: master
Last Commit: 4013f06
Last Changed Date: 2020-10-27 09:52:37 -0500 (Tue, 27 Oct 2020)
malbec2 Linux (Ubuntu 20.04.1 LTS) / x86_64  OK  OK  WARNINGS UNNEEDED, same version exists in internal repository
riesling1 Windows Server 2019 Standard / x64  OK [ OK ] WARNINGS 

Summary

Package: simpIntLists
Version: 1.27.0
Command: chmod a+r simpIntLists -R && D:\biocbuild\bbs-3.13-bioc\R\bin\R.exe CMD build --keep-empty-dirs --no-resave-data simpIntLists
StartedAt: 2021-01-14 10:54:20 -0500 (Thu, 14 Jan 2021)
EndedAt: 2021-01-14 10:54:34 -0500 (Thu, 14 Jan 2021)
EllapsedTime: 14.4 seconds
RetCode: 0
Status:  OK  
PackageFile: simpIntLists_1.27.0.tar.gz
PackageFileSize: 4.418 MiB

Command output

##############################################################################
##############################################################################
###
### Running command:
###
###   chmod a+r simpIntLists -R && D:\biocbuild\bbs-3.13-bioc\R\bin\R.exe CMD build --keep-empty-dirs --no-resave-data simpIntLists
###
##############################################################################
##############################################################################


* checking for file 'simpIntLists/DESCRIPTION' ... OK
* preparing 'simpIntLists':
* checking DESCRIPTION meta-information ... OK
* installing the package to build vignettes
* creating vignettes ... OK
* checking for LF line-endings in source and make files and shell scripts
* checking for empty or unneeded directories
* looking to see if a 'data/datalist' file should be added
* building 'simpIntLists_1.27.0.tar.gz'