Back to Multiple platform build/check report for BioC 3.13 experimental data
ABCDEFGHIJKLMNOPQR[S]TUVWXYZ

INSTALL report for signatureSearchData on riesling1

This page was generated on 2021-01-14 15:59:11 -0500 (Thu, 14 Jan 2021).

TO THE DEVELOPERS/MAINTAINERS OF THE signatureSearchData PACKAGE: Please make sure to use the following settings in order to reproduce any error or warning you see on this page.
Package 332/385HostnameOS / ArchINSTALLBUILDCHECK
signatureSearchData 1.5.0
Yuzhu Duan
Snapshot Date: 2021-01-14 09:00:13 -0500 (Thu, 14 Jan 2021)
URL: https://git.bioconductor.org/packages/signatureSearchData
Branch: master
Last Commit: 938e867
Last Changed Date: 2020-10-27 10:31:00 -0500 (Tue, 27 Oct 2020)
malbec2 Linux (Ubuntu 20.04.1 LTS) / x86_64  OK  OK  OK UNNEEDED, same version exists in internal repository
riesling1 Windows Server 2019 Standard / x64 [ OK ] OK  OK 

Summary

Package: signatureSearchData
Version: 1.5.0
Command: C:\cygwin\bin\curl.exe -O http://172.29.0.4/BBS/3.13/data-experiment/src/contrib/signatureSearchData_1.5.0.tar.gz && rm -rf signatureSearchData.buildbin-libdir && mkdir signatureSearchData.buildbin-libdir && D:\biocbuild\bbs-3.13-bioc\R\bin\R.exe CMD INSTALL --merge-multiarch --build --library=signatureSearchData.buildbin-libdir signatureSearchData_1.5.0.tar.gz && D:\biocbuild\bbs-3.13-bioc\R\bin\R.exe CMD INSTALL signatureSearchData_1.5.0.zip && rm signatureSearchData_1.5.0.tar.gz signatureSearchData_1.5.0.zip
StartedAt: 2021-01-14 10:18:19 -0500 (Thu, 14 Jan 2021)
EndedAt: 2021-01-14 10:18:53 -0500 (Thu, 14 Jan 2021)
EllapsedTime: 33.9 seconds
RetCode: 0
Status:  OK  

Command output

##############################################################################
##############################################################################
###
### Running command:
###
###   C:\cygwin\bin\curl.exe -O http://172.29.0.4/BBS/3.13/data-experiment/src/contrib/signatureSearchData_1.5.0.tar.gz && rm -rf signatureSearchData.buildbin-libdir && mkdir signatureSearchData.buildbin-libdir && D:\biocbuild\bbs-3.13-bioc\R\bin\R.exe CMD INSTALL --merge-multiarch --build --library=signatureSearchData.buildbin-libdir signatureSearchData_1.5.0.tar.gz && D:\biocbuild\bbs-3.13-bioc\R\bin\R.exe CMD INSTALL signatureSearchData_1.5.0.zip && rm signatureSearchData_1.5.0.tar.gz signatureSearchData_1.5.0.zip
###
##############################################################################
##############################################################################


  % Total    % Received % Xferd  Average Speed   Time    Time     Time  Current
                                 Dload  Upload   Total   Spent    Left  Speed

  0     0    0     0    0     0      0      0 --:--:-- --:--:-- --:--:--     0
100  636k  100  636k    0     0  2606k      0 --:--:-- --:--:-- --:--:-- 2606k

install for i386

* installing *source* package 'signatureSearchData' ...
** using staged installation
** R
** inst
** byte-compile and prepare package for lazy loading
** help
*** installing help indices
  converting help for package 'signatureSearchData'
    finding HTML links ... done
    ES_NULL                                 html  
REDIRECT:topic	 ES_NULL -> ES_NULL.html [ SUCCESS ]
    GO_DATA                                 html  
REDIRECT:topic	 GO_DATA -> GO_DATA.html [ SUCCESS ]
    GO_DATA_drug                            html  
REDIRECT:topic	 GO_DATA_drug -> GO_DATA_drug.html [ SUCCESS ]
    cmap                                    html  
REDIRECT:topic	 cmap -> cmap.html [ SUCCESS ]
    cmap_expr                               html  
REDIRECT:topic	 cmap_expr -> cmap_expr.html [ SUCCESS ]
    cmap_rank                               html  
REDIRECT:topic	 cmap_rank -> cmap_rank.html [ SUCCESS ]
    combineNormRes                          html  
REDIRECT:topic	 combineNormRes -> combineNormRes.html [ SUCCESS ]
    combineResults                          html  
REDIRECT:topic	 combineResults -> combineResults.html [ SUCCESS ]
    dtlink_db_clue_sti                      html  
REDIRECT:topic	 dtlink_db_clue_sti -> dtlink_db_clue_sti.html [ SUCCESS ]
    getCmapCEL                              html  
REDIRECT:topic	 getCmapCEL -> getCmapCEL.html [ SUCCESS ]
    goAnno                                  html  
REDIRECT:topic	 goAnno -> goAnno.html [ SUCCESS ]
    goAnno_drug                             html  
REDIRECT:topic	 goAnno_drug -> goAnno_drug.html [ SUCCESS ]
    inst_filter                             html  
REDIRECT:topic	 inst_filter -> inst_filter.html [ SUCCESS ]
    lincs                                   html  
REDIRECT:topic	 lincs -> lincs.html [ SUCCESS ]
    lincs_expr                              html  
REDIRECT:topic	 lincs_expr -> lincs_expr.html [ SUCCESS ]
    meanExpr                                html  
REDIRECT:topic	 meanExpr -> meanExpr.html [ SUCCESS ]
    meanExpr2h5                             html  
REDIRECT:topic	 meanExpr2h5 -> meanExpr2h5.html [ SUCCESS ]
    normalizeCel                            html  
REDIRECT:topic	 normalizeCel -> normalizeCel.html [ SUCCESS ]
    probe2gene                              html  
REDIRECT:topic	 probe2gene -> probe2gene.html [ SUCCESS ]
    runLimma                                html  
REDIRECT:topic	 runLimma -> runLimma.html [ SUCCESS ]
    sampleList                              html  
REDIRECT:topic	 sampleList -> sampleList.html [ SUCCESS ]
    sig_filter                              html  
REDIRECT:topic	 sig_filter -> sig_filter.html [ SUCCESS ]
    signatureSearchData                     html  
REDIRECT:topic	 signatureSearchData -> signatureSearchData.html [ SUCCESS ]
    taurefList                              html  
REDIRECT:topic	 taurefList -> taurefList.html [ SUCCESS ]
** building package indices
** installing vignettes
** testing if installed package can be loaded from temporary location
** testing if installed package can be loaded from final location
** testing if installed package keeps a record of temporary installation path

install for x64

* installing *source* package 'signatureSearchData' ...
** testing if installed package can be loaded
* MD5 sums
packaged installation of 'signatureSearchData' as signatureSearchData_1.5.0.zip
* DONE (signatureSearchData)
* installing to library 'D:/biocbuild/bbs-3.13-bioc/R/library'
package 'signatureSearchData' successfully unpacked and MD5 sums checked