Back to Multiple platform build/check report for BioC 3.13 experimental data |
|
This page was generated on 2021-01-21 16:01:39 -0500 (Thu, 21 Jan 2021).
TO THE DEVELOPERS/MAINTAINERS OF THE shinyMethylData PACKAGE: Please make sure to use the following settings in order to reproduce any error or warning you see on this page. |
Package 332/386 | Hostname | OS / Arch | INSTALL | BUILD | CHECK | ||||||
shinyMethylData 1.11.0 Jean-Philippe Fortin
| malbec2 | Linux (Ubuntu 20.04.1 LTS) / x86_64 | OK | OK | OK | ![]() | |||||
riesling1 | Windows Server 2019 Standard / x64 | OK | [ OK ] | OK |
Package: shinyMethylData |
Version: 1.11.0 |
Command: chmod a+r shinyMethylData -R && D:\biocbuild\bbs-3.13-bioc\R\bin\R.exe CMD build --keep-empty-dirs --no-resave-data shinyMethylData |
StartedAt: 2021-01-21 10:58:08 -0500 (Thu, 21 Jan 2021) |
EndedAt: 2021-01-21 10:58:11 -0500 (Thu, 21 Jan 2021) |
EllapsedTime: 3.1 seconds |
RetCode: 0 |
Status: OK |
PackageFile: shinyMethylData_1.11.0.tar.gz |
PackageFileSize: 35.58 MiB |
############################################################################## ############################################################################## ### ### Running command: ### ### chmod a+r shinyMethylData -R && D:\biocbuild\bbs-3.13-bioc\R\bin\R.exe CMD build --keep-empty-dirs --no-resave-data shinyMethylData ### ############################################################################## ############################################################################## * checking for file 'shinyMethylData/DESCRIPTION' ... OK * preparing 'shinyMethylData': * checking DESCRIPTION meta-information ... OK * checking for LF line-endings in source and make files and shell scripts * checking for empty or unneeded directories * building 'shinyMethylData_1.11.0.tar.gz'