Back to Multiple platform build/check report for BioC 3.13 experimental data
ABCDEFGHIJKLMNOPQR[S]TUVWXYZ

INSTALL report for seventyGeneData on riesling1

This page was generated on 2021-01-14 15:59:11 -0500 (Thu, 14 Jan 2021).

TO THE DEVELOPERS/MAINTAINERS OF THE seventyGeneData PACKAGE: Please make sure to use the following settings in order to reproduce any error or warning you see on this page.
Package 330/385HostnameOS / ArchINSTALLBUILDCHECK
seventyGeneData 1.27.0
Luigi Marchionni
Snapshot Date: 2021-01-14 09:00:13 -0500 (Thu, 14 Jan 2021)
URL: https://git.bioconductor.org/packages/seventyGeneData
Branch: master
Last Commit: 02cf375
Last Changed Date: 2020-10-27 10:04:12 -0500 (Tue, 27 Oct 2020)
malbec2 Linux (Ubuntu 20.04.1 LTS) / x86_64  OK  OK  OK UNNEEDED, same version exists in internal repository
riesling1 Windows Server 2019 Standard / x64 [ OK ] OK  OK 

Summary

Package: seventyGeneData
Version: 1.27.0
Command: C:\cygwin\bin\curl.exe -O http://172.29.0.4/BBS/3.13/data-experiment/src/contrib/seventyGeneData_1.27.0.tar.gz && rm -rf seventyGeneData.buildbin-libdir && mkdir seventyGeneData.buildbin-libdir && D:\biocbuild\bbs-3.13-bioc\R\bin\R.exe CMD INSTALL --merge-multiarch --build --library=seventyGeneData.buildbin-libdir seventyGeneData_1.27.0.tar.gz && D:\biocbuild\bbs-3.13-bioc\R\bin\R.exe CMD INSTALL seventyGeneData_1.27.0.zip && rm seventyGeneData_1.27.0.tar.gz seventyGeneData_1.27.0.zip
StartedAt: 2021-01-14 09:57:24 -0500 (Thu, 14 Jan 2021)
EndedAt: 2021-01-14 10:00:14 -0500 (Thu, 14 Jan 2021)
EllapsedTime: 170.4 seconds
RetCode: 0
Status:  OK  

Command output

##############################################################################
##############################################################################
###
### Running command:
###
###   C:\cygwin\bin\curl.exe -O http://172.29.0.4/BBS/3.13/data-experiment/src/contrib/seventyGeneData_1.27.0.tar.gz && rm -rf seventyGeneData.buildbin-libdir && mkdir seventyGeneData.buildbin-libdir && D:\biocbuild\bbs-3.13-bioc\R\bin\R.exe CMD INSTALL --merge-multiarch --build --library=seventyGeneData.buildbin-libdir seventyGeneData_1.27.0.tar.gz && D:\biocbuild\bbs-3.13-bioc\R\bin\R.exe CMD INSTALL seventyGeneData_1.27.0.zip && rm seventyGeneData_1.27.0.tar.gz seventyGeneData_1.27.0.zip
###
##############################################################################
##############################################################################


  % Total    % Received % Xferd  Average Speed   Time    Time     Time  Current
                                 Dload  Upload   Total   Spent    Left  Speed

  0     0    0     0    0     0      0      0 --:--:-- --:--:-- --:--:--     0
  0  144M    0 15812    0     0   123k      0  0:20:00 --:--:--  0:20:00  122k
 52  144M   52 75.5M    0     0  70.2M      0  0:00:02  0:00:01  0:00:01 70.1M
100  144M  100  144M    0     0  79.8M      0  0:00:01  0:00:01 --:--:-- 79.8M

install for i386

* installing *source* package 'seventyGeneData' ...
** using staged installation
** data
** inst
** help
*** installing help indices
  converting help for package 'seventyGeneData'
    finding HTML links ... done
    seventyGeneData                         html  
REDIRECT:topic	 seventyGeneData-package -> seventyGeneData.html [ SUCCESS ]
REDIRECT:topic	 seventyGeneData -> seventyGeneData.html [ SUCCESS ]
    vanDeVijver                             html  
REDIRECT:topic	 vanDeVijver -> vanDeVijver.html [ SUCCESS ]
    vantVeer                                html  
REDIRECT:topic	 vantVeer -> vantVeer.html [ SUCCESS ]
** building package indices
** installing vignettes
** testing if installed package can be loaded from temporary location
** testing if installed package can be loaded from final location
** testing if installed package keeps a record of temporary installation path

install for x64

* installing *source* package 'seventyGeneData' ...
** testing if installed package can be loaded
* MD5 sums
packaged installation of 'seventyGeneData' as seventyGeneData_1.27.0.zip
* DONE (seventyGeneData)
* installing to library 'D:/biocbuild/bbs-3.13-bioc/R/library'
package 'seventyGeneData' successfully unpacked and MD5 sums checked