Back to Multiple platform build/check report for BioC 3.13 experimental data
ABCDEFGHIJKLMNOPQR[S]TUVWXYZ

BUILD report for seventyGeneData on riesling1

This page was generated on 2021-01-21 16:01:38 -0500 (Thu, 21 Jan 2021).

TO THE DEVELOPERS/MAINTAINERS OF THE seventyGeneData PACKAGE: Please make sure to use the following settings in order to reproduce any error or warning you see on this page.
Package 331/386HostnameOS / ArchINSTALLBUILDCHECK
seventyGeneData 1.27.0
Luigi Marchionni
Snapshot Date: 2021-01-21 09:00:14 -0500 (Thu, 21 Jan 2021)
URL: https://git.bioconductor.org/packages/seventyGeneData
Branch: master
Last Commit: 02cf375
Last Changed Date: 2020-10-27 10:04:12 -0500 (Tue, 27 Oct 2020)
malbec2 Linux (Ubuntu 20.04.1 LTS) / x86_64  OK  OK  OK UNNEEDED, same version exists in internal repository
riesling1 Windows Server 2019 Standard / x64  OK [ OK ] OK 

Summary

Package: seventyGeneData
Version: 1.27.0
Command: chmod a+r seventyGeneData -R && D:\biocbuild\bbs-3.13-bioc\R\bin\R.exe CMD build --keep-empty-dirs --no-resave-data seventyGeneData
StartedAt: 2021-01-21 10:57:45 -0500 (Thu, 21 Jan 2021)
EndedAt: 2021-01-21 10:58:54 -0500 (Thu, 21 Jan 2021)
EllapsedTime: 69.3 seconds
RetCode: 0
Status:  OK  
PackageFile: seventyGeneData_1.27.0.tar.gz
PackageFileSize: 145 MiB

Command output

##############################################################################
##############################################################################
###
### Running command:
###
###   chmod a+r seventyGeneData -R && D:\biocbuild\bbs-3.13-bioc\R\bin\R.exe CMD build --keep-empty-dirs --no-resave-data seventyGeneData
###
##############################################################################
##############################################################################


* checking for file 'seventyGeneData/DESCRIPTION' ... OK
* preparing 'seventyGeneData':
* checking DESCRIPTION meta-information ... OK
* checking whether 'INDEX' is up-to-date ... NO
* use '--force' to remove the existing 'INDEX'
* installing the package to build vignettes
* creating vignettes ... OK
* checking for LF line-endings in source and make files and shell scripts
* checking for empty or unneeded directories
* looking to see if a 'data/datalist' file should be added
* building 'seventyGeneData_1.27.0.tar.gz'