Back to Multiple platform build/check report for BioC 3.13 experimental data
ABCDEFGHIJKLMNOPQR[S]TUVWXYZ

BUILD report for sesameData on riesling1

This page was generated on 2021-01-21 16:01:38 -0500 (Thu, 21 Jan 2021).

TO THE DEVELOPERS/MAINTAINERS OF THE sesameData PACKAGE: Please make sure to use the following settings in order to reproduce any error or warning you see on this page.
Package 330/386HostnameOS / ArchINSTALLBUILDCHECK
sesameData 1.9.4
Wanding Zhou
Snapshot Date: 2021-01-21 09:00:14 -0500 (Thu, 21 Jan 2021)
URL: https://git.bioconductor.org/packages/sesameData
Branch: master
Last Commit: 8c98e79
Last Changed Date: 2021-01-15 16:33:33 -0500 (Fri, 15 Jan 2021)
malbec2 Linux (Ubuntu 20.04.1 LTS) / x86_64  OK  OK  OK UNNEEDED, same version exists in internal repository
riesling1 Windows Server 2019 Standard / x64  OK [ OK ] OK 

Summary

Package: sesameData
Version: 1.9.4
Command: chmod a+r sesameData -R && D:\biocbuild\bbs-3.13-bioc\R\bin\R.exe CMD build --keep-empty-dirs --no-resave-data sesameData
StartedAt: 2021-01-21 10:57:43 -0500 (Thu, 21 Jan 2021)
EndedAt: 2021-01-21 10:58:57 -0500 (Thu, 21 Jan 2021)
EllapsedTime: 74.6 seconds
RetCode: 0
Status:  OK  
PackageFile: sesameData_1.9.4.tar.gz
PackageFileSize: 1.465 MiB

Command output

##############################################################################
##############################################################################
###
### Running command:
###
###   chmod a+r sesameData -R && D:\biocbuild\bbs-3.13-bioc\R\bin\R.exe CMD build --keep-empty-dirs --no-resave-data sesameData
###
##############################################################################
##############################################################################


* checking for file 'sesameData/DESCRIPTION' ... OK
* preparing 'sesameData':
* checking DESCRIPTION meta-information ... OK
* installing the package to build vignettes
* creating vignettes ... OK
* checking for LF line-endings in source and make files and shell scripts
* checking for empty or unneeded directories
* building 'sesameData_1.9.4.tar.gz'