Back to Multiple platform build/check report for BioC 3.13 experimental data
ABCDEFGHIJKLMNOPQR[S]TUVWXYZ

BUILD report for serumStimulation on riesling1

This page was generated on 2021-01-14 15:59:11 -0500 (Thu, 14 Jan 2021).

TO THE DEVELOPERS/MAINTAINERS OF THE serumStimulation PACKAGE: Please make sure to use the following settings in order to reproduce any error or warning you see on this page.
Package 328/385HostnameOS / ArchINSTALLBUILDCHECK
serumStimulation 1.27.0
Morten Hansen,
Snapshot Date: 2021-01-14 09:00:13 -0500 (Thu, 14 Jan 2021)
URL: https://git.bioconductor.org/packages/serumStimulation
Branch: master
Last Commit: 95f9f19
Last Changed Date: 2020-10-27 09:54:29 -0500 (Tue, 27 Oct 2020)
malbec2 Linux (Ubuntu 20.04.1 LTS) / x86_64  OK  OK  OK UNNEEDED, same version exists in internal repository
riesling1 Windows Server 2019 Standard / x64  OK [ OK ] OK 

Summary

Package: serumStimulation
Version: 1.27.0
Command: chmod a+r serumStimulation -R && D:\biocbuild\bbs-3.13-bioc\R\bin\R.exe CMD build --keep-empty-dirs --no-resave-data serumStimulation
StartedAt: 2021-01-14 10:53:40 -0500 (Thu, 14 Jan 2021)
EndedAt: 2021-01-14 10:53:42 -0500 (Thu, 14 Jan 2021)
EllapsedTime: 2.3 seconds
RetCode: 0
Status:  OK  
PackageFile: serumStimulation_1.27.0.tar.gz
PackageFileSize: 4.041 MiB

Command output

##############################################################################
##############################################################################
###
### Running command:
###
###   chmod a+r serumStimulation -R && D:\biocbuild\bbs-3.13-bioc\R\bin\R.exe CMD build --keep-empty-dirs --no-resave-data serumStimulation
###
##############################################################################
##############################################################################


* checking for file 'serumStimulation/DESCRIPTION' ... OK
* preparing 'serumStimulation':
* checking DESCRIPTION meta-information ... OK
* checking for LF line-endings in source and make files and shell scripts
* checking for empty or unneeded directories
* looking to see if a 'data/datalist' file should be added
* building 'serumStimulation_1.27.0.tar.gz'