Back to Multiple platform build/check report for BioC 3.13 experimental data
ABCDEFGHIJKLMNOPQR[S]TUVWXYZ

CHECK report for seqCNA.annot on riesling1

This page was generated on 2021-01-21 16:01:38 -0500 (Thu, 21 Jan 2021).

TO THE DEVELOPERS/MAINTAINERS OF THE seqCNA.annot PACKAGE: Please make sure to use the following settings in order to reproduce any error or warning you see on this page.
Package 328/386HostnameOS / ArchINSTALLBUILDCHECK
seqCNA.annot 1.27.0
David Mosen-Ansorena
Snapshot Date: 2021-01-21 09:00:14 -0500 (Thu, 21 Jan 2021)
URL: https://git.bioconductor.org/packages/seqCNA.annot
Branch: master
Last Commit: 1adfbd1
Last Changed Date: 2020-10-27 10:04:53 -0500 (Tue, 27 Oct 2020)
malbec2 Linux (Ubuntu 20.04.1 LTS) / x86_64  OK  OK  OK UNNEEDED, same version exists in internal repository
riesling1 Windows Server 2019 Standard / x64  OK  OK [ OK ]

Summary

Package: seqCNA.annot
Version: 1.27.0
Command: D:\biocbuild\bbs-3.13-bioc\R\bin\R.exe CMD check --force-multiarch --install=check:seqCNA.annot.install-out.txt --library=D:\biocbuild\bbs-3.13-bioc\R\library --no-vignettes --timings seqCNA.annot_1.27.0.tar.gz
StartedAt: 2021-01-21 11:47:04 -0500 (Thu, 21 Jan 2021)
EndedAt: 2021-01-21 11:47:45 -0500 (Thu, 21 Jan 2021)
EllapsedTime: 41.2 seconds
RetCode: 0
Status:  OK  
CheckDir: seqCNA.annot.Rcheck
Warnings: 0

Command output

##############################################################################
##############################################################################
###
### Running command:
###
###   D:\biocbuild\bbs-3.13-bioc\R\bin\R.exe CMD check --force-multiarch --install=check:seqCNA.annot.install-out.txt --library=D:\biocbuild\bbs-3.13-bioc\R\library --no-vignettes --timings seqCNA.annot_1.27.0.tar.gz
###
##############################################################################
##############################################################################


* using log directory 'D:/biocbuild/bbs-3.13-data-experiment/meat/seqCNA.annot.Rcheck'
* using R Under development (unstable) (2020-12-30 r79736)
* using platform: x86_64-w64-mingw32 (64-bit)
* using session charset: ISO8859-1
* using option '--no-vignettes'
* checking for file 'seqCNA.annot/DESCRIPTION' ... OK
* checking extension type ... Package
* this is package 'seqCNA.annot' version '1.27.0'
* checking package namespace information ... OK
* checking package dependencies ... OK
* checking if this is a source package ... OK
* checking if there is a namespace ... OK
* checking for hidden files and directories ... OK
* checking for portable file names ... OK
* checking whether package 'seqCNA.annot' can be installed ... OK
* checking installed package size ... NOTE
  installed size is 14.6Mb
  sub-directories of 1Mb or more:
    data  14.5Mb
* checking package directory ... OK
* checking DESCRIPTION meta-information ... NOTE
Malformed Description field: should contain one or more complete sentences.
* checking top-level files ... OK
* checking for left-over files ... OK
* checking index information ... OK
* checking package subdirectories ... OK
* checking R files for non-ASCII characters ... OK
* checking R files for syntax errors ... OK
* loading checks for arch 'i386'
** checking whether the package can be loaded ... OK
** checking whether the package can be loaded with stated dependencies ... OK
** checking whether the package can be unloaded cleanly ... OK
** checking whether the namespace can be loaded with stated dependencies ... OK
** checking whether the namespace can be unloaded cleanly ... OK
* loading checks for arch 'x64'
** checking whether the package can be loaded ... OK
** checking whether the package can be loaded with stated dependencies ... OK
** checking whether the package can be unloaded cleanly ... OK
** checking whether the namespace can be loaded with stated dependencies ... OK
** checking whether the namespace can be unloaded cleanly ... OK
* checking dependencies in R code ... OK
* checking S3 generic/method consistency ... OK
* checking replacement functions ... OK
* checking foreign function calls ... OK
* checking R code for possible problems ... OK
* checking Rd files ... OK
* checking Rd metadata ... OK
* checking Rd cross-references ... OK
* checking for missing documentation entries ... OK
* checking for code/documentation mismatches ... OK
* checking Rd \usage sections ... OK
* checking Rd contents ... OK
* checking for unstated dependencies in examples ... OK
* checking contents of 'data' directory ... OK
* checking data for non-ASCII characters ... OK
* checking data for ASCII and uncompressed saves ... OK
* checking examples ...
** running examples for arch 'i386' ... OK
** running examples for arch 'x64' ... OK
* checking PDF version of manual ... OK
* DONE

Status: 2 NOTEs
See
  'D:/biocbuild/bbs-3.13-data-experiment/meat/seqCNA.annot.Rcheck/00check.log'
for details.



Installation output

seqCNA.annot.Rcheck/00install.out

##############################################################################
##############################################################################
###
### Running command:
###
###   C:\cygwin\bin\curl.exe -O http://172.29.0.4/BBS/3.13/data-experiment/src/contrib/seqCNA.annot_1.27.0.tar.gz && rm -rf seqCNA.annot.buildbin-libdir && mkdir seqCNA.annot.buildbin-libdir && D:\biocbuild\bbs-3.13-bioc\R\bin\R.exe CMD INSTALL --merge-multiarch --build --library=seqCNA.annot.buildbin-libdir seqCNA.annot_1.27.0.tar.gz && D:\biocbuild\bbs-3.13-bioc\R\bin\R.exe CMD INSTALL seqCNA.annot_1.27.0.zip && rm seqCNA.annot_1.27.0.tar.gz seqCNA.annot_1.27.0.zip
###
##############################################################################
##############################################################################


  % Total    % Received % Xferd  Average Speed   Time    Time     Time  Current
                                 Dload  Upload   Total   Spent    Left  Speed

  0     0    0     0    0     0      0      0 --:--:-- --:--:-- --:--:--     0
100 14.4M  100 14.4M    0     0  44.1M      0 --:--:-- --:--:-- --:--:-- 44.2M

install for i386

* installing *source* package 'seqCNA.annot' ...
** using staged installation
** R
** data
** inst
** byte-compile and prepare package for lazy loading
** help
*** installing help indices
  converting help for package 'seqCNA.annot'
    finding HTML links ... done
    hg18                                    html  
REDIRECT:topic	 hg18 -> hg18.html [ SUCCESS ]
    hg18_len                                html  
REDIRECT:topic	 hg18_len -> hg18_len.html [ SUCCESS ]
    hg19                                    html  
REDIRECT:topic	 hg19 -> hg19.html [ SUCCESS ]
    hg19_len                                html  
REDIRECT:topic	 hg19_len -> hg19_len.html [ SUCCESS ]
    seqCNA.annot-package                    html  
REDIRECT:topic	 seqCNA.annot-package -> seqCNA.annot-package.html [ SUCCESS ]
REDIRECT:topic	 seqCNA.annot -> seqCNA.annot-package.html [ SUCCESS ]
    supported.builds                        html  
REDIRECT:topic	 supported.builds -> supported.builds.html [ SUCCESS ]
** building package indices
** testing if installed package can be loaded from temporary location
** testing if installed package can be loaded from final location
** testing if installed package keeps a record of temporary installation path

install for x64

* installing *source* package 'seqCNA.annot' ...
** testing if installed package can be loaded
* MD5 sums
packaged installation of 'seqCNA.annot' as seqCNA.annot_1.27.0.zip
* DONE (seqCNA.annot)
* installing to library 'D:/biocbuild/bbs-3.13-bioc/R/library'
package 'seqCNA.annot' successfully unpacked and MD5 sums checked

Tests output


Example timings

seqCNA.annot.Rcheck/examples_i386/seqCNA.annot-Ex.timings

nameusersystemelapsed
hg182.350.062.40
hg18_len000
hg192.210.092.30
hg19_len000
supported.builds000

seqCNA.annot.Rcheck/examples_x64/seqCNA.annot-Ex.timings

nameusersystemelapsed
hg182.420.092.51
hg18_len000
hg192.200.142.34
hg19_len000
supported.builds000