Back to Multiple platform build/check report for BioC 3.13 experimental data
ABCDEFGHIJKLMNOPQR[S]TUVWXYZ

BUILD report for seqCNA.annot on riesling1

This page was generated on 2021-01-14 15:59:11 -0500 (Thu, 14 Jan 2021).

TO THE DEVELOPERS/MAINTAINERS OF THE seqCNA.annot PACKAGE: Please make sure to use the following settings in order to reproduce any error or warning you see on this page.
Package 327/385HostnameOS / ArchINSTALLBUILDCHECK
seqCNA.annot 1.27.0
David Mosen-Ansorena
Snapshot Date: 2021-01-14 09:00:13 -0500 (Thu, 14 Jan 2021)
URL: https://git.bioconductor.org/packages/seqCNA.annot
Branch: master
Last Commit: 1adfbd1
Last Changed Date: 2020-10-27 10:04:53 -0500 (Tue, 27 Oct 2020)
malbec2 Linux (Ubuntu 20.04.1 LTS) / x86_64  OK  OK  OK UNNEEDED, same version exists in internal repository
riesling1 Windows Server 2019 Standard / x64  OK [ OK ] OK 

Summary

Package: seqCNA.annot
Version: 1.27.0
Command: chmod a+r seqCNA.annot -R && D:\biocbuild\bbs-3.13-bioc\R\bin\R.exe CMD build --keep-empty-dirs --no-resave-data seqCNA.annot
StartedAt: 2021-01-14 10:53:37 -0500 (Thu, 14 Jan 2021)
EndedAt: 2021-01-14 10:53:40 -0500 (Thu, 14 Jan 2021)
EllapsedTime: 2.6 seconds
RetCode: 0
Status:  OK  
PackageFile: seqCNA.annot_1.27.0.tar.gz
PackageFileSize: 14.47 MiB

Command output

##############################################################################
##############################################################################
###
### Running command:
###
###   chmod a+r seqCNA.annot -R && D:\biocbuild\bbs-3.13-bioc\R\bin\R.exe CMD build --keep-empty-dirs --no-resave-data seqCNA.annot
###
##############################################################################
##############################################################################


* checking for file 'seqCNA.annot/DESCRIPTION' ... OK
* preparing 'seqCNA.annot':
* checking DESCRIPTION meta-information ... OK
* checking for LF line-endings in source and make files and shell scripts
* checking for empty or unneeded directories
* looking to see if a 'data/datalist' file should be added
* building 'seqCNA.annot_1.27.0.tar.gz'