Back to Multiple platform build/check report for BioC 3.13 experimental data
ABCDEFGHIJKLMNOPQR[S]TUVWXYZ

INSTALL report for seq2pathway.data on riesling1

This page was generated on 2021-01-14 15:59:11 -0500 (Thu, 14 Jan 2021).

TO THE DEVELOPERS/MAINTAINERS OF THE seq2pathway.data PACKAGE: Please make sure to use the following settings in order to reproduce any error or warning you see on this page.
Package 325/385HostnameOS / ArchINSTALLBUILDCHECK
seq2pathway.data 1.23.0
Xinan Holly Yang
Snapshot Date: 2021-01-14 09:00:13 -0500 (Thu, 14 Jan 2021)
URL: https://git.bioconductor.org/packages/seq2pathway.data
Branch: master
Last Commit: 88fe5e9
Last Changed Date: 2020-10-27 10:11:18 -0500 (Tue, 27 Oct 2020)
malbec2 Linux (Ubuntu 20.04.1 LTS) / x86_64  OK  OK  WARNINGS UNNEEDED, same version exists in internal repository
riesling1 Windows Server 2019 Standard / x64 [ OK ] OK  WARNINGS 

Summary

Package: seq2pathway.data
Version: 1.23.0
Command: C:\cygwin\bin\curl.exe -O http://172.29.0.4/BBS/3.13/data-experiment/src/contrib/seq2pathway.data_1.23.0.tar.gz && rm -rf seq2pathway.data.buildbin-libdir && mkdir seq2pathway.data.buildbin-libdir && D:\biocbuild\bbs-3.13-bioc\R\bin\R.exe CMD INSTALL --merge-multiarch --build --library=seq2pathway.data.buildbin-libdir seq2pathway.data_1.23.0.tar.gz && D:\biocbuild\bbs-3.13-bioc\R\bin\R.exe CMD INSTALL seq2pathway.data_1.23.0.zip && rm seq2pathway.data_1.23.0.tar.gz seq2pathway.data_1.23.0.zip
StartedAt: 2021-01-14 09:51:51 -0500 (Thu, 14 Jan 2021)
EndedAt: 2021-01-14 09:52:47 -0500 (Thu, 14 Jan 2021)
EllapsedTime: 56.4 seconds
RetCode: 0
Status:  OK  

Command output

##############################################################################
##############################################################################
###
### Running command:
###
###   C:\cygwin\bin\curl.exe -O http://172.29.0.4/BBS/3.13/data-experiment/src/contrib/seq2pathway.data_1.23.0.tar.gz && rm -rf seq2pathway.data.buildbin-libdir && mkdir seq2pathway.data.buildbin-libdir && D:\biocbuild\bbs-3.13-bioc\R\bin\R.exe CMD INSTALL --merge-multiarch --build --library=seq2pathway.data.buildbin-libdir seq2pathway.data_1.23.0.tar.gz && D:\biocbuild\bbs-3.13-bioc\R\bin\R.exe CMD INSTALL seq2pathway.data_1.23.0.zip && rm seq2pathway.data_1.23.0.tar.gz seq2pathway.data_1.23.0.zip
###
##############################################################################
##############################################################################


  % Total    % Received % Xferd  Average Speed   Time    Time     Time  Current
                                 Dload  Upload   Total   Spent    Left  Speed

  0     0    0     0    0     0      0      0 --:--:-- --:--:-- --:--:--     0
  0 49.5M    0  149k    0     0   701k      0  0:01:12 --:--:--  0:01:12  698k
 79 49.5M   79 39.3M    0     0  33.6M      0  0:00:01  0:00:01 --:--:-- 33.6M
 92 49.5M   92 46.0M    0     0  19.5M      0  0:00:02  0:00:02 --:--:-- 19.5M
100 49.5M  100 49.5M    0     0  20.7M      0  0:00:02  0:00:02 --:--:-- 20.7M

install for i386

* installing *source* package 'seq2pathway.data' ...
** using staged installation
** data
** inst
** help
*** installing help indices
  converting help for package 'seq2pathway.data'
    finding HTML links ... done
    Des_BP_list                             html  
REDIRECT:topic	 Des_BP_list -> Des_BP_list.html [ SUCCESS ]
    Des_CC_list                             html  
REDIRECT:topic	 Des_CC_list -> Des_CC_list.html [ SUCCESS ]
    Des_MF_list                             html  
REDIRECT:topic	 Des_MF_list -> Des_MF_list.html [ SUCCESS ]
    GO_BP_list                              html  
REDIRECT:topic	 GO_BP_list -> GO_BP_list.html [ SUCCESS ]
    GO_CC_list                              html  
REDIRECT:topic	 GO_CC_list -> GO_CC_list.html [ SUCCESS ]
    GO_GENCODE_df_hg_v19                    html  
REDIRECT:topic	 GO_GENCODE_df_hg_v19 -> GO_GENCODE_df_hg_v19.html [ SUCCESS ]
    GO_GENCODE_df_hg_v20                    html  
REDIRECT:topic	 GO_GENCODE_df_hg_v20 -> GO_GENCODE_df_hg_v20.html [ SUCCESS ]
    GO_GENCODE_df_mm_vM1                    html  
REDIRECT:topic	 GO_GENCODE_df_mm_vM1 -> GO_GENCODE_df_mm_vM1.html [ SUCCESS ]
    GO_GENCODE_df_mm_vM3                    html  
REDIRECT:topic	 GO_GENCODE_df_mm_vM3 -> GO_GENCODE_df_mm_vM3.html [ SUCCESS ]
    GO_GENCODE_df_mm_vM4                    html  
REDIRECT:topic	 GO_GENCODE_df_mm_vM4 -> GO_GENCODE_df_mm_vM4.html [ SUCCESS ]
    GO_MF_list                              html  
REDIRECT:topic	 GO_MF_list -> GO_MF_list.html [ SUCCESS ]
    MsigDB_C5                               html  
REDIRECT:topic	 MsigDB_C5 -> MsigDB_C5.html [ SUCCESS ]
    Msig_GENCODE_df_hg_v19                  html  
REDIRECT:topic	 Msig_GENCODE_df_hg_v19 -> Msig_GENCODE_df_hg_v19.html [ SUCCESS ]
    Msig_GENCODE_df_hg_v20                  html  
REDIRECT:topic	 Msig_GENCODE_df_hg_v20 -> Msig_GENCODE_df_hg_v20.html [ SUCCESS ]
    Msig_GENCODE_df_mm_vM1                  html  
REDIRECT:topic	 Msig_GENCODE_df_mm_vM1 -> Msig_GENCODE_df_mm_vM1.html [ SUCCESS ]
    Msig_GENCODE_df_mm_vM3                  html  
REDIRECT:topic	 Msig_GENCODE_df_mm_vM3 -> Msig_GENCODE_df_mm_vM3.html [ SUCCESS ]
    Msig_GENCODE_df_mm_vM4                  html  
REDIRECT:topic	 Msig_GENCODE_df_mm_vM4 -> Msig_GENCODE_df_mm_vM4.html [ SUCCESS ]
    dat_gene2path_RNA                       html  
REDIRECT:topic	 dat_gene2path_RNA -> dat_gene2path_RNA.html [ SUCCESS ]
    dat_gene2path_chip                      html  
REDIRECT:topic	 dat_gene2path_chip -> dat_gene2path_chip.html [ SUCCESS ]
    dat_seq2pathway_GOterms                 html  
REDIRECT:topic	 dat_seq2pathway_GOterms -> dat_seq2pathway_GOterms.html [ SUCCESS ]
    dat_seq2pathway_Msig                    html  
REDIRECT:topic	 dat_seq2pathway_Msig -> dat_seq2pathway_Msig.html [ SUCCESS ]
    gencode_coding                          html  
REDIRECT:topic	 gencode_coding -> gencode_coding.html [ SUCCESS ]
    gene_description                        html  
REDIRECT:topic	 gene_description -> gene_description.html [ SUCCESS ]
** building package indices
** installing vignettes
** testing if installed package can be loaded from temporary location
** testing if installed package can be loaded from final location
** testing if installed package keeps a record of temporary installation path

install for x64

* installing *source* package 'seq2pathway.data' ...
** testing if installed package can be loaded
* MD5 sums
packaged installation of 'seq2pathway.data' as seq2pathway.data_1.23.0.zip
* DONE (seq2pathway.data)
* installing to library 'D:/biocbuild/bbs-3.13-bioc/R/library'
package 'seq2pathway.data' successfully unpacked and MD5 sums checked