Back to Multiple platform build/check report for BioC 3.13 experimental data
ABCDEFGHIJKLMNOPQR[S]TUVWXYZ

INSTALL report for scTHI.data on riesling1

This page was generated on 2021-01-14 15:59:11 -0500 (Thu, 14 Jan 2021).

TO THE DEVELOPERS/MAINTAINERS OF THE scTHI.data PACKAGE: Please make sure to use the following settings in order to reproduce any error or warning you see on this page.
Package 324/385HostnameOS / ArchINSTALLBUILDCHECK
scTHI.data 1.3.0
Michele Ceccarelli
Snapshot Date: 2021-01-14 09:00:13 -0500 (Thu, 14 Jan 2021)
URL: https://git.bioconductor.org/packages/scTHI.data
Branch: master
Last Commit: 368609b
Last Changed Date: 2020-10-27 10:31:18 -0500 (Tue, 27 Oct 2020)
malbec2 Linux (Ubuntu 20.04.1 LTS) / x86_64  OK  OK  OK UNNEEDED, same version exists in internal repository
riesling1 Windows Server 2019 Standard / x64 [ OK ] OK  OK 

Summary

Package: scTHI.data
Version: 1.3.0
Command: C:\cygwin\bin\curl.exe -O http://172.29.0.4/BBS/3.13/data-experiment/src/contrib/scTHI.data_1.3.0.tar.gz && rm -rf scTHI.data.buildbin-libdir && mkdir scTHI.data.buildbin-libdir && D:\biocbuild\bbs-3.13-bioc\R\bin\R.exe CMD INSTALL --merge-multiarch --build --library=scTHI.data.buildbin-libdir scTHI.data_1.3.0.tar.gz && D:\biocbuild\bbs-3.13-bioc\R\bin\R.exe CMD INSTALL scTHI.data_1.3.0.zip && rm scTHI.data_1.3.0.tar.gz scTHI.data_1.3.0.zip
StartedAt: 2021-01-14 09:48:57 -0500 (Thu, 14 Jan 2021)
EndedAt: 2021-01-14 09:49:15 -0500 (Thu, 14 Jan 2021)
EllapsedTime: 18.0 seconds
RetCode: 0
Status:  OK  

Command output

##############################################################################
##############################################################################
###
### Running command:
###
###   C:\cygwin\bin\curl.exe -O http://172.29.0.4/BBS/3.13/data-experiment/src/contrib/scTHI.data_1.3.0.tar.gz && rm -rf scTHI.data.buildbin-libdir && mkdir scTHI.data.buildbin-libdir && D:\biocbuild\bbs-3.13-bioc\R\bin\R.exe CMD INSTALL --merge-multiarch --build --library=scTHI.data.buildbin-libdir scTHI.data_1.3.0.tar.gz && D:\biocbuild\bbs-3.13-bioc\R\bin\R.exe CMD INSTALL scTHI.data_1.3.0.zip && rm scTHI.data_1.3.0.tar.gz scTHI.data_1.3.0.zip
###
##############################################################################
##############################################################################


  % Total    % Received % Xferd  Average Speed   Time    Time     Time  Current
                                 Dload  Upload   Total   Spent    Left  Speed

  0     0    0     0    0     0      0      0 --:--:-- --:--:-- --:--:--     0
 29 24.1M   29 7418k    0     0  8224k      0  0:00:03 --:--:--  0:00:03 8214k
 86 24.1M   86 20.7M    0     0  10.7M      0  0:00:02  0:00:01  0:00:01 10.7M
100 24.1M  100 24.1M    0     0  12.2M      0  0:00:01  0:00:01 --:--:-- 12.2M

install for i386

* installing *source* package 'scTHI.data' ...
** using staged installation
** R
** data
** byte-compile and prepare package for lazy loading
** help
*** installing help indices
  converting help for package 'scTHI.data'
    finding HTML links ... done
    H3K27                                   html  
REDIRECT:topic	 H3K27 -> H3K27.html [ SUCCESS ]
    H3K27.meta                              html  
REDIRECT:topic	 H3K27.meta -> H3K27.meta.html [ SUCCESS ]
    MGH45                                   html  
REDIRECT:topic	 MGH45 -> MGH45.html [ SUCCESS ]
    MGH45.annotation                        html  
REDIRECT:topic	 MGH45.annotation -> MGH45.annotation.html [ SUCCESS ]
    scExample                               html  
REDIRECT:topic	 scExample -> scExample.html [ SUCCESS ]
** building package indices
** testing if installed package can be loaded from temporary location
** testing if installed package can be loaded from final location
** testing if installed package keeps a record of temporary installation path

install for x64

* installing *source* package 'scTHI.data' ...
** testing if installed package can be loaded
* MD5 sums
packaged installation of 'scTHI.data' as scTHI.data_1.3.0.zip
* DONE (scTHI.data)
* installing to library 'D:/biocbuild/bbs-3.13-bioc/R/library'
package 'scTHI.data' successfully unpacked and MD5 sums checked