Back to Multiple platform build/check report for BioC 3.13 experimental data
ABCDEFGHIJKLMNOPQR[S]TUVWXYZ

CHECK report for scTHI.data on riesling1

This page was generated on 2021-01-21 16:01:38 -0500 (Thu, 21 Jan 2021).

TO THE DEVELOPERS/MAINTAINERS OF THE scTHI.data PACKAGE: Please make sure to use the following settings in order to reproduce any error or warning you see on this page.
Package 325/386HostnameOS / ArchINSTALLBUILDCHECK
scTHI.data 1.3.0
Michele Ceccarelli
Snapshot Date: 2021-01-21 09:00:14 -0500 (Thu, 21 Jan 2021)
URL: https://git.bioconductor.org/packages/scTHI.data
Branch: master
Last Commit: 368609b
Last Changed Date: 2020-10-27 10:31:18 -0500 (Tue, 27 Oct 2020)
malbec2 Linux (Ubuntu 20.04.1 LTS) / x86_64  OK  OK  OK UNNEEDED, same version exists in internal repository
riesling1 Windows Server 2019 Standard / x64  OK  OK [ OK ]

Summary

Package: scTHI.data
Version: 1.3.0
Command: D:\biocbuild\bbs-3.13-bioc\R\bin\R.exe CMD check --force-multiarch --install=check:scTHI.data.install-out.txt --library=D:\biocbuild\bbs-3.13-bioc\R\library --no-vignettes --timings scTHI.data_1.3.0.tar.gz
StartedAt: 2021-01-21 11:46:37 -0500 (Thu, 21 Jan 2021)
EndedAt: 2021-01-21 11:47:15 -0500 (Thu, 21 Jan 2021)
EllapsedTime: 37.6 seconds
RetCode: 0
Status:  OK  
CheckDir: scTHI.data.Rcheck
Warnings: 0

Command output

##############################################################################
##############################################################################
###
### Running command:
###
###   D:\biocbuild\bbs-3.13-bioc\R\bin\R.exe CMD check --force-multiarch --install=check:scTHI.data.install-out.txt --library=D:\biocbuild\bbs-3.13-bioc\R\library --no-vignettes --timings scTHI.data_1.3.0.tar.gz
###
##############################################################################
##############################################################################


* using log directory 'D:/biocbuild/bbs-3.13-data-experiment/meat/scTHI.data.Rcheck'
* using R Under development (unstable) (2020-12-30 r79736)
* using platform: x86_64-w64-mingw32 (64-bit)
* using session charset: ISO8859-1
* using option '--no-vignettes'
* checking for file 'scTHI.data/DESCRIPTION' ... OK
* checking extension type ... Package
* this is package 'scTHI.data' version '1.3.0'
* package encoding: UTF-8
* checking package namespace information ... OK
* checking package dependencies ... OK
* checking if this is a source package ... OK
* checking if there is a namespace ... OK
* checking for hidden files and directories ... OK
* checking for portable file names ... OK
* checking whether package 'scTHI.data' can be installed ... OK
* checking installed package size ... NOTE
  installed size is 24.4Mb
  sub-directories of 1Mb or more:
    data  24.3Mb
* checking package directory ... OK
* checking DESCRIPTION meta-information ... OK
* checking top-level files ... OK
* checking for left-over files ... OK
* checking index information ... OK
* checking package subdirectories ... OK
* checking R files for non-ASCII characters ... OK
* checking R files for syntax errors ... OK
* loading checks for arch 'i386'
** checking whether the package can be loaded ... OK
** checking whether the package can be loaded with stated dependencies ... OK
** checking whether the package can be unloaded cleanly ... OK
** checking whether the namespace can be loaded with stated dependencies ... OK
** checking whether the namespace can be unloaded cleanly ... OK
* loading checks for arch 'x64'
** checking whether the package can be loaded ... OK
** checking whether the package can be loaded with stated dependencies ... OK
** checking whether the package can be unloaded cleanly ... OK
** checking whether the namespace can be loaded with stated dependencies ... OK
** checking whether the namespace can be unloaded cleanly ... OK
* checking dependencies in R code ... OK
* checking S3 generic/method consistency ... OK
* checking replacement functions ... OK
* checking foreign function calls ... OK
* checking R code for possible problems ... OK
* checking Rd files ... OK
* checking Rd metadata ... OK
* checking Rd cross-references ... OK
* checking for missing documentation entries ... OK
* checking for code/documentation mismatches ... OK
* checking Rd \usage sections ... OK
* checking Rd contents ... OK
* checking for unstated dependencies in examples ... OK
* checking contents of 'data' directory ... OK
* checking data for non-ASCII characters ... OK
* checking data for ASCII and uncompressed saves ... OK
* checking examples ... NONE
* checking PDF version of manual ... OK
* DONE

Status: 1 NOTE
See
  'D:/biocbuild/bbs-3.13-data-experiment/meat/scTHI.data.Rcheck/00check.log'
for details.



Installation output

scTHI.data.Rcheck/00install.out

##############################################################################
##############################################################################
###
### Running command:
###
###   C:\cygwin\bin\curl.exe -O http://172.29.0.4/BBS/3.13/data-experiment/src/contrib/scTHI.data_1.3.0.tar.gz && rm -rf scTHI.data.buildbin-libdir && mkdir scTHI.data.buildbin-libdir && D:\biocbuild\bbs-3.13-bioc\R\bin\R.exe CMD INSTALL --merge-multiarch --build --library=scTHI.data.buildbin-libdir scTHI.data_1.3.0.tar.gz && D:\biocbuild\bbs-3.13-bioc\R\bin\R.exe CMD INSTALL scTHI.data_1.3.0.zip && rm scTHI.data_1.3.0.tar.gz scTHI.data_1.3.0.zip
###
##############################################################################
##############################################################################


  % Total    % Received % Xferd  Average Speed   Time    Time     Time  Current
                                 Dload  Upload   Total   Spent    Left  Speed

  0     0    0     0    0     0      0      0 --:--:-- --:--:-- --:--:--     0
  0 24.1M    0  1213    0     0   7581      0  0:55:42 --:--:--  0:55:42  7534
  3 24.1M    3  788k    0     0   603k      0  0:00:40  0:00:01  0:00:39  603k
  7 24.1M    7 1817k    0     0   849k      0  0:00:29  0:00:02  0:00:27  849k
 11 24.1M   11 2799k    0     0   836k      0  0:00:29  0:00:03  0:00:26  836k
 21 24.1M   21 5333k    0     0  1166k      0  0:00:21  0:00:04  0:00:17 1166k
 29 24.1M   29 7355k    0     0  1298k      0  0:00:19  0:00:05  0:00:14 1335k
 32 24.1M   32 8016k    0     0  1306k      0  0:00:18  0:00:06  0:00:12 1496k
 43 24.1M   43 10.4M    0     0  1471k      0  0:00:16  0:00:07  0:00:09 1731k
100 24.1M  100 24.1M    0     0  3185k      0  0:00:07  0:00:07 --:--:-- 4964k

install for i386

* installing *source* package 'scTHI.data' ...
** using staged installation
** R
** data
** byte-compile and prepare package for lazy loading
** help
*** installing help indices
  converting help for package 'scTHI.data'
    finding HTML links ... done
    H3K27                                   html  
REDIRECT:topic	 H3K27 -> H3K27.html [ SUCCESS ]
    H3K27.meta                              html  
REDIRECT:topic	 H3K27.meta -> H3K27.meta.html [ SUCCESS ]
    MGH45                                   html  
REDIRECT:topic	 MGH45 -> MGH45.html [ SUCCESS ]
    MGH45.annotation                        html  
REDIRECT:topic	 MGH45.annotation -> MGH45.annotation.html [ SUCCESS ]
    scExample                               html  
REDIRECT:topic	 scExample -> scExample.html [ SUCCESS ]
** building package indices
** testing if installed package can be loaded from temporary location
** testing if installed package can be loaded from final location
** testing if installed package keeps a record of temporary installation path

install for x64

* installing *source* package 'scTHI.data' ...
** testing if installed package can be loaded
* MD5 sums
packaged installation of 'scTHI.data' as scTHI.data_1.3.0.zip
* DONE (scTHI.data)
* installing to library 'D:/biocbuild/bbs-3.13-bioc/R/library'
package 'scTHI.data' successfully unpacked and MD5 sums checked

Tests output


Example timings