Name | Last modified | Size | Description | |
---|---|---|---|---|
Parent Directory | - | |||
install-summary.dcf | 17-Oct-2021 04:58 | 263 | ||
buildsrc-summary.dcf | 17-Oct-2021 04:58 | 423 | ||
checksrc-summary.dcf | 17-Oct-2021 04:58 | 433 | ||
buildsrc-out.txt | 17-Oct-2021 04:58 | 808 | ||
install-out.txt | 17-Oct-2021 04:58 | 932 | ||
checksrc-out.txt | 17-Oct-2021 04:58 | 3.2K | ||