Back to Multiple platform build/check report for BioC 3.13 experimental data |
|
This page was generated on 2021-01-14 15:59:11 -0500 (Thu, 14 Jan 2021).
TO THE DEVELOPERS/MAINTAINERS OF THE scRNAseq PACKAGE: Please make sure to use the following settings in order to reproduce any error or warning you see on this page. |
Package 323/385 | Hostname | OS / Arch | INSTALL | BUILD | CHECK | ||||||
scRNAseq 2.5.1 Aaron Lun
| malbec2 | Linux (Ubuntu 20.04.1 LTS) / x86_64 | OK | OK | OK | ![]() | |||||
riesling1 | Windows Server 2019 Standard / x64 | OK | [ OK ] | ERROR |
Package: scRNAseq |
Version: 2.5.1 |
Command: chmod a+r scRNAseq -R && D:\biocbuild\bbs-3.13-bioc\R\bin\R.exe CMD build --keep-empty-dirs --no-resave-data scRNAseq |
StartedAt: 2021-01-14 10:53:12 -0500 (Thu, 14 Jan 2021) |
EndedAt: 2021-01-14 10:57:01 -0500 (Thu, 14 Jan 2021) |
EllapsedTime: 228.7 seconds |
RetCode: 0 |
Status: OK |
PackageFile: scRNAseq_2.5.1.tar.gz |
PackageFileSize: 315 KiB |
############################################################################## ############################################################################## ### ### Running command: ### ### chmod a+r scRNAseq -R && D:\biocbuild\bbs-3.13-bioc\R\bin\R.exe CMD build --keep-empty-dirs --no-resave-data scRNAseq ### ############################################################################## ############################################################################## * checking for file 'scRNAseq/DESCRIPTION' ... OK * preparing 'scRNAseq': * checking DESCRIPTION meta-information ... OK * installing the package to process help pages * saving partial Rd database * creating vignettes ... OK * checking for LF line-endings in source and make files and shell scripts * checking for empty or unneeded directories * building 'scRNAseq_2.5.1.tar.gz'