Back to Multiple platform build/check report for BioC 3.13 experimental data

Results for riesling1

This page was generated on 2021-01-14 15:59:13 -0500 (Thu, 14 Jan 2021).

Package status is indicated by one of the following glyphs
 TIMEOUT  INSTALL, BUILD, CHECK or BUILD BIN of package took more than 40, 80, 80 or 40 minutes, respectively Use the check boxes to show only packages with the selected status types.
 ERROR  Bad DESCRIPTION file or INSTALL, BUILD or BUILD BIN of package failed, or CHECK produced errors
 WARNINGS  CHECK of package produced warnings
 OK  INSTALL, BUILD, CHECK or BUILD BIN of package was OK
 skipped  CHECK or BUILD BIN of package was skipped because the BUILD step failed
 NA  BUILD, CHECK or BUILD BIN result is not available because of an anomaly in the Build System
Click on any glyph in the report below to access the detailed results.
Package propagation status is indicated by one of the following LEDs
YES YES: Package was propagated because it didn't previously exist or version was bumped
NO NO: Package was not propagated because of a problem (impossible dependencies, or version lower than what is already propagated)
UNNEEDED UNNEEDED: Package was not propagated because it is already in the repository with this version. A version bump is required in order to propagate it

A crossed-out package name indicates the package is deprecated


SUMMARYOS / ArchINSTALLBUILDCHECK
malbec2 Linux (Ubuntu 20.04.1 LTS) / x86_64 
07378
08377
0578294
[riesling1] Windows Server 2019 Standard / x64 
08376
09375
01092273
A
ABCDEFGHIJKLMNOPQRSTUVWXYZ
PackageMaintainerINSTALLBUILDCHECK
1/385ABAData 1.21.0Steffi Grote OK  OK  OK 
2/385adductData 1.7.0Josie Hayes OK  OK  OK 
3/385affycompData 1.29.0Harris Jaffee OK  OK  OK 
4/385affydata 1.39.0Harris Jaffee OK  OK  WARNINGS 
5/385Affyhgu133A2Expr 1.27.0Zhicheng Ji OK  OK  OK 
6/385Affyhgu133aExpr 1.29.0Zhicheng Ji OK  OK  OK 
7/385Affyhgu133Plus2Expr 1.25.0Zhicheng Ji OK  OK  OK 
8/385AffymetrixDataTestFiles 0.29.0Henrik Bengtsson OK  OK  OK 
9/385Affymoe4302Expr 1.29.0Zhicheng Ji OK  OK  OK 
10/385airway 1.11.0Michael Love OK  OK  WARNINGS 
11/385ALL 1.33.0Robert Gentleman OK  OK  OK 
12/385ALLMLL 1.31.0B. M. Bolstad OK  OK  OK 
13/385alpineData 1.17.0Michael Love OK  OK  OK 
14/385AmpAffyExample 1.31.0Rafael A. Irizarry OK  OK  WARNINGS 
15/385AneuFinderData 1.19.0Aaron Taudt OK  OK  WARNINGS 
16/385antiProfilesData 1.27.0Hector Corrada Bravo OK  OK  OK 
17/385aracne.networks 1.17.0Federico M. Giorgi , Mariano Alvarez OK  OK  WARNINGS 
18/385ARRmData 1.27.0Jean-Philippe Fortin OK  OK  OK 
19/385AshkenazimSonChr21 1.21.0Who to complain to OK  OK  OK 
20/385ASICSdata 1.11.0Gaëlle Lefort OK  OK  OK 
21/385AssessORFData 1.9.0Deepank Korandla OK  OK  OK 
B
ABCDEFGHIJKLMNOPQRSTUVWXYZ
PackageMaintainerINSTALLBUILDCHECK
22/385bcellViper 1.27.0Mariano Javier Alvarez OK  OK  OK 
23/385beadarrayExampleData 1.29.0Mark Dunning OK  OK  OK 
24/385BeadArrayUseCases 1.29.0Mike Smith OK  OK  OK 
25/385benchmarkfdrData2019 1.5.0Stephanie Hicks OK  OK  OK 
26/385beta7 1.29.0Jean Yang OK  OK  WARNINGS 
27/385biotmleData 1.15.0Nima Hejazi OK  OK  OK 
28/385biscuiteerData 1.5.0"Jacob Morrison" OK  OK  OK 
29/385bladderbatch 1.29.0Jeffrey T. Leek OK  OK  WARNINGS 
30/385blimaTestingData 1.11.0Vojtech Kulvait OK  OK  OK 
31/385BloodCancerMultiOmics2017 1.11.0Malgorzata Oles OK  OK  OK 
32/385bodymapRat 1.7.0Stephanie Hicks OK  OK  OK 
33/385brainImageRdata 1.9.0Sara Linker OK  OK  OK 
34/385breakpointRdata 1.9.0David Porubsky OK  OK  OK 
35/385breastCancerMAINZ 1.29.0Markus Schroeder , Benjamin Haibe-Kains OK  OK  WARNINGS 
36/385breastCancerNKI 1.29.0Markus Schroeder , Benjamin Haibe-Kains OK  OK  WARNINGS 
37/385breastCancerTRANSBIG 1.29.0Markus Schroeder , Benjamin Haibe-Kains OK  OK  WARNINGS 
38/385breastCancerUNT 1.29.0Markus Schroeder , Benjamin Haibe-Kains OK  OK  WARNINGS 
39/385breastCancerUPP 1.29.0Markus Schroeder , Benjamin Haibe-Kains OK  OK  WARNINGS 
40/385breastCancerVDX 1.29.0Markus Schroeder , Benjamin Haibe-Kains OK  OK  WARNINGS 
41/385brgedata 1.13.0Carlos Ruiz-Arenas OK  OK  WARNINGS 
42/385bronchialIL13 1.29.0Vince Carey OK  OK  OK 
43/385bsseqData 0.29.0Kasper Daniel Hansen OK  OK  OK 
C
ABCDEFGHIJKLMNOPQRSTUVWXYZ
PackageMaintainerINSTALLBUILDCHECK
44/385cancerdata 1.29.0Daniel Kosztyla OK  OK  OK 
45/385CardinalWorkflows 1.23.0Kylie A. Bemis OK  OK  OK 
46/385ccdata 1.17.0Alex Pickering OK  OK  WARNINGS 
47/385CCl4 1.29.0Audrey Kauffmann OK  OK  WARNINGS 
48/385ccTutorial 1.29.0Joern Toedling OK  OK  OK 
49/385celarefData 1.9.0Sarah Williams OK  OK  OK 
50/385celldex 1.1.0Aaron Lun OK  OK  OK 
51/385CellMapperData 1.17.0Brad Nelms OK  OK  OK 
52/385ceu1kg 0.29.1VJ Carey ERROR  ERROR  skipped 
53/385ceu1kgv 0.33.1VJ Carey ERROR  ERROR  skipped 
54/385ceuhm3 0.29.1VJ Carey ERROR  OK  ERROR 
55/385cgdv17 0.29.1VJ Carey OK  ERROR  skipped 
56/385ChAMPdata 2.23.0Yuan Tian OK  OK  OK 
57/385ChIC.data 1.11.0Carmen Maria Livi OK  OK  OK 
58/385ChimpHumanBrainData 1.29.0Sean Davis OK  OK  OK 
59/385chipenrich.data 2.15.0Raymond G. Cavalcante OK  OK  OK 
60/385ChIPexoQualExample 1.15.0Rene Welch OK  OK  OK 
61/385chipseqDBData 1.7.0Aaron Lun OK  OK  OK 
62/385ChIPXpressData ...NOT SUPPORTED...
63/385chromstaRData 1.17.0Aaron Taudt OK  OK  OK 
64/385CLL 1.31.0Robert Gentleman OK  OK  OK 
65/385CLLmethylation 1.11.0Malgorzata Oles , Andreas Mock OK  OK  OK 
66/385CluMSIDdata 1.7.0Tobias Depke OK  OK  OK 
67/385clustifyrdatahub 1.1.0Rui Fu OK  OK  OK 
68/385cMap2data 1.27.0J. Saez-Rodriguez OK  OK  OK 
69/385cnvGSAdata 1.27.0Joseph Lugo OK  OK  WARNINGS 
70/385COHCAPanno 1.27.0Charles Warden OK  OK  OK 
71/385colonCA 1.33.0W Sylvia Merk OK  OK  WARNINGS 
72/385CONFESSdata 1.19.0Diana LOW OK  OK  OK 
73/385ConnectivityMap 1.27.0Paul Shannon OK  OK  OK 
74/385COPDSexualDimorphism.data 1.27.0J Fah Sathirapongsasuti OK  OK  WARNINGS 
75/385CopyhelpeR 1.23.0Oscar Krijgsman OK  OK  OK 
76/385CopyNeutralIMA 1.9.0Xavier Pastor Hostench OK  OK  OK 
77/385COSMIC.67 1.27.0Julian Gehring OK  OK  OK 
78/385CRCL18 1.11.0Claudio Isella OK  OK  OK 
79/385curatedAdipoArray 1.3.0Mahmoud Ahmed OK  OK  OK 
80/385curatedAdipoChIP 1.7.0Mahmoud Ahmed OK  OK  OK 
81/385curatedAdipoRNA 1.7.0Mahmoud Ahmed OK  OK  OK 
82/385curatedBladderData 1.27.0Markus Riester OK  OK  OK 
83/385curatedBreastData 2.19.0Katie Planey OK  OK  OK 
84/385curatedCRCData 2.23.0Princy Parsana OK  OK  OK 
85/385curatedMetagenomicData 1.21.0Lucas Schiffer OK  OK  OK 
86/385curatedOvarianData 1.29.0Levi Waldron OK  OK  OK 
87/385curatedTCGAData 1.13.4Marcel Ramos OK  OK  OK 
D
ABCDEFGHIJKLMNOPQRSTUVWXYZ
PackageMaintainerINSTALLBUILDCHECK
88/385DAPARdata 1.21.0Samuel Wieczorek OK  OK  WARNINGS 
89/385davidTiling 1.31.0Wolfgang Huber OK  OK  WARNINGS 
90/385depmap 1.5.1Laurent Gatto OK  OK  OK 
91/385derfinderData 2.9.1Leonardo Collado-Torres OK  OK  OK 
92/385DeSousa2013 1.27.0Xin Wang OK  OK  OK 
93/385diffloopdata 1.19.0Caleb Lareau OK  OK  OK 
94/385diggitdata 1.23.0Mariano Javier Alvarez OK  OK  OK 
95/385DLBCL 1.31.0Marcus Dittrich OK  OK  WARNINGS 
96/385DmelSGI 1.23.3Mike Smith OK  OK  OK 
97/385DMRcatedata 2.9.0Tim Peters OK  OK  OK 
98/385DonaPLLP2013 1.29.0Joseph D. Barry OK  OK  OK 
99/385dorothea 1.3.0Christian H. Holland OK  OK  WARNINGS 
100/385DREAM4 1.27.0Paul Shannon OK  ERROR  skipped 
101/385dressCheck 0.29.0Vincent Carey OK  OK  OK 
102/385DropletTestFiles 1.1.0Aaron Lun OK  OK  OK 
103/385DrugVsDiseasedata 1.27.0J. Saez-Rodriguez OK  OK  OK 
104/385dsQTL 0.29.1VJ Carey ERROR  ERROR  skipped 
105/385DuoClustering2018 1.9.0Angelo Duò OK  OK  OK 
106/385DvDdata 1.27.0J. Saez-Rodriguez OK  OK  OK 
107/385dyebiasexamples 1.31.0Philip Lijnzaad OK  OK  WARNINGS 
E
ABCDEFGHIJKLMNOPQRSTUVWXYZ
PackageMaintainerINSTALLBUILDCHECK
108/385EatonEtAlChIPseq 0.29.0Patrick Aboyoun OK  OK  WARNINGS 
109/385ecoliLeucine 1.31.0Laurent Gautier OK  OK  WARNINGS 
110/385EGSEAdata 1.19.0Monther Alhamdoosh OK  OK  OK 
111/385ELMER.data 2.15.0Tiago Chedraoui Silva OK  OK  OK 
112/385estrogen 1.37.0Wolfgang Huber OK  OK  OK 
113/385etec16s 1.19.0Joseph N. Paulson OK  OK  OK 
F
ABCDEFGHIJKLMNOPQRSTUVWXYZ
PackageMaintainerINSTALLBUILDCHECK
114/385faahKO 1.31.0Steffen Neumann OK  OK  WARNINGS 
115/385fabiaData 1.29.0Sepp Hochreiter OK  OK  OK 
116/385facsDorit 1.33.1Florian Hahne ERROR  OK  ERROR 
117/385FANTOM3and4CAGE 1.27.0Vanja Haberle OK  OK  OK 
118/385ffpeExampleData 1.29.0Levi Waldron OK  OK  OK 
119/385fibroEset 1.33.0Sylvia Merk OK  OK  WARNINGS 
120/385FieldEffectCrc 1.1.0Christopher Dampier OK  OK  OK 
121/385FIs 1.19.0Herbert Braselmann , Martin Selmansberger OK  OK  OK 
122/385fission 1.11.0Michael Love OK  OK  OK 
123/385Fletcher2013a 1.27.0Mauro Castro OK  OK  OK 
124/385Fletcher2013b 1.27.0Mauro Castro OK  OK  OK 
125/385flowPloidyData 1.17.0Tyler Smith OK  OK  OK 
126/385FlowSorted.Blood.450k 1.29.0Andrew E Jaffe OK  OK  OK 
127/385FlowSorted.Blood.EPIC 1.9.0Lucas A. Salas OK  OK  ERROR 
128/385FlowSorted.CordBlood.450k 1.19.0Shan V. Andrews ERROR  OK  ERROR 
129/385FlowSorted.CordBloodCombined.450k 1.7.0Lucas A. Salas OK  OK  OK 
130/385FlowSorted.CordBloodNorway.450k 1.17.0kristina gervin OK  OK  OK 
131/385FlowSorted.DLPFC.450k 1.27.0Andrew E Jaffe OK  OK  OK 
132/385flowWorkspaceData 3.3.0Mike Jiang OK  OK  OK 
133/385frmaExampleData 1.27.0Matthew N. McCall OK  OK  WARNINGS 
134/385furrowSeg 1.19.0Joseph Barry OK  OK  WARNINGS 
G
ABCDEFGHIJKLMNOPQRSTUVWXYZ
PackageMaintainerINSTALLBUILDCHECK
135/385gageData 2.29.0Weijun Luo OK  OK  OK 
136/385gaschYHS 1.29.0Vince Carey OK  OK  OK 
137/385gatingMLData 2.31.0J. Spidlen OK  OK  OK 
138/385gcspikelite 1.29.0Mark Robinson OK  OK  WARNINGS 
139/385geneLenDataBase 1.27.0Matthew Young , Nadia Davidson OK  OK  WARNINGS 
140/385genomationData 1.23.0Vedran Franke OK  OK  OK 
141/385GenomicDistributionsData 0.99.5Kristyna Kupkova OK  OK  OK 
142/385GeuvadisTranscriptExpr 1.19.0Malgorzata Nowicka OK  OK  OK 
143/385GIGSEAdata 1.9.0Shijia Zhu OK  OK  OK 
144/385golubEsets 1.33.0Vince Carey OK  OK  OK 
145/385gpaExample 1.3.0Dongjun Chung OK  OK  OK 
146/385grndata 1.23.0Pau Bellot OK  OK  OK 
147/385GSBenchMark 1.11.0Bahman Afsari OK  OK  OK 
148/385GSE62944 1.19.0Bioconductor Package Maintainer OK  OK  OK 
149/385gskb 1.23.1Valerie Bares OK  ERROR  skipped 
150/385GSVAdata 1.27.0Robert Castelo OK  OK  OK 
151/385GWASdata 1.29.0Stephanie Gogarten , Adrienne Stilp OK  OK  OK 
H
ABCDEFGHIJKLMNOPQRSTUVWXYZ
PackageMaintainerINSTALLBUILDCHECK
152/385h5vcData 2.11.0Paul Theodor Pyl OK  OK  OK 
153/385hapmap100khind 1.33.0Benilton Carvalho OK  OK  OK 
154/385hapmap100kxba 1.33.0Benilton Carvalho OK  OK  OK 
155/385hapmap500knsp 1.33.0Benilton Carvalho OK  OK  OK 
156/385hapmap500ksty 1.33.0Benilton Carvalho OK  OK  OK 
157/385hapmapsnp5 1.33.0Benilton Carvalho OK  OK  OK 
158/385hapmapsnp6 1.33.0Benilton Carvalho OK  OK  OK 
159/385harbChIP 1.29.0VJ Carey OK  OK  OK 
160/385HarmanData 1.19.0Jason Ross OK  OK  OK 
161/385HarmonizedTCGAData 1.13.0Tianle Ma OK  OK  OK 
162/385HCAData 1.7.1Federico Marini OK  OK  OK 
163/385HD2013SGI 1.31.0Bernd Fischer OK  OK  OK 
164/385HDCytoData 1.11.0Lukas M. Weber OK  ERROR  skipped 
165/385healthyFlowData 1.29.0Ariful Azad OK  OK  OK 
166/385HEEBOdata 1.29.0Agnes Paquet OK  OK  WARNINGS 
167/385HelloRangesData 1.17.0Michael Lawrence OK  OK  OK 
168/385hgu133abarcodevecs 1.29.0Matthew N. McCall OK  OK  OK 
169/385hgu133plus2barcodevecs 1.29.0Matthew N. McCall OK  OK  OK 
170/385hgu133plus2CellScore 1.11.0Nancy Mah OK  OK  OK 
171/385hgu2beta7 1.31.0Bioconductor Package Maintainer OK  OK  WARNINGS 
172/385HiCDataHumanIMR90 1.11.0Nicolas Servant OK  OK  OK 
173/385HiCDataLymphoblast 1.27.0Borbala Mifsud OK  OK  OK 
174/385HighlyReplicatedRNASeq 1.3.0Constantin Ahlmann-Eltze OK  OK  OK 
175/385Hiiragi2013 1.27.0Andrzej Oles OK  OK  OK 
176/385HIVcDNAvantWout03 1.31.0Chris Fraley OK  OK  WARNINGS 
177/385HMP16SData 1.11.0Lucas Schiffer OK  OK  WARNINGS 
178/385HMP2Data 1.5.0John Stansfield , Ekaterina Smirnova OK  OK  OK 
179/385hmyriB36 1.27.1Vincent Carey ERROR  OK  ERROR 
180/385HSMMSingleCell 1.11.0Cole Trapnell OK  OK  WARNINGS 
181/385HumanAffyData 1.17.0Brad Nelms OK  OK  OK 
182/385humanStemCell 0.31.0R. Gentleman OK  OK  WARNINGS 
I
ABCDEFGHIJKLMNOPQRSTUVWXYZ
PackageMaintainerINSTALLBUILDCHECK
183/385IHWpaper 1.19.4Nikos Ignatiadis OK  ERROR  skipped 
184/385Illumina450ProbeVariants.db 1.27.0Tiffany Morris OK  OK  OK 
185/385IlluminaDataTestFiles 1.29.0Kasper Daniel Hansen OK  OK  OK 
186/385ITALICSData 2.29.0Guillem Rigaill OK  OK  WARNINGS 
187/385Iyer517 1.33.0Vince Carey OK  OK  OK 
J
ABCDEFGHIJKLMNOPQRSTUVWXYZ
PackageMaintainerINSTALLBUILDCHECK
188/385JASPAR2014 1.27.0Ge Tan OK  OK  OK 
189/385JASPAR2016 1.19.0Ge Tan OK  OK  OK 
190/385JctSeqData 1.21.1Stephen Hartley OK  OK  ERROR 
K
ABCDEFGHIJKLMNOPQRSTUVWXYZ
PackageMaintainerINSTALLBUILDCHECK
191/385KEGGandMetacoreDzPathwaysGEO 1.11.0Gaurav Bhatti OK  OK  OK 
192/385KEGGdzPathwaysGEO 1.29.0Gaurav Bhatti OK  OK  OK 
193/385kidpack 1.33.0Wolfgang Huber OK  OK  WARNINGS 
194/385KOdata 1.17.0Shana White OK  OK  OK 
L
ABCDEFGHIJKLMNOPQRSTUVWXYZ
PackageMaintainerINSTALLBUILDCHECK
195/385leeBamViews 1.27.0VJ Carey OK  OK  OK 
196/385leukemiasEset 1.27.0Sara Aibar OK  OK  OK 
197/385LiebermanAidenHiC2009 0.29.0Felix Klein OK  OK  WARNINGS 
198/385ListerEtAlBSseq 1.23.0Kamal Kishore OK  OK  WARNINGS 
199/385lumiBarnes 1.31.0Pan Du OK  OK  WARNINGS 
200/385LungCancerACvsSCCGEO 1.27.0Adi Laurentiu Tarca OK  OK  OK 
201/385LungCancerLines 0.29.0Cory Barr OK  OK  OK 
202/385lungExpression 0.29.0Robert Scharpf OK  OK  OK 
203/385lydata 1.17.0Alex Pickering OK  OK  OK 
M
ABCDEFGHIJKLMNOPQRSTUVWXYZ
PackageMaintainerINSTALLBUILDCHECK
204/385M3DExampleData 1.17.0Tallulah Andrews OK  OK  WARNINGS 
205/385macrophage 1.7.0Michael Love OK  OK  OK 
206/385mammaPrintData 1.27.0Luigi Marchionni OK  OK  OK 
207/385mAPKLData 1.23.0Argiris Sakellariou OK  OK  WARNINGS 
208/385maqcExpression4plex 1.35.0Benilton Carvalho OK  OK  OK 
209/385MAQCsubset 1.29.0VJ Carey OK  OK  OK 
210/385MAQCsubsetAFX 1.29.0Laurent Gatto OK  OK  OK 
211/385MAQCsubsetILM 1.29.0Laurent Gatto OK  OK  OK 
212/385mCSEAdata 1.11.1Jordi Martorell Marugán OK  OK  WARNINGS 
213/385mcsurvdata 1.9.0Adria Caballe Mestres OK  OK  OK 
214/385MEDIPSData 1.27.0Lukas Chavez OK  OK  WARNINGS 
215/385MEEBOdata 1.29.0Agnes Paquet OK  OK  WARNINGS 
216/385MetaGxBreast 1.11.0Michael Zon OK  OK  OK 
217/385MetaGxOvarian 1.11.0Michael Zon OK  OK  OK 
218/385MetaGxPancreas 1.11.0Michael Zon OK  OK  OK 
219/385metaMSdata 1.27.0Yann Guitton OK  OK  OK 
220/385MethylAidData 1.23.0M. van Iterson OK  OK  OK 
221/385MethylSeqData 1.1.1Peter Hickey OK  OK  OK 
222/385microRNAome 1.13.0Matthew N. McCall OK  OK  OK 
223/385MIGSAdata 1.15.0Juan C. Rodriguez OK  OK  OK 
224/385minfiData 0.37.0Kasper Daniel Hansen OK  OK  OK 
225/385minfiDataEPIC 1.17.0Kasper Daniel Hansen OK  OK  OK 
226/385minionSummaryData 1.21.0Mike Smith OK  OK  OK 
227/385miRcompData 1.21.0Matthew N. McCall OK  OK  OK 
228/385miRNATarget 1.29.0Y-h. Taguchi OK  OK  OK 
229/385MMAPPR2data 1.5.0Jonathon Hill OK  OK  OK 
230/385MMDiffBamSubset 1.27.0Gabriele Schweikert OK  OK  OK 
231/385MOFAdata 1.7.0Britta Velten OK  OK  OK 
232/385mosaicsExample 1.29.0Dongjun Chung OK  OK  OK 
233/385mouse4302barcodevecs 1.29.0Matthew N. McCall OK  OK  OK 
234/385MouseGastrulationData 1.5.4Jonathan Griffiths OK  OK  OK 
235/385msd16s 1.11.0Joseph N. Paulson OK  OK  OK 
236/385msdata 0.31.1Steffen Neumann , Laurent Gatto OK  OK  OK 
237/385MSMB 1.9.0Wolfgang Huber OK  OK  WARNINGS 
238/385msPurityData 1.19.0Thomas N. Lawson OK  OK  OK 
239/385msqc1 1.19.0Christian Panse OK  OK  OK 
240/385MSstatsBioData 1.13.0Meena Choi OK  OK  WARNINGS 
241/385mtbls2 1.21.1Steffen Neumann OK  OK  OK 
242/385MUGAExampleData 1.11.0Daniel Gatti OK  OK  WARNINGS 
243/385muscData 1.5.0Helena L. Crowell OK  OK  WARNINGS 
244/385mvoutData 1.27.0VJ Carey OK  OK  OK 
N
ABCDEFGHIJKLMNOPQRSTUVWXYZ
PackageMaintainerINSTALLBUILDCHECK
245/385NanoporeRNASeq 1.1.0Ying Chen Developer OK  OK  OK 
246/385nanotubes 1.7.0Malte Thodberg OK  OK  OK 
247/385NCIgraphData 1.27.0Laurent Jacob OK  OK  WARNINGS 
248/385NestLink 1.7.0Lennart Opitz OK  OK  OK 
249/385Neve2006 0.29.0VJ Carey OK  OK  OK 
250/385NGScopyData 1.11.0Xiaobei Zhao OK  OK  OK 
O
ABCDEFGHIJKLMNOPQRSTUVWXYZ
PackageMaintainerINSTALLBUILDCHECK
251/385oct4 1.7.0Michael Love OK  OK  OK 
252/385OMICsPCAdata 1.9.0Subhadeep Das OK  OK  OK 
253/385OnassisJavaLibs 1.13.0Eugenia Galeota OK  OK  WARNINGS 
254/385optimalFlowData 1.3.0Hristo Inouzhe OK  OK  OK 
P
ABCDEFGHIJKLMNOPQRSTUVWXYZ
PackageMaintainerINSTALLBUILDCHECK
255/385parathyroidSE 1.29.0Michael Love OK  OK  OK 
256/385pasilla 1.19.1Alejandro Reyes OK  OK  WARNINGS 
257/385pasillaBamSubset 0.29.0Hervé Pagès OK  OK  OK 
258/385PasillaTranscriptExpr 1.19.0Malgorzata Nowicka OK  OK  OK 
259/385PathNetData 1.27.1Ludwig Geistlinger OK  OK  OK 
260/385PCHiCdata 1.19.0Paula Freire-Pritchett OK  OK  OK 
261/385pcxnData 2.13.0Sokratis Kariotis OK  OK  WARNINGS 
262/385pd.atdschip.tiling 0.29.0Kristof De Beuf OK  OK  WARNINGS 
263/385pepDat 1.11.0Renan Sauteraud OK  OK  OK 
264/385PepsNMRData 1.9.0Manon Martin OK  OK  OK 
265/385PhyloProfileData 1.5.0Vinh Tran OK  OK  OK 
266/385plasFIA 1.19.1Alexis Delabriere OK  OK  WARNINGS 
267/385ppiData 0.29.0Bioconductor Package Maintainer OK  OK  WARNINGS 
268/385prebsdata 1.27.0Karolis Uziela OK  OK  OK 
269/385preciseTADhub 0.99.8Spiro Stilianoudakis OK  OK  OK 
270/385PREDAsampledata 0.31.0Francesco Ferrari OK  OK  OK 
271/385ProData 1.29.0Xiaochun Li OK  OK  OK 
272/385pRolocdata 1.29.0Laurent Gatto OK  OK  OK 
273/385prostateCancerCamcap 1.19.0Mark Dunning OK  OK  OK 
274/385prostateCancerGrasso 1.19.0Mark Dunning OK  OK  OK 
275/385prostateCancerStockholm 1.19.0Mark Dunning OK  OK  OK 
276/385prostateCancerTaylor 1.19.0Mark Dunning OK  OK  OK 
277/385prostateCancerVarambally 1.19.0Mark Dunning OK  OK  OK 
278/385PtH2O2lipids 1.17.0James Collins OK  OK  WARNINGS 
279/385pumadata 2.27.0Xuejun liu OK  OK  OK 
280/385PWMEnrich.Dmelanogaster.background 4.25.0Diego Diez OK  OK  WARNINGS 
281/385PWMEnrich.Hsapiens.background 4.25.0Diego Diez OK  OK  WARNINGS 
282/385PWMEnrich.Mmusculus.background 4.25.0Diego Diez OK  OK  OK 
283/385pwrEWAS.data 1.5.0Stefan Graw OK  OK  OK 
Q
ABCDEFGHIJKLMNOPQRSTUVWXYZ
PackageMaintainerINSTALLBUILDCHECK
284/385QDNAseq.hg19 1.21.0Daoud Sie OK  OK  OK 
285/385QDNAseq.mm10 1.21.0Daoud Sie OK  OK  OK 
286/385qPLEXdata 1.9.0Kamal Kishore Developer OK  ERROR  skipped 
287/385QUBICdata 1.19.0Yu Zhang OK  OK  OK 
R
ABCDEFGHIJKLMNOPQRSTUVWXYZ
PackageMaintainerINSTALLBUILDCHECK
288/385rcellminerData 2.13.0Augustin Luna , Vinodh Rajapakse OK  OK  WARNINGS 
289/385RcisTarget.hg19.motifDBs.cisbpOnly.500bp 1.11.0Sara Aibar OK  OK  OK 
290/385ReactomeGSA.data 1.5.0Johannes Griss OK  OK  OK 
291/385RegParallel 1.9.0Kevin Blighe OK  OK  OK 
292/385restfulSEData 1.13.0Bioconductor Package Maintainer OK  OK  OK 
293/385RforProteomics 1.29.2Laurent Gatto OK  OK  WARNINGS 
294/385RGMQLlib 1.11.0Simone Pallotta OK  OK  WARNINGS 
295/385rheumaticConditionWOLLBOLD 1.29.0Alejandro Quiroz-Zarate OK  OK  OK 
296/385RITANdata 1.15.0Michael Zimmermann OK  OK  OK 
297/385RMassBankData 1.29.0Michael Stravs, Emma Schymanski OK  OK  OK 
298/385RNAinteractMAPK 1.29.1Mike Smith OK  OK  WARNINGS 
299/385RNAmodR.Data 1.5.0Felix G.M. Ernst OK  OK  OK 
300/385RNAseqData.HNRNPC.bam.chr14 0.29.0Hervé Pagès OK  OK  OK 
301/385RNASeqRData 1.9.0Kuan-Hao Chao OK  OK  OK 
302/385RnaSeqSampleSizeData 1.23.0Shilin Zhao OK  OK  OK 
303/385RnBeads.hg19 1.23.0RnBeadsAnnotationCreator OK  OK  WARNINGS 
304/385RnBeads.hg38 1.23.0RnBeadsAnnotationCreator OK  OK  OK 
305/385RnBeads.mm10 1.23.0RnBeadsAnnotationCreator OK  OK  OK 
306/385RnBeads.mm9 1.23.0RnBeadsAnnotationCreator OK  OK  WARNINGS 
307/385RnBeads.rn5 1.23.0RnBeadsAnnotationCreator OK  OK  OK 
308/385RRBSdata 1.11.0Katja Hebestreit OK  OK  OK 
309/385rRDPData 1.11.0Michael Hahsler OK  OK  OK 
310/385RTCGA.clinical 20151101.21.0Marcin Kosinski OK  OK  WARNINGS 
311/385RTCGA.CNV 1.19.0Marcin Kosinski OK  OK  WARNINGS 
312/385RTCGA.methylation 1.19.0Marcin Kosinski OK  OK  WARNINGS 
313/385RTCGA.miRNASeq 1.19.0Marcin Kosinski OK  OK  WARNINGS 
314/385RTCGA.mRNA 1.19.0Marcin Kosinski OK  OK  OK 
315/385RTCGA.mutations 20151101.21.0Marcin Kosinski OK  OK  WARNINGS 
316/385RTCGA.PANCAN12 1.19.0Marcin Kosinski OK  OK  OK 
317/385RTCGA.rnaseq 20151101.21.0Marcin Kosinski OK  OK  WARNINGS 
318/385RTCGA.RPPA 1.19.0Marcin Kosinski OK  OK  WARNINGS 
319/385RUVnormalizeData 1.11.0Laurent Jacob OK  OK  OK 
S
ABCDEFGHIJKLMNOPQRSTUVWXYZ
PackageMaintainerINSTALLBUILDCHECK
320/385SBGNview.data 1.5.0Xiaoxi Dong OK  OK  WARNINGS 
321/385SCATEData 1.1.0Wenpin Hou OK  OK  OK 
322/385SCLCBam 1.23.0Oscar Krijgsman OK  OK  OK 
323/385scRNAseq 2.5.1Aaron Lun OK  OK  ERROR 
324/385scTHI.data 1.3.0Michele Ceccarelli OK  OK  OK 
325/385seq2pathway.data 1.23.0Xinan Holly Yang OK  OK  WARNINGS 
326/385seqc 1.25.0Yang Liao and Wei Shi OK  OK  WARNINGS 
327/385seqCNA.annot 1.27.0David Mosen-Ansorena OK  OK  OK 
328/385serumStimulation 1.27.0Morten Hansen, OK  OK  OK 
329/385sesameData 1.9.2Wanding Zhou OK  OK  OK 
330/385seventyGeneData 1.27.0Luigi Marchionni OK  OK  OK 
331/385shinyMethylData 1.11.0Jean-Philippe Fortin OK  OK  OK 
332/385signatureSearchData 1.5.0Yuzhu Duan OK  OK  OK 
333/385simpIntLists 1.27.0Kircicegi Korkmaz OK  OK  WARNINGS 
334/385Single.mTEC.Transcriptomes 1.19.0Alejandro Reyes OK  OK  OK 
335/385SingleCellMultiModal 1.3.8Marcel Ramos OK  OK  ERROR 
336/385SNAData 1.37.0Denise Scholtens OK  OK  OK 
337/385SNAGEEdata 1.27.0David Venet OK  OK  OK 
338/385SNPhoodData 1.21.0Christian Arnold OK  OK  OK 
339/385SomatiCAData 1.29.0Mengjie Chen OK  OK  WARNINGS 
340/385SomaticCancerAlterations 1.27.1Julian Gehring OK  OK  OK 
341/385spatialLIBD 1.3.1Leonardo Collado-Torres OK  OK  ERROR 
342/385SpikeIn 1.33.0Rafael A. Irizarry OK  OK  WARNINGS 
343/385SpikeInSubset 1.31.0Rafael A. Irizarry OK  OK  WARNINGS 
344/385spqnData 1.3.0Yi Wang OK  OK  OK 
345/385stemHypoxia 1.27.0Cristobal Fresno OK  OK  OK 
346/385stjudem 1.31.0Joern Toedling OK  OK  OK 
347/385SVM2CRMdata 1.23.0Guidantonio Malagoli Tagliazucchi OK  OK  WARNINGS 
348/385synapterdata 1.29.0Laurent Gatto OK  OK  OK 
349/385systemPipeRdata 1.19.1Thomas Girke OK  OK  OK 
T
ABCDEFGHIJKLMNOPQRSTUVWXYZ
PackageMaintainerINSTALLBUILDCHECK
350/385TabulaMurisData 1.9.0Charlotte Soneson OK  OK  OK 
351/385TargetScoreData 1.27.0Yue Li OK  OK  OK 
352/385TargetSearchData 1.29.0Alvaro Cuadros-Inostroza OK  OK  OK 
353/385tartare 1.5.2Christian Panse OK  OK  OK 
354/385TBX20BamSubset 1.27.0D. Bindreither OK  OK  OK 
355/385TCGAbiolinksGUI.data 1.11.0Tiago Chedraoui Silva OK  OK  OK 
356/385TCGAcrcmiRNA 1.11.0Claudio Isella OK  OK  OK 
357/385TCGAcrcmRNA 1.11.0Claudio Isella OK  OK  OK 
358/385TCGAMethylation450k 1.27.0Sean Davis OK  OK  OK 
359/385tcgaWGBSData.hg19 1.9.0Divy Kangeyan OK  OK  OK 
360/385TCGAWorkflowData 1.15.0Tiago Chedraoui Silva OK  OK  WARNINGS 
361/385TENxBrainData 1.11.0Bioconductor Package Maintainer OK  OK  OK 
362/385TENxBUSData 1.5.0Lambda Moses OK  OK  OK 
363/385TENxPBMCData 1.9.0Stephanie Hicks OK  OK  OK 
364/385timecoursedata 1.1.0Nelle Varoquaux OK  OK  OK 
365/385TimerQuant 1.21.0Joseph Barry OK  OK  OK 
366/385tinesath1cdf 1.29.0Tine Casneuf OK  OK  WARNINGS 
367/385tinesath1probe 1.29.0Tine Casneuf OK  OK  WARNINGS 
368/385tissueTreg 1.11.0Charles Imbusch OK  OK  OK 
369/385TMExplorer 1.1.1Erik Christensen OK  OK  OK 
370/385tofsimsData 1.19.0Lorenz Gerber OK  OK  OK 
371/385topdownrdata 1.13.0Sebastian Gibb OK  OK  OK 
372/385tweeDEseqCountData 1.29.0Juan R Gonzalez OK  OK  OK 
373/385tximportData 1.19.0Michael Love OK  OK  OK 
V
ABCDEFGHIJKLMNOPQRSTUVWXYZ
PackageMaintainerINSTALLBUILDCHECK
374/385VariantToolsData 1.15.0Michael Lawrence OK  OK  WARNINGS 
375/385vulcandata 1.13.0Federico M. Giorgi OK  OK  OK 
W
ABCDEFGHIJKLMNOPQRSTUVWXYZ
PackageMaintainerINSTALLBUILDCHECK
376/385WES.1KG.WUGSC 1.23.0Yuchao Jiang OK  OK  OK 
377/385WGSmapp 1.3.0Rujin Wang OK  OK  OK 
X
ABCDEFGHIJKLMNOPQRSTUVWXYZ
PackageMaintainerINSTALLBUILDCHECK
378/385XhybCasneuf 1.29.0Tineke Casneuf OK  OK  WARNINGS 
Y
ABCDEFGHIJKLMNOPQRSTUVWXYZ
PackageMaintainerINSTALLBUILDCHECK
379/385yeastCC 1.31.0Sandrine Dudoit OK  OK  WARNINGS 
380/385yeastExpData 0.37.0R. Gentleman OK  OK  WARNINGS 
381/385yeastGSData 0.29.0R. Gentleman OK  OK  WARNINGS 
382/385yeastNagalakshmi 1.27.0Bioconductor Package Maintainer OK  OK  OK 
383/385yeastRNASeq 0.29.0J. Bullard OK  OK  WARNINGS 
384/385yri1kgv 0.33.1VJ Carey ERROR  OK  ERROR 
Z
ABCDEFGHIJKLMNOPQRSTUVWXYZ
PackageMaintainerINSTALLBUILDCHECK
385/385zebrafishRNASeq 1.11.0Davide Risso OK  OK  OK