Back to Multiple platform build/check report for BioC 3.13 experimental data |
|
This page was generated on 2021-01-14 15:59:11 -0500 (Thu, 14 Jan 2021).
TO THE DEVELOPERS/MAINTAINERS OF THE rheumaticConditionWOLLBOLD PACKAGE: Please make sure to use the following settings in order to reproduce any error or warning you see on this page. |
Package 295/385 | Hostname | OS / Arch | INSTALL | BUILD | CHECK | ||||||
rheumaticConditionWOLLBOLD 1.29.0 Alejandro Quiroz-Zarate
| malbec2 | Linux (Ubuntu 20.04.1 LTS) / x86_64 | OK | OK | OK | ![]() | |||||
riesling1 | Windows Server 2019 Standard / x64 | [ OK ] | OK | OK |
Package: rheumaticConditionWOLLBOLD |
Version: 1.29.0 |
Command: C:\cygwin\bin\curl.exe -O http://172.29.0.4/BBS/3.13/data-experiment/src/contrib/rheumaticConditionWOLLBOLD_1.29.0.tar.gz && rm -rf rheumaticConditionWOLLBOLD.buildbin-libdir && mkdir rheumaticConditionWOLLBOLD.buildbin-libdir && D:\biocbuild\bbs-3.13-bioc\R\bin\R.exe CMD INSTALL --merge-multiarch --build --library=rheumaticConditionWOLLBOLD.buildbin-libdir rheumaticConditionWOLLBOLD_1.29.0.tar.gz && D:\biocbuild\bbs-3.13-bioc\R\bin\R.exe CMD INSTALL rheumaticConditionWOLLBOLD_1.29.0.zip && rm rheumaticConditionWOLLBOLD_1.29.0.tar.gz rheumaticConditionWOLLBOLD_1.29.0.zip |
StartedAt: 2021-01-14 09:57:46 -0500 (Thu, 14 Jan 2021) |
EndedAt: 2021-01-14 10:00:27 -0500 (Thu, 14 Jan 2021) |
EllapsedTime: 160.9 seconds |
RetCode: 0 |
Status: OK |
############################################################################## ############################################################################## ### ### Running command: ### ### C:\cygwin\bin\curl.exe -O http://172.29.0.4/BBS/3.13/data-experiment/src/contrib/rheumaticConditionWOLLBOLD_1.29.0.tar.gz && rm -rf rheumaticConditionWOLLBOLD.buildbin-libdir && mkdir rheumaticConditionWOLLBOLD.buildbin-libdir && D:\biocbuild\bbs-3.13-bioc\R\bin\R.exe CMD INSTALL --merge-multiarch --build --library=rheumaticConditionWOLLBOLD.buildbin-libdir rheumaticConditionWOLLBOLD_1.29.0.tar.gz && D:\biocbuild\bbs-3.13-bioc\R\bin\R.exe CMD INSTALL rheumaticConditionWOLLBOLD_1.29.0.zip && rm rheumaticConditionWOLLBOLD_1.29.0.tar.gz rheumaticConditionWOLLBOLD_1.29.0.zip ### ############################################################################## ############################################################################## % Total % Received % Xferd Average Speed Time Time Time Current Dload Upload Total Spent Left Speed 0 0 0 0 0 0 0 0 --:--:-- --:--:-- --:--:-- 0 100 20.7M 100 20.7M 0 0 69.1M 0 --:--:-- --:--:-- --:--:-- 69.4M install for i386 * installing *source* package 'rheumaticConditionWOLLBOLD' ... ** using staged installation ** data ** help *** installing help indices converting help for package 'rheumaticConditionWOLLBOLD' finding HTML links ... done wollbold html REDIRECT:topic wollbold -> wollbold.html [ SUCCESS ] ** building package indices ** testing if installed package can be loaded from temporary location ** testing if installed package can be loaded from final location ** testing if installed package keeps a record of temporary installation path install for x64 * installing *source* package 'rheumaticConditionWOLLBOLD' ... ** testing if installed package can be loaded * MD5 sums packaged installation of 'rheumaticConditionWOLLBOLD' as rheumaticConditionWOLLBOLD_1.29.0.zip * DONE (rheumaticConditionWOLLBOLD) * installing to library 'D:/biocbuild/bbs-3.13-bioc/R/library' package 'rheumaticConditionWOLLBOLD' successfully unpacked and MD5 sums checked