Back to Multiple platform build/check report for BioC 3.13 experimental data
ABCDEFGHIJKLMNOPQ[R]STUVWXYZ

CHECK report for rheumaticConditionWOLLBOLD on riesling1

This page was generated on 2021-01-11 15:59:33 -0500 (Mon, 11 Jan 2021).

TO THE DEVELOPERS/MAINTAINERS OF THE rheumaticConditionWOLLBOLD PACKAGE: Please make sure to use the following settings in order to reproduce any error or warning you see on this page.
Package 295/385HostnameOS / ArchINSTALLBUILDCHECK
rheumaticConditionWOLLBOLD 1.29.0
Alejandro Quiroz-Zarate
Snapshot Date: 2021-01-11 09:00:09 -0500 (Mon, 11 Jan 2021)
URL: https://git.bioconductor.org/packages/rheumaticConditionWOLLBOLD
Branch: master
Last Commit: 91ceab7
Last Changed Date: 2020-10-27 09:54:45 -0500 (Tue, 27 Oct 2020)
malbec2 Linux (Ubuntu 20.04.1 LTS) / x86_64  OK  OK  OK UNNEEDED, same version exists in internal repository
riesling1 Windows Server 2019 Standard / x64  OK  OK [ OK ]

Summary

Package: rheumaticConditionWOLLBOLD
Version: 1.29.0
Command: D:\biocbuild\bbs-3.13-bioc\R\bin\R.exe CMD check --force-multiarch --install=check:rheumaticConditionWOLLBOLD.install-out.txt --library=D:\biocbuild\bbs-3.13-bioc\R\library --no-vignettes --timings rheumaticConditionWOLLBOLD_1.29.0.tar.gz
StartedAt: 2021-01-11 11:42:30 -0500 (Mon, 11 Jan 2021)
EndedAt: 2021-01-11 11:42:53 -0500 (Mon, 11 Jan 2021)
EllapsedTime: 22.4 seconds
RetCode: 0
Status:  OK  
CheckDir: rheumaticConditionWOLLBOLD.Rcheck
Warnings: 0

Command output

##############################################################################
##############################################################################
###
### Running command:
###
###   D:\biocbuild\bbs-3.13-bioc\R\bin\R.exe CMD check --force-multiarch --install=check:rheumaticConditionWOLLBOLD.install-out.txt --library=D:\biocbuild\bbs-3.13-bioc\R\library --no-vignettes --timings rheumaticConditionWOLLBOLD_1.29.0.tar.gz
###
##############################################################################
##############################################################################


* using log directory 'D:/biocbuild/bbs-3.13-data-experiment/meat/rheumaticConditionWOLLBOLD.Rcheck'
* using R Under development (unstable) (2020-12-30 r79736)
* using platform: x86_64-w64-mingw32 (64-bit)
* using session charset: ISO8859-1
* using option '--no-vignettes'
* checking for file 'rheumaticConditionWOLLBOLD/DESCRIPTION' ... OK
* checking extension type ... Package
* this is package 'rheumaticConditionWOLLBOLD' version '1.29.0'
* checking package namespace information ... OK
* checking package dependencies ... OK
* checking if this is a source package ... OK
* checking if there is a namespace ... OK
* checking for hidden files and directories ... OK
* checking for portable file names ... OK
* checking whether package 'rheumaticConditionWOLLBOLD' can be installed ... OK
* checking installed package size ... NOTE
  installed size is 20.8Mb
  sub-directories of 1Mb or more:
    data  20.8Mb
* checking package directory ... OK
* checking DESCRIPTION meta-information ... OK
* checking top-level files ... OK
* checking for left-over files ... OK
* checking index information ... OK
* checking package subdirectories ... OK
* loading checks for arch 'i386'
** checking whether the package can be loaded ... OK
** checking whether the package can be loaded with stated dependencies ... OK
** checking whether the package can be unloaded cleanly ... OK
** checking whether the namespace can be loaded with stated dependencies ... OK
** checking whether the namespace can be unloaded cleanly ... OK
* loading checks for arch 'x64'
** checking whether the package can be loaded ... OK
** checking whether the package can be loaded with stated dependencies ... OK
** checking whether the package can be unloaded cleanly ... OK
** checking whether the namespace can be loaded with stated dependencies ... OK
** checking whether the namespace can be unloaded cleanly ... OK
* checking Rd files ... OK
* checking Rd metadata ... OK
* checking Rd cross-references ... OK
* checking for missing documentation entries ... OK
* checking for code/documentation mismatches ... OK
* checking Rd \usage sections ... OK
* checking Rd contents ... OK
* checking for unstated dependencies in examples ... OK
* checking contents of 'data' directory ... OK
* checking data for non-ASCII characters ... NOTE
  Note: found 1 marked UTF-8 string
* checking data for ASCII and uncompressed saves ... OK
* checking examples ...
** running examples for arch 'i386' ... OK
** running examples for arch 'x64' ... OK
* checking PDF version of manual ... OK
* DONE

Status: 2 NOTEs
See
  'D:/biocbuild/bbs-3.13-data-experiment/meat/rheumaticConditionWOLLBOLD.Rcheck/00check.log'
for details.



Installation output

rheumaticConditionWOLLBOLD.Rcheck/00install.out

##############################################################################
##############################################################################
###
### Running command:
###
###   C:\cygwin\bin\curl.exe -O http://172.29.0.4/BBS/3.13/data-experiment/src/contrib/rheumaticConditionWOLLBOLD_1.29.0.tar.gz && rm -rf rheumaticConditionWOLLBOLD.buildbin-libdir && mkdir rheumaticConditionWOLLBOLD.buildbin-libdir && D:\biocbuild\bbs-3.13-bioc\R\bin\R.exe CMD INSTALL --merge-multiarch --build --library=rheumaticConditionWOLLBOLD.buildbin-libdir rheumaticConditionWOLLBOLD_1.29.0.tar.gz && D:\biocbuild\bbs-3.13-bioc\R\bin\R.exe CMD INSTALL rheumaticConditionWOLLBOLD_1.29.0.zip && rm rheumaticConditionWOLLBOLD_1.29.0.tar.gz rheumaticConditionWOLLBOLD_1.29.0.zip
###
##############################################################################
##############################################################################


  % Total    % Received % Xferd  Average Speed   Time    Time     Time  Current
                                 Dload  Upload   Total   Spent    Left  Speed

  0     0    0     0    0     0      0      0 --:--:-- --:--:-- --:--:--     0
 44 20.7M   44 9545k    0     0  59.7M      0 --:--:-- --:--:-- --:--:-- 59.3M
100 20.7M  100 20.7M    0     0  64.4M      0 --:--:-- --:--:-- --:--:-- 64.2M

install for i386

* installing *source* package 'rheumaticConditionWOLLBOLD' ...
** using staged installation
** data
** help
*** installing help indices
  converting help for package 'rheumaticConditionWOLLBOLD'
    finding HTML links ... done
    wollbold                                html  
REDIRECT:topic	 wollbold -> wollbold.html [ SUCCESS ]
** building package indices
** testing if installed package can be loaded from temporary location
** testing if installed package can be loaded from final location
** testing if installed package keeps a record of temporary installation path

install for x64

* installing *source* package 'rheumaticConditionWOLLBOLD' ...
** testing if installed package can be loaded
* MD5 sums
packaged installation of 'rheumaticConditionWOLLBOLD' as rheumaticConditionWOLLBOLD_1.29.0.zip
* DONE (rheumaticConditionWOLLBOLD)
* installing to library 'D:/biocbuild/bbs-3.13-bioc/R/library'
package 'rheumaticConditionWOLLBOLD' successfully unpacked and MD5 sums checked

Tests output


Example timings

rheumaticConditionWOLLBOLD.Rcheck/examples_i386/rheumaticConditionWOLLBOLD-Ex.timings

nameusersystemelapsed
wollbold2.190.042.23

rheumaticConditionWOLLBOLD.Rcheck/examples_x64/rheumaticConditionWOLLBOLD-Ex.timings

nameusersystemelapsed
wollbold1.800.031.83