Back to Multiple platform build/check report for BioC 3.13 experimental data
ABCDEFGHIJKLMNOPQ[R]STUVWXYZ

INSTALL report for restfulSEData on riesling1

This page was generated on 2021-01-11 15:59:33 -0500 (Mon, 11 Jan 2021).

TO THE DEVELOPERS/MAINTAINERS OF THE restfulSEData PACKAGE: Please make sure to use the following settings in order to reproduce any error or warning you see on this page.
Package 292/385HostnameOS / ArchINSTALLBUILDCHECK
restfulSEData 1.13.0
Bioconductor Package Maintainer
Snapshot Date: 2021-01-11 09:00:09 -0500 (Mon, 11 Jan 2021)
URL: https://git.bioconductor.org/packages/restfulSEData
Branch: master
Last Commit: aa6ec92
Last Changed Date: 2020-10-27 10:23:17 -0500 (Tue, 27 Oct 2020)
malbec2 Linux (Ubuntu 20.04.1 LTS) / x86_64  OK  OK  OK UNNEEDED, same version exists in internal repository
riesling1 Windows Server 2019 Standard / x64 [ OK ] OK  OK 

Summary

Package: restfulSEData
Version: 1.13.0
Command: C:\cygwin\bin\curl.exe -O http://172.29.0.4/BBS/3.13/data-experiment/src/contrib/restfulSEData_1.13.0.tar.gz && rm -rf restfulSEData.buildbin-libdir && mkdir restfulSEData.buildbin-libdir && D:\biocbuild\bbs-3.13-bioc\R\bin\R.exe CMD INSTALL --merge-multiarch --build --library=restfulSEData.buildbin-libdir restfulSEData_1.13.0.tar.gz && D:\biocbuild\bbs-3.13-bioc\R\bin\R.exe CMD INSTALL restfulSEData_1.13.0.zip && rm restfulSEData_1.13.0.tar.gz restfulSEData_1.13.0.zip
StartedAt: 2021-01-11 10:14:45 -0500 (Mon, 11 Jan 2021)
EndedAt: 2021-01-11 10:15:11 -0500 (Mon, 11 Jan 2021)
EllapsedTime: 25.7 seconds
RetCode: 0
Status:  OK  

Command output

##############################################################################
##############################################################################
###
### Running command:
###
###   C:\cygwin\bin\curl.exe -O http://172.29.0.4/BBS/3.13/data-experiment/src/contrib/restfulSEData_1.13.0.tar.gz && rm -rf restfulSEData.buildbin-libdir && mkdir restfulSEData.buildbin-libdir && D:\biocbuild\bbs-3.13-bioc\R\bin\R.exe CMD INSTALL --merge-multiarch --build --library=restfulSEData.buildbin-libdir restfulSEData_1.13.0.tar.gz && D:\biocbuild\bbs-3.13-bioc\R\bin\R.exe CMD INSTALL restfulSEData_1.13.0.zip && rm restfulSEData_1.13.0.tar.gz restfulSEData_1.13.0.zip
###
##############################################################################
##############################################################################


  % Total    % Received % Xferd  Average Speed   Time    Time     Time  Current
                                 Dload  Upload   Total   Spent    Left  Speed

  0     0    0     0    0     0      0      0 --:--:-- --:--:-- --:--:--     0
100  4811  100  4811    0     0   783k      0 --:--:-- --:--:-- --:--:--  939k

install for i386

* installing *source* package 'restfulSEData' ...
** using staged installation
** R
** inst
** byte-compile and prepare package for lazy loading
** help
*** installing help indices
  converting help for package 'restfulSEData'
    finding HTML links ... done
    dataResource                            html  
REDIRECT:topic	 dataResource -> dataResource.html [ SUCCESS ]
    restfulSEData-package                   html  
REDIRECT:topic	 restfulSEData-package -> restfulSEData-package.html [ SUCCESS ]
REDIRECT:topic	 restfulSEData -> restfulSEData-package.html [ SUCCESS ]
** building package indices
** installing vignettes
** testing if installed package can be loaded from temporary location
** testing if installed package can be loaded from final location
** testing if installed package keeps a record of temporary installation path

install for x64

* installing *source* package 'restfulSEData' ...
** testing if installed package can be loaded
* MD5 sums
packaged installation of 'restfulSEData' as restfulSEData_1.13.0.zip
* DONE (restfulSEData)
* installing to library 'D:/biocbuild/bbs-3.13-bioc/R/library'
package 'restfulSEData' successfully unpacked and MD5 sums checked