Back to Multiple platform build/check report for BioC 3.13 experimental data
ABCDEFGHIJKLMNOPQ[R]STUVWXYZ

CHECK report for restfulSEData on riesling1

This page was generated on 2021-01-14 15:59:11 -0500 (Thu, 14 Jan 2021).

TO THE DEVELOPERS/MAINTAINERS OF THE restfulSEData PACKAGE: Please make sure to use the following settings in order to reproduce any error or warning you see on this page.
Package 292/385HostnameOS / ArchINSTALLBUILDCHECK
restfulSEData 1.13.0
Bioconductor Package Maintainer
Snapshot Date: 2021-01-14 09:00:13 -0500 (Thu, 14 Jan 2021)
URL: https://git.bioconductor.org/packages/restfulSEData
Branch: master
Last Commit: aa6ec92
Last Changed Date: 2020-10-27 10:23:17 -0500 (Tue, 27 Oct 2020)
malbec2 Linux (Ubuntu 20.04.1 LTS) / x86_64  OK  OK  OK UNNEEDED, same version exists in internal repository
riesling1 Windows Server 2019 Standard / x64  OK  OK [ OK ]

Summary

Package: restfulSEData
Version: 1.13.0
Command: D:\biocbuild\bbs-3.13-bioc\R\bin\R.exe CMD check --force-multiarch --install=check:restfulSEData.install-out.txt --library=D:\biocbuild\bbs-3.13-bioc\R\library --no-vignettes --timings restfulSEData_1.13.0.tar.gz
StartedAt: 2021-01-14 11:36:08 -0500 (Thu, 14 Jan 2021)
EndedAt: 2021-01-14 11:39:47 -0500 (Thu, 14 Jan 2021)
EllapsedTime: 219.2 seconds
RetCode: 0
Status:  OK  
CheckDir: restfulSEData.Rcheck
Warnings: 0

Command output

##############################################################################
##############################################################################
###
### Running command:
###
###   D:\biocbuild\bbs-3.13-bioc\R\bin\R.exe CMD check --force-multiarch --install=check:restfulSEData.install-out.txt --library=D:\biocbuild\bbs-3.13-bioc\R\library --no-vignettes --timings restfulSEData_1.13.0.tar.gz
###
##############################################################################
##############################################################################


* using log directory 'D:/biocbuild/bbs-3.13-data-experiment/meat/restfulSEData.Rcheck'
* using R Under development (unstable) (2020-12-30 r79736)
* using platform: x86_64-w64-mingw32 (64-bit)
* using session charset: ISO8859-1
* using option '--no-vignettes'
* checking for file 'restfulSEData/DESCRIPTION' ... OK
* this is package 'restfulSEData' version '1.13.0'
* checking package namespace information ... OK
* checking package dependencies ... OK
* checking if this is a source package ... OK
* checking if there is a namespace ... OK
* checking for hidden files and directories ... OK
* checking for portable file names ... OK
* checking whether package 'restfulSEData' can be installed ... OK
* checking installed package size ... OK
* checking package directory ... OK
* checking 'build' directory ... OK
* checking DESCRIPTION meta-information ... OK
* checking top-level files ... OK
* checking for left-over files ... OK
* checking index information ... OK
* checking package subdirectories ... OK
* checking R files for non-ASCII characters ... OK
* checking R files for syntax errors ... OK
* loading checks for arch 'i386'
** checking whether the package can be loaded ... OK
** checking whether the package can be loaded with stated dependencies ... OK
** checking whether the package can be unloaded cleanly ... OK
** checking whether the namespace can be loaded with stated dependencies ... OK
** checking whether the namespace can be unloaded cleanly ... OK
* loading checks for arch 'x64'
** checking whether the package can be loaded ... OK
** checking whether the package can be loaded with stated dependencies ... OK
** checking whether the package can be unloaded cleanly ... OK
** checking whether the namespace can be loaded with stated dependencies ... OK
** checking whether the namespace can be unloaded cleanly ... OK
* checking dependencies in R code ... OK
* checking S3 generic/method consistency ... OK
* checking replacement functions ... OK
* checking foreign function calls ... OK
* checking R code for possible problems ... OK
* checking Rd files ... OK
* checking Rd metadata ... OK
* checking Rd cross-references ... OK
* checking for missing documentation entries ... OK
* checking for code/documentation mismatches ... OK
* checking Rd \usage sections ... OK
* checking Rd contents ... OK
* checking for unstated dependencies in examples ... OK
* checking files in 'vignettes' ... OK
* checking examples ...
** running examples for arch 'i386' ... OK
Examples with CPU (user + system) or elapsed time > 5s
                      user system elapsed
restfulSEData-package 9.06   0.75   10.57
** running examples for arch 'x64' ... OK
Examples with CPU (user + system) or elapsed time > 5s
                      user system elapsed
restfulSEData-package 8.89   0.84   10.41
* checking for unstated dependencies in vignettes ... OK
* checking package vignettes in 'inst/doc' ... OK
* checking running R code from vignettes ... SKIPPED
* checking re-building of vignette outputs ... SKIPPED
* checking PDF version of manual ... OK
* DONE

Status: OK


Installation output

restfulSEData.Rcheck/00install.out

##############################################################################
##############################################################################
###
### Running command:
###
###   C:\cygwin\bin\curl.exe -O http://172.29.0.4/BBS/3.13/data-experiment/src/contrib/restfulSEData_1.13.0.tar.gz && rm -rf restfulSEData.buildbin-libdir && mkdir restfulSEData.buildbin-libdir && D:\biocbuild\bbs-3.13-bioc\R\bin\R.exe CMD INSTALL --merge-multiarch --build --library=restfulSEData.buildbin-libdir restfulSEData_1.13.0.tar.gz && D:\biocbuild\bbs-3.13-bioc\R\bin\R.exe CMD INSTALL restfulSEData_1.13.0.zip && rm restfulSEData_1.13.0.tar.gz restfulSEData_1.13.0.zip
###
##############################################################################
##############################################################################


  % Total    % Received % Xferd  Average Speed   Time    Time     Time  Current
                                 Dload  Upload   Total   Spent    Left  Speed

  0     0    0     0    0     0      0      0 --:--:-- --:--:-- --:--:--     0
100  4811  100  4811    0     0   361k      0 --:--:-- --:--:-- --:--:--  361k

install for i386

* installing *source* package 'restfulSEData' ...
** using staged installation
** R
** inst
** byte-compile and prepare package for lazy loading
** help
*** installing help indices
  converting help for package 'restfulSEData'
    finding HTML links ... done
    dataResource                            html  
REDIRECT:topic	 dataResource -> dataResource.html [ SUCCESS ]
    restfulSEData-package                   html  
REDIRECT:topic	 restfulSEData-package -> restfulSEData-package.html [ SUCCESS ]
REDIRECT:topic	 restfulSEData -> restfulSEData-package.html [ SUCCESS ]
** building package indices
** installing vignettes
** testing if installed package can be loaded from temporary location
** testing if installed package can be loaded from final location
** testing if installed package keeps a record of temporary installation path

install for x64

* installing *source* package 'restfulSEData' ...
** testing if installed package can be loaded
* MD5 sums
packaged installation of 'restfulSEData' as restfulSEData_1.13.0.zip
* DONE (restfulSEData)
* installing to library 'D:/biocbuild/bbs-3.13-bioc/R/library'
package 'restfulSEData' successfully unpacked and MD5 sums checked

Tests output


Example timings

restfulSEData.Rcheck/examples_i386/restfulSEData-Ex.timings

nameusersystemelapsed
dataResource000
restfulSEData-package 9.06 0.7510.57

restfulSEData.Rcheck/examples_x64/restfulSEData-Ex.timings

nameusersystemelapsed
dataResource000
restfulSEData-package 8.89 0.8410.41