Back to Multiple platform build/check report for BioC 3.13 experimental data
ABCDEFGHIJKLMNOPQ[R]STUVWXYZ

CHECK report for rRDPData on riesling1

This page was generated on 2021-01-18 15:58:50 -0500 (Mon, 18 Jan 2021).

TO THE DEVELOPERS/MAINTAINERS OF THE rRDPData PACKAGE: Please make sure to use the following settings in order to reproduce any error or warning you see on this page.
Package 309/385HostnameOS / ArchINSTALLBUILDCHECK
rRDPData 1.11.0
Michael Hahsler
Snapshot Date: 2021-01-18 09:00:15 -0500 (Mon, 18 Jan 2021)
URL: https://git.bioconductor.org/packages/rRDPData
Branch: master
Last Commit: 94d066b
Last Changed Date: 2020-10-27 10:10:24 -0500 (Tue, 27 Oct 2020)
malbec2 Linux (Ubuntu 20.04.1 LTS) / x86_64  OK  OK  OK UNNEEDED, same version exists in internal repository
riesling1 Windows Server 2019 Standard / x64  OK  OK [ OK ]

Summary

Package: rRDPData
Version: 1.11.0
Command: D:\biocbuild\bbs-3.13-bioc\R\bin\R.exe CMD check --force-multiarch --install=check:rRDPData.install-out.txt --library=D:\biocbuild\bbs-3.13-bioc\R\library --no-vignettes --timings rRDPData_1.11.0.tar.gz
StartedAt: 2021-01-18 11:42:46 -0500 (Mon, 18 Jan 2021)
EndedAt: 2021-01-18 11:43:23 -0500 (Mon, 18 Jan 2021)
EllapsedTime: 36.6 seconds
RetCode: 0
Status:  OK  
CheckDir: rRDPData.Rcheck
Warnings: 0

Command output

##############################################################################
##############################################################################
###
### Running command:
###
###   D:\biocbuild\bbs-3.13-bioc\R\bin\R.exe CMD check --force-multiarch --install=check:rRDPData.install-out.txt --library=D:\biocbuild\bbs-3.13-bioc\R\library --no-vignettes --timings rRDPData_1.11.0.tar.gz
###
##############################################################################
##############################################################################


* using log directory 'D:/biocbuild/bbs-3.13-data-experiment/meat/rRDPData.Rcheck'
* using R Under development (unstable) (2020-12-30 r79736)
* using platform: x86_64-w64-mingw32 (64-bit)
* using session charset: ISO8859-1
* using option '--no-vignettes'
* checking for file 'rRDPData/DESCRIPTION' ... OK
* this is package 'rRDPData' version '1.11.0'
* checking package namespace information ... OK
* checking package dependencies ... OK
* checking if this is a source package ... OK
* checking if there is a namespace ... OK
* checking for hidden files and directories ... OK
* checking for portable file names ... OK
* checking whether package 'rRDPData' can be installed ... OK
* checking installed package size ... NOTE
  installed size is 58.7Mb
  sub-directories of 1Mb or more:
    extdata  58.6Mb
* checking package directory ... OK
* checking DESCRIPTION meta-information ... NOTE
Malformed Description field: should contain one or more complete sentences.
* checking top-level files ... OK
* checking for left-over files ... OK
* checking index information ... OK
* checking package subdirectories ... OK
* loading checks for arch 'i386'
** checking whether the package can be loaded ... OK
** checking whether the package can be loaded with stated dependencies ... OK
** checking whether the package can be unloaded cleanly ... OK
** checking whether the namespace can be loaded with stated dependencies ... OK
** checking whether the namespace can be unloaded cleanly ... OK
* loading checks for arch 'x64'
** checking whether the package can be loaded ... OK
** checking whether the package can be loaded with stated dependencies ... OK
** checking whether the package can be unloaded cleanly ... OK
** checking whether the namespace can be loaded with stated dependencies ... OK
** checking whether the namespace can be unloaded cleanly ... OK
* checking Rd files ... OK
* checking Rd metadata ... OK
* checking Rd cross-references ... OK
* checking for code/documentation mismatches ... OK
* checking Rd \usage sections ... OK
* checking Rd contents ... OK
* checking for unstated dependencies in examples ... OK
* checking examples ...
** running examples for arch 'i386' ... OK
** running examples for arch 'x64' ... OK
* checking PDF version of manual ... OK
* DONE

Status: 2 NOTEs
See
  'D:/biocbuild/bbs-3.13-data-experiment/meat/rRDPData.Rcheck/00check.log'
for details.



Installation output

rRDPData.Rcheck/00install.out

##############################################################################
##############################################################################
###
### Running command:
###
###   C:\cygwin\bin\curl.exe -O http://172.29.0.4/BBS/3.13/data-experiment/src/contrib/rRDPData_1.11.0.tar.gz && rm -rf rRDPData.buildbin-libdir && mkdir rRDPData.buildbin-libdir && D:\biocbuild\bbs-3.13-bioc\R\bin\R.exe CMD INSTALL --merge-multiarch --build --library=rRDPData.buildbin-libdir rRDPData_1.11.0.tar.gz && D:\biocbuild\bbs-3.13-bioc\R\bin\R.exe CMD INSTALL rRDPData_1.11.0.zip && rm rRDPData_1.11.0.tar.gz rRDPData_1.11.0.zip
###
##############################################################################
##############################################################################


  % Total    % Received % Xferd  Average Speed   Time    Time     Time  Current
                                 Dload  Upload   Total   Spent    Left  Speed

  0     0    0     0    0     0      0      0 --:--:-- --:--:-- --:--:--     0
 20 17.3M   20 3731k    0     0  12.7M      0  0:00:01 --:--:--  0:00:01 12.7M
100 17.3M  100 17.3M    0     0  40.4M      0 --:--:-- --:--:-- --:--:-- 40.3M

install for i386

* installing *source* package 'rRDPData' ...
** using staged installation
** inst
** help
*** installing help indices
  converting help for package 'rRDPData'
    finding HTML links ... done
    16S                                     html  
REDIRECT:topic	 16SrRNA -> 16S.html [ SUCCESS ]
REDIRECT:topic	 16S -> 16S.html [ SUCCESS ]
** building package indices
** testing if installed package can be loaded from temporary location
** testing if installed package can be loaded from final location
** testing if installed package keeps a record of temporary installation path

install for x64

* installing *source* package 'rRDPData' ...
** testing if installed package can be loaded
* MD5 sums
packaged installation of 'rRDPData' as rRDPData_1.11.0.zip
* DONE (rRDPData)
* installing to library 'D:/biocbuild/bbs-3.13-bioc/R/library'
package 'rRDPData' successfully unpacked and MD5 sums checked

Tests output


Example timings

rRDPData.Rcheck/examples_i386/rRDPData-Ex.timings

nameusersystemelapsed
16S0.050.022.88

rRDPData.Rcheck/examples_x64/rRDPData-Ex.timings

nameusersystemelapsed
16S0.040.032.72